BEGIN:VCALENDAR
VERSION:2.0
PRODID:-//Springwood Free Will Baptist Church - ECPv6.15.20//NONSGML v1.0//EN
CALSCALE:GREGORIAN
METHOD:PUBLISH
X-WR-CALNAME:Springwood Free Will Baptist Church
X-ORIGINAL-URL:https://sfwbchurch.com
X-WR-CALDESC:Events for Springwood Free Will Baptist Church
REFRESH-INTERVAL;VALUE=DURATION:PT1H
X-Robots-Tag:noindex
X-PUBLISHED-TTL:PT1H
BEGIN:VTIMEZONE
TZID:UTC
BEGIN:STANDARD
TZOFFSETFROM:+0000
TZOFFSETTO:+0000
TZNAME:UTC
DTSTART:20220101T000000
END:STANDARD
END:VTIMEZONE
BEGIN:VEVENT
DTSTART;TZID=UTC:20231213T183000
DTEND;TZID=UTC:20231213T200000
DTSTAMP:20260424T013120
CREATED:20231026T205214Z
LAST-MODIFIED:20231121T194542Z
UID:2145-1702492200-1702497600@sfwbchurch.com
SUMMARY:Wednesday Night Kingdom Seekers
DESCRIPTION:____________ – Kitchen \nJody – Babies-Pre-K \nStephanie – K-5th Grades \nMike – 6th-12th Grades
URL:https://sfwbchurch.com/event/wednesday-night-kingdom-seekers-6/
END:VEVENT
BEGIN:VEVENT
DTSTART;TZID=UTC:20231212T183000
DTEND;TZID=UTC:20231212T203000
DTSTAMP:20260424T013120
CREATED:20231113T220502Z
LAST-MODIFIED:20231113T220502Z
UID:2161-1702405800-1702413000@sfwbchurch.com
SUMMARY:Ladies Christmas Party
DESCRIPTION:Bring a Christmas pick up or dessert to share. \nBring a $15-$20 gift if you want to play the gift exchange game. \nWe will have a devotion\, games etc. \nContact Ann for more information
URL:https://sfwbchurch.com/event/ladies-christmas-party/
END:VEVENT
BEGIN:VEVENT
DTSTART;TZID=UTC:20231210T163000
DTEND;TZID=UTC:20231210T173000
DTSTAMP:20260424T013120
CREATED:20231121T200927Z
LAST-MODIFIED:20231121T200927Z
UID:2193-1702225800-1702229400@sfwbchurch.com
SUMMARY:Adult Choir Practice 4:30pm
DESCRIPTION:
URL:https://sfwbchurch.com/event/adult-choir-practice-430pm/
END:VEVENT
BEGIN:VEVENT
DTSTART;TZID=UTC:20231206T183000
DTEND;TZID=UTC:20231206T200000
DTSTAMP:20260424T013120
CREATED:20231121T195030Z
LAST-MODIFIED:20231121T200626Z
UID:2175-1701887400-1701892800@sfwbchurch.com
SUMMARY:Wednesday Night Worship & Kingdom Seekers
DESCRIPTION:Kitchen – Debbie \nBabies- Pre-K – Joni \nK- 5th Grades – Kelly \n6th-12th Grades – Levi
URL:https://sfwbchurch.com/event/kingdom-seekers/
END:VEVENT
BEGIN:VEVENT
DTSTART;TZID=UTC:20231203T163000
DTEND;TZID=UTC:20231203T173000
DTSTAMP:20260424T013120
CREATED:20231121T200752Z
LAST-MODIFIED:20231121T200752Z
UID:2190-1701621000-1701624600@sfwbchurch.com
SUMMARY:Deacon Advisory Board Meeting & Ladies Auxiliary Meeting 4:30 pm
DESCRIPTION:
URL:https://sfwbchurch.com/event/deacon-advisory-board-meeting-ladies-auxiliary-meeting-430-pm/
END:VEVENT
BEGIN:VEVENT
DTSTART;TZID=UTC:20231201T160000
DTEND;TZID=UTC:20231201T180000
DTSTAMP:20260424T013120
CREATED:20231113T220629Z
LAST-MODIFIED:20231113T220629Z
UID:2164-1701446400-1701453600@sfwbchurch.com
SUMMARY:Decorating the Church - Trees\, Poinsettias\, Garland
DESCRIPTION:Anyone who would like to help is invited to join us. \nContact Kelly for more information.
URL:https://sfwbchurch.com/event/decorating-the-church-trees-poinsettias-garland/
END:VEVENT
BEGIN:VEVENT
DTSTART;TZID=UTC:20231129T183000
DTEND;TZID=UTC:20231129T200000
DTSTAMP:20260424T013120
CREATED:20231026T205110Z
LAST-MODIFIED:20231121T193657Z
UID:2142-1701282600-1701288000@sfwbchurch.com
SUMMARY:Wednesday Night Kingdom Seekers
DESCRIPTION:Kitchen – Lou \nBabies-Pre-K – Jody \nK-5th Grades – Stephanie \n6th-12th Grades – Mike
URL:https://sfwbchurch.com/event/wednesday-night-kingdom-seekers-5/
END:VEVENT
BEGIN:VEVENT
DTSTART;TZID=UTC:20231129T183000
DTEND;TZID=UTC:20231129T200000
DTSTAMP:20260424T013120
CREATED:20231026T204633Z
LAST-MODIFIED:20231026T204633Z
UID:2133-1701282600-1701288000@sfwbchurch.com
SUMMARY:Wednesday Night Prayer Room 6:15pm & Worship at 6:30pm
DESCRIPTION:
URL:https://sfwbchurch.com/event/wednesday-night-prayer-room-615pm-worship-at-630pm-3/
END:VEVENT
BEGIN:VEVENT
DTSTART;TZID=UTC:20231126T160000
DTEND;TZID=UTC:20231126T173000
DTSTAMP:20260424T013120
CREATED:20231018T200908Z
LAST-MODIFIED:20231018T200908Z
UID:2097-1701014400-1701019800@sfwbchurch.com
SUMMARY:Youth Choir Practice
DESCRIPTION:
URL:https://sfwbchurch.com/event/youth-choir-practice-18/
END:VEVENT
BEGIN:VEVENT
DTSTART;VALUE=DATE:20231123
DTEND;VALUE=DATE:20231124
DTSTAMP:20260424T013120
CREATED:20231018T191736Z
LAST-MODIFIED:20231018T191736Z
UID:2062-1700697600-1700783999@sfwbchurch.com
SUMMARY:Fellowship Hall Reserved
DESCRIPTION:
URL:https://sfwbchurch.com/event/fellowship-hall-reserved-10/
END:VEVENT
BEGIN:VEVENT
DTSTART;TZID=UTC:20231122T183000
DTEND;TZID=UTC:20231122T200000
DTSTAMP:20260424T013120
CREATED:20231026T204924Z
LAST-MODIFIED:20231026T204924Z
UID:2138-1700677800-1700683200@sfwbchurch.com
SUMMARY:Wednesday Night Prayer Room 6:15pm & Worship at 6:30pm
DESCRIPTION:
URL:https://sfwbchurch.com/event/wednesday-night-prayer-room-615pm-worship-at-630pm-4/
END:VEVENT
BEGIN:VEVENT
DTSTART;TZID=UTC:20231121T120000
DTEND;TZID=UTC:20231121T130000
DTSTAMP:20260424T013120
CREATED:20231018T194756Z
LAST-MODIFIED:20231018T194756Z
UID:2081-1700568000-1700571600@sfwbchurch.com
SUMMARY:Senior Ladies Lunch Bunch
DESCRIPTION:Ladies we will meet at Olive Garden in Gastonia this month at noon. RSVP to Cindy so we know how large a table we need to ask for when we arrive.
URL:https://sfwbchurch.com/event/senior-ladies-lunch-bunch/
END:VEVENT
BEGIN:VEVENT
DTSTART;TZID=UTC:20231118T110000
DTEND;TZID=UTC:20231118T140000
DTSTAMP:20260424T013120
CREATED:20231018T194632Z
LAST-MODIFIED:20231018T194632Z
UID:2078-1700305200-1700316000@sfwbchurch.com
SUMMARY:Homeless Ministry
DESCRIPTION:Contact Doris for more information.
URL:https://sfwbchurch.com/event/homeless-ministry-17/
END:VEVENT
BEGIN:VEVENT
DTSTART;VALUE=DATE:20231118
DTEND;VALUE=DATE:20231119
DTSTAMP:20260424T013120
CREATED:20231018T191801Z
LAST-MODIFIED:20231018T191801Z
UID:2065-1700265600-1700351999@sfwbchurch.com
SUMMARY:Fellowship Hall Reserved
DESCRIPTION:
URL:https://sfwbchurch.com/event/fellowship-hall-reserved-11/
END:VEVENT
BEGIN:VEVENT
DTSTART;TZID=UTC:20231117T180000
DTEND;TZID=UTC:20231117T210000
DTSTAMP:20260424T013120
CREATED:20231018T194244Z
LAST-MODIFIED:20231018T194244Z
UID:2074-1700244000-1700254800@sfwbchurch.com
SUMMARY:Ladies Paint Party
DESCRIPTION:Bring a pick up\, dessert\, or snack to share. Must choose and pay for your project no later than November 3rd. Contact Beth for more information.
URL:https://sfwbchurch.com/event/ladies-paint-party/
END:VEVENT
BEGIN:VEVENT
DTSTART;TZID=UTC:20231115T183000
DTEND;TZID=UTC:20231115T200000
DTSTAMP:20260424T013120
CREATED:20231106T201426Z
LAST-MODIFIED:20231106T201426Z
UID:2155-1700073000-1700078400@sfwbchurch.com
SUMMARY:Wednesday Night Kingdom Seekers
DESCRIPTION:Kitchen – Doris \nBabies – Pre-K – Caroline \nK-5th Grade – Elizabeth \n6th-12th grades – Levi
URL:https://sfwbchurch.com/event/wednesday-night-kingdom-seekers-9/
END:VEVENT
BEGIN:VEVENT
DTSTART;TZID=UTC:20231115T183000
DTEND;TZID=UTC:20231115T200000
DTSTAMP:20260424T013120
CREATED:20231026T204603Z
LAST-MODIFIED:20231026T204742Z
UID:2130-1700073000-1700078400@sfwbchurch.com
SUMMARY:Wednesday Night Prayer Room 6:15pm & Worship at 6:30pm
DESCRIPTION:
URL:https://sfwbchurch.com/event/wednesday-night-prayer-room-615pm-worship-at-630pm-2/
END:VEVENT
BEGIN:VEVENT
DTSTART;TZID=UTC:20231112T160000
DTEND;TZID=UTC:20231112T173000
DTSTAMP:20260424T013120
CREATED:20231018T191913Z
LAST-MODIFIED:20231018T194318Z
UID:2071-1699804800-1699810200@sfwbchurch.com
SUMMARY:Adult Choir Practice
DESCRIPTION:
URL:https://sfwbchurch.com/event/adult-choir-practice-10/
END:VEVENT
BEGIN:VEVENT
DTSTART;VALUE=DATE:20231111
DTEND;VALUE=DATE:20231112
DTSTAMP:20260424T013120
CREATED:20231018T191636Z
LAST-MODIFIED:20231018T191636Z
UID:2056-1699660800-1699747199@sfwbchurch.com
SUMMARY:Fellowship Hall Reserved
DESCRIPTION:
URL:https://sfwbchurch.com/event/fellowship-hall-reserved-9/
END:VEVENT
BEGIN:VEVENT
DTSTART;TZID=UTC:20231108T183000
DTEND;TZID=UTC:20231108T200000
DTSTAMP:20260424T013120
CREATED:20231026T204534Z
LAST-MODIFIED:20231026T204820Z
UID:2127-1699468200-1699473600@sfwbchurch.com
SUMMARY:Wednesday Night Prayer Room 6:15pm & Worship at 6:30pm
DESCRIPTION:
URL:https://sfwbchurch.com/event/wednesday-night-prayer-room-615pm-worship-at-630pm/
END:VEVENT
BEGIN:VEVENT
DTSTART;TZID=UTC:20231106T183000
DTEND;TZID=UTC:20231108T200000
DTSTAMP:20260424T013120
CREATED:20231018T175527Z
LAST-MODIFIED:20231018T175538Z
UID:2047-1699295400-1699473600@sfwbchurch.com
SUMMARY:Fall Revival with Rev. Chris Rumsfelt
DESCRIPTION:Sunday at 6pm \nMonday-Wednesday 6:30pm
URL:https://sfwbchurch.com/event/fall-revival-with-chris-rumsfelt/
END:VEVENT
BEGIN:VEVENT
DTSTART;TZID=UTC:20231105T180000
DTEND;TZID=UTC:20231105T193000
DTSTAMP:20260424T013120
CREATED:20231018T175425Z
LAST-MODIFIED:20231018T175425Z
UID:2044-1699207200-1699212600@sfwbchurch.com
SUMMARY:Fall Revival with Rev. Chris Rumsfelt
DESCRIPTION:Sunday night at 6pm \nMonday-Wednesday night at 6:30pm
URL:https://sfwbchurch.com/event/fall-revival-with-rev-chris-rumsfelt/
END:VEVENT
BEGIN:VEVENT
DTSTART;TZID=UTC:20231105T160000
DTEND;TZID=UTC:20231105T173000
DTSTAMP:20260424T013120
CREATED:20231018T174334Z
LAST-MODIFIED:20231018T174915Z
UID:2029-1699200000-1699205400@sfwbchurch.com
SUMMARY:4:00 pm Deacon/Advisory Board Meeting & Ladies Auxiliary
DESCRIPTION:
URL:https://sfwbchurch.com/event/400-pm-deacon-advisory-board-meeting-ladies-auxiliary/
END:VEVENT
BEGIN:VEVENT
DTSTART;TZID=UTC:20231104T100000
DTEND;TZID=UTC:20231104T170000
DTSTAMP:20260424T013120
CREATED:20231018T175021Z
LAST-MODIFIED:20231018T175021Z
UID:2038-1699092000-1699117200@sfwbchurch.com
SUMMARY:9am Holly Myer's Girls Event
DESCRIPTION:Contact Caroline for more information. You must be registered to attend this event.
URL:https://sfwbchurch.com/event/9am-holly-myers-girls-event/
END:VEVENT
BEGIN:VEVENT
DTSTART;TZID=UTC:20231104T093000
DTEND;TZID=UTC:20231104T120000
DTSTAMP:20260424T013120
CREATED:20231018T174848Z
LAST-MODIFIED:20231018T174848Z
UID:2034-1699090200-1699099200@sfwbchurch.com
SUMMARY:9:45am Foothills Association Meeting @ Redeemed FWB
DESCRIPTION:We will leave the church at 8:15am. Please let preacher know if you are planning on attending.
URL:https://sfwbchurch.com/event/945am-foothills-association-meeting-redeemed-fwb/
END:VEVENT
BEGIN:VEVENT
DTSTART;VALUE=DATE:20231104
DTEND;VALUE=DATE:20231105
DTSTAMP:20260424T013120
CREATED:20231018T175113Z
LAST-MODIFIED:20231018T175113Z
UID:2041-1699056000-1699142399@sfwbchurch.com
SUMMARY:Fellowship Hall Reserved
DESCRIPTION:
URL:https://sfwbchurch.com/event/fellowship-hall-reserved-8/
END:VEVENT
BEGIN:VEVENT
DTSTART;TZID=UTC:20231101T183000
DTEND;TZID=UTC:20231101T200000
DTSTAMP:20260424T013120
CREATED:20231026T203701Z
LAST-MODIFIED:20231026T203701Z
UID:2124-1698863400-1698868800@sfwbchurch.com
SUMMARY:Wednesday Night Prayer Room 6:15pm & Worship Service at 6:30pm
DESCRIPTION:
URL:https://sfwbchurch.com/event/wednesday-night-prayer-room-615pm-worship-service-at-630pm/
END:VEVENT
BEGIN:VEVENT
DTSTART;TZID=UTC:20231101T183000
DTEND;TZID=UTC:20231101T200000
DTSTAMP:20260424T013120
CREATED:20231026T201158Z
LAST-MODIFIED:20231026T201601Z
UID:2105-1698863400-1698868800@sfwbchurch.com
SUMMARY:Wednesday Night Kingdom Seekers
DESCRIPTION:Debbie – Kitchen \nJoni – Babies-Pre-K \nKelly – K-5th Grades \nLevi – 6th-12th Grades
URL:https://sfwbchurch.com/event/wednesday-night-kingdom-seekers/
END:VEVENT
BEGIN:VEVENT
DTSTART;VALUE=DATE:20231029
DTEND;VALUE=DATE:20231030
DTSTAMP:20260424T013120
CREATED:20230809T002537Z
LAST-MODIFIED:20230809T002537Z
UID:2025-1698537600-1698623999@sfwbchurch.com
SUMMARY:Nursery Schedule
DESCRIPTION:AM-Kelly T. \nPM- Kelly T.
URL:https://sfwbchurch.com/event/nursery-schedule-68/
END:VEVENT
BEGIN:VEVENT
DTSTART;VALUE=DATE:20231029
DTEND;VALUE=DATE:20231030
DTSTAMP:20260424T013120
CREATED:20230809T002459Z
LAST-MODIFIED:20230809T002459Z
UID:2022-1698537600-1698623999@sfwbchurch.com
SUMMARY:Youth Sunday
DESCRIPTION:
URL:https://sfwbchurch.com/event/youth-sunday-9/
END:VEVENT
END:VCALENDAR