BEGIN:VCALENDAR
VERSION:2.0
PRODID:-//Springwood Free Will Baptist Church - ECPv6.15.20//NONSGML v1.0//EN
CALSCALE:GREGORIAN
METHOD:PUBLISH
X-WR-CALNAME:Springwood Free Will Baptist Church
X-ORIGINAL-URL:https://sfwbchurch.com
X-WR-CALDESC:Events for Springwood Free Will Baptist Church
REFRESH-INTERVAL;VALUE=DURATION:PT1H
X-Robots-Tag:noindex
X-PUBLISHED-TTL:PT1H
BEGIN:VTIMEZONE
TZID:UTC
BEGIN:STANDARD
TZOFFSETFROM:+0000
TZOFFSETTO:+0000
TZNAME:UTC
DTSTART:20160101T000000
END:STANDARD
END:VTIMEZONE
BEGIN:VEVENT
DTSTART;TZID=UTC:20180401T070000
DTEND;TZID=UTC:20180401T080000
DTSTAMP:20260425T205438
CREATED:20180120T195253Z
LAST-MODIFIED:20180120T195253Z
UID:329-1522566000-1522569600@sfwbchurch.com
SUMMARY:Sunrise Service Easter Sunday
DESCRIPTION:Join us for a special Sunrise Service on Easter Sunday at Springwood FWB.
URL:https://sfwbchurch.com/event/sunrise-service-easter-sunday/
LOCATION:SFWB Church\, 826 Stanley Spencer Mountain Rd\, Gastonia\, NC\, 28056\, United States
END:VEVENT
BEGIN:VEVENT
DTSTART;TZID=UTC:20180331T080000
DTEND;TZID=UTC:20180331T170000
DTSTAMP:20260425T205438
CREATED:20180120T195147Z
LAST-MODIFIED:20180120T195147Z
UID:326-1522483200-1522515600@sfwbchurch.com
SUMMARY:Easter Celebration
DESCRIPTION:More details to come.
URL:https://sfwbchurch.com/event/easter-celebration/
END:VEVENT
BEGIN:VEVENT
DTSTART;TZID=UTC:20180318T180000
DTEND;TZID=UTC:20180318T200000
DTSTAMP:20260425T205438
CREATED:20180211T153537Z
LAST-MODIFIED:20180211T153537Z
UID:392-1521396000-1521403200@sfwbchurch.com
SUMMARY:Jordan Family Band
DESCRIPTION:The Jordan Family Band will be joining our evening services on March 18th.
URL:https://sfwbchurch.com/event/jordan-family-band/
LOCATION:SFWB Church\, 826 Stanley Spencer Mountain Rd\, Gastonia\, NC\, 28056\, United States
END:VEVENT
BEGIN:VEVENT
DTSTART;TZID=UTC:20180317T180000
DTEND;TZID=UTC:20180317T193000
DTSTAMP:20260425T205438
CREATED:20180311T142325Z
LAST-MODIFIED:20180311T142347Z
UID:421-1521309600-1521315000@sfwbchurch.com
SUMMARY:Springwood Saturday Night Singing
DESCRIPTION:Please join us Saturday\, March 17th at 6:00 pm\, the singing group God’s Choice will be here.
URL:https://sfwbchurch.com/event/springwood-saturday-night-singing/
LOCATION:SFWB Church\, 826 Stanley Spencer Mountain Rd\, Gastonia\, NC\, 28056\, United States
END:VEVENT
BEGIN:VEVENT
DTSTART;TZID=UTC:20180311T180000
DTEND;TZID=UTC:20180311T193000
DTSTAMP:20260425T205438
CREATED:20180311T142624Z
LAST-MODIFIED:20180311T142624Z
UID:425-1520791200-1520796600@sfwbchurch.com
SUMMARY:Springwood Saturday Night Singing
DESCRIPTION:Please join us April 21st at 6 pm\, as we welcome the gospel group\, 2nd Chance.
URL:https://sfwbchurch.com/event/springwood-saturday-night-singing-2/
LOCATION:SFWB Church\, 826 Stanley Spencer Mountain Rd\, Gastonia\, NC\, 28056\, United States
END:VEVENT
BEGIN:VEVENT
DTSTART;TZID=UTC:20180310T100000
DTEND;TZID=UTC:20180310T130000
DTSTAMP:20260425T205438
CREATED:20180120T195013Z
LAST-MODIFIED:20180120T195013Z
UID:320-1520676000-1520686800@sfwbchurch.com
SUMMARY:District Ladies Auxiliary Meeting
DESCRIPTION:Join us at Springwood FWB for the District Ladies Auxiliary Meeting.
URL:https://sfwbchurch.com/event/district-ladies-auxiliary-meeting/
LOCATION:SFWB Church\, 826 Stanley Spencer Mountain Rd\, Gastonia\, NC\, 28056\, United States
END:VEVENT
BEGIN:VEVENT
DTSTART;TZID=UTC:20180304T110000
DTEND;TZID=UTC:20180304T123000
DTSTAMP:20260425T205438
CREATED:20180211T153335Z
LAST-MODIFIED:20180211T153335Z
UID:389-1520161200-1520166600@sfwbchurch.com
SUMMARY:Cable Family Cuban Missionary
DESCRIPTION:Please join us Sunday\, March 4th as we welcome Dale Cable\, Cuban Missionary. Dale will join us at our morning service.
URL:https://sfwbchurch.com/event/cable-family-cuban-missionary/
LOCATION:SFWB Church\, 826 Stanley Spencer Mountain Rd\, Gastonia\, NC\, 28056\, United States
END:VEVENT
BEGIN:VEVENT
DTSTART;VALUE=DATE:20180303
DTEND;VALUE=DATE:20180304
DTSTAMP:20260425T205438
CREATED:20180120T194738Z
LAST-MODIFIED:20180120T194738Z
UID:317-1520035200-1520121599@sfwbchurch.com
SUMMARY:Fellowship Hall Reserved
DESCRIPTION:
URL:https://sfwbchurch.com/event/fellowship-hall-reserved/
END:VEVENT
BEGIN:VEVENT
DTSTART;TZID=UTC:20180217T080000
DTEND;TZID=UTC:20180217T120000
DTSTAMP:20260425T205438
CREATED:20180120T194709Z
LAST-MODIFIED:20180120T194709Z
UID:314-1518854400-1518868800@sfwbchurch.com
SUMMARY:Church Work-Day
DESCRIPTION:Come out and help!
URL:https://sfwbchurch.com/event/church-work-day/
LOCATION:SFWB Church\, 826 Stanley Spencer Mountain Rd\, Gastonia\, NC\, 28056\, United States
END:VEVENT
BEGIN:VEVENT
DTSTART;TZID=UTC:20180216T170000
DTEND;TZID=UTC:20180216T223000
DTSTAMP:20260425T205438
CREATED:20180120T194442Z
LAST-MODIFIED:20180120T194442Z
UID:308-1518800400-1518820200@sfwbchurch.com
SUMMARY:Parents Night Out!
DESCRIPTION:Drop off the kids and enjoy an evening out with your sweetie while your kid eats pizza\, plays games\, and watches a movie! \nAges: 2-12 \nCOST: \n1 Kid = $10 \n2 Kids = $18 \n3 Kids = $24 \n4+ =$7 per child \nRSVP to Jake Waters (704) 751-6614 \nAll proceeds support Springwood Youth Program
URL:https://sfwbchurch.com/event/parents-night-out/
LOCATION:SFWB Church\, 826 Stanley Spencer Mountain Rd\, Gastonia\, NC\, 28056\, United States
END:VEVENT
BEGIN:VEVENT
DTSTART;TZID=UTC:20180210T080000
DTEND;TZID=UTC:20180210T170000
DTSTAMP:20260425T205438
CREATED:20180120T194550Z
LAST-MODIFIED:20180120T194550Z
UID:311-1518249600-1518282000@sfwbchurch.com
SUMMARY:Association Meeting
DESCRIPTION:Time – Location TBD
URL:https://sfwbchurch.com/event/association-meeting/
END:VEVENT
BEGIN:VEVENT
DTSTART;TZID=UTC:20180204T180000
DTEND;TZID=UTC:20180204T193000
DTSTAMP:20260425T205438
CREATED:20180120T201132Z
LAST-MODIFIED:20180120T201132Z
UID:359-1517767200-1517772600@sfwbchurch.com
SUMMARY:Sunday Night Singing
DESCRIPTION:Please join us for a special Sunday night service with special guest the 11th Hour
URL:https://sfwbchurch.com/event/sunday-night-singing/
END:VEVENT
BEGIN:VEVENT
DTSTART;TZID=UTC:20180203T160000
DTEND;TZID=UTC:20180203T200000
DTSTAMP:20260425T205438
CREATED:20180120T193845Z
LAST-MODIFIED:20180120T193845Z
UID:302-1517673600-1517688000@sfwbchurch.com
SUMMARY:Youth Tubing Trip
DESCRIPTION:Crowder’s Ridge CHUTES Saturday\, February 3rd. \nSnow tubing with NO SNOW! \nMeet at the church at 4pm for dinner\, tubing at 6pm. Return to the church at 8pm. \n7 years and younger must have a chaperone. Adults cost $15.00 \nThis trip is prepaid\, if you sign up and decide not to go\, you will be responsible for payment. \nPlease sign up on the church bulletin board. \n 
URL:https://sfwbchurch.com/event/youth-tubing-trip/
END:VEVENT
BEGIN:VEVENT
DTSTART;TZID=UTC:20180203T100000
DTEND;TZID=UTC:20180203T120000
DTSTAMP:20260425T205438
CREATED:20180120T193339Z
LAST-MODIFIED:20180120T193339Z
UID:297-1517652000-1517659200@sfwbchurch.com
SUMMARY:Ladies Prayer Breakfast
DESCRIPTION:Ladies prayer breakfast at Mt. Holly Church of God\, attending in memory of Penny Kennedy
URL:https://sfwbchurch.com/event/ladies-prayer-breakfast/
END:VEVENT
BEGIN:VEVENT
DTSTART;TZID=UTC:20180120T153000
DTEND;TZID=UTC:20180120T153000
DTSTAMP:20260425T205438
CREATED:20171203T214538Z
LAST-MODIFIED:20171203T214538Z
UID:240-1516462200-1516462200@sfwbchurch.com
SUMMARY:Foothills District Youth Meeting
DESCRIPTION:Springwood will host the Foothills District Youth Meeting. A meal will be provided for everyone at 3:30 PM and the service will begin at 5:00 PM.
URL:https://sfwbchurch.com/event/foothills-district-youth-meeting/
LOCATION:SFWB Church\, 826 Stanley Spencer Mountain Rd\, Gastonia\, NC\, 28056\, United States
END:VEVENT
BEGIN:VEVENT
DTSTART;TZID=UTC:20180113T080000
DTEND;TZID=UTC:20180113T170000
DTSTAMP:20260425T205438
CREATED:20171203T214413Z
LAST-MODIFIED:20171203T214413Z
UID:237-1515830400-1515862800@sfwbchurch.com
SUMMARY:Foothills District Ladies Auxiliary Meeting
DESCRIPTION:Springwood ladies will be traveling to Robertson Creek FWB Church for our Foothills District Ladies Auxiliary Meeting.
URL:https://sfwbchurch.com/event/foothills-district-ladies-auxiliary-meeting/
END:VEVENT
BEGIN:VEVENT
DTSTART;TZID=UTC:20171231T200000
DTEND;TZID=UTC:20171231T200000
DTSTAMP:20260425T205438
CREATED:20171128T152225Z
LAST-MODIFIED:20171128T152225Z
UID:185-1514750400-1514750400@sfwbchurch.com
SUMMARY:Watch Night Service
DESCRIPTION:Join us for our watch night service. We will pray in the new year! Bring your favorite hors d’oeuvre\, or side dish to share. \nFood & fellowship will begin at 8:00pm \nWatch-night service will begin at 9:15pm. \n 
URL:https://sfwbchurch.com/event/watch-night-service/
LOCATION:SFWB Church\, 826 Stanley Spencer Mountain Rd\, Gastonia\, NC\, 28056\, United States
END:VEVENT
BEGIN:VEVENT
DTSTART;TZID=UTC:20171227T190000
DTEND;TZID=UTC:20171227T190000
DTSTAMP:20260425T205438
CREATED:20171203T213936Z
LAST-MODIFIED:20171203T214008Z
UID:228-1514401200-1514401200@sfwbchurch.com
SUMMARY:7 PM Worship Service
DESCRIPTION:6:45 PM Prayer Room \n7 PM Worship Service & Youth Bible Study
URL:https://sfwbchurch.com/event/worship-service-4/
LOCATION:SFWB Church\, 826 Stanley Spencer Mountain Rd\, Gastonia\, NC\, 28056\, United States
END:VEVENT
BEGIN:VEVENT
DTSTART;TZID=UTC:20171224T160000
DTEND;TZID=UTC:20171224T160000
DTSTAMP:20260425T205438
CREATED:20171128T152716Z
LAST-MODIFIED:20171128T204252Z
UID:191-1514131200-1514131200@sfwbchurch.com
SUMMARY:Christmas Eve evening worship service
DESCRIPTION:Please note the time change for our evening worship service on Christmas Eve. We will meet at 4:00pm instead of 6:00pm.
URL:https://sfwbchurch.com/event/christmas-eve-evening-worship-service/
END:VEVENT
BEGIN:VEVENT
DTSTART;TZID=UTC:20171220T190000
DTEND;TZID=UTC:20171220T190000
DTSTAMP:20260425T205438
CREATED:20171203T213844Z
LAST-MODIFIED:20171203T214050Z
UID:225-1513796400-1513796400@sfwbchurch.com
SUMMARY:7 PM Worship Service
DESCRIPTION:6:45 Prayer Room \n7 PM Worship Service & Youth Bible Study
URL:https://sfwbchurch.com/event/worship-service-3/
LOCATION:SFWB Church\, 826 Stanley Spencer Mountain Rd\, Gastonia\, NC\, 28056\, United States
END:VEVENT
BEGIN:VEVENT
DTSTART;VALUE=DATE:20171217
DTEND;VALUE=DATE:20171218
DTSTAMP:20260425T205438
CREATED:20171128T152430Z
LAST-MODIFIED:20171128T153544Z
UID:188-1513468800-1513555199@sfwbchurch.com
SUMMARY:Christmas Project Donations due
DESCRIPTION:All donations for the 2017 Christmas project must be received by this date. See Kelly Trantham for more details.
URL:https://sfwbchurch.com/event/christmas-project-donations-due/
LOCATION:SFWB Church\, 826 Stanley Spencer Mountain Rd\, Gastonia\, NC\, 28056\, United States
END:VEVENT
BEGIN:VEVENT
DTSTART;TZID=UTC:20171213T190000
DTEND;TZID=UTC:20171213T190000
DTSTAMP:20260425T205438
CREATED:20171203T213746Z
LAST-MODIFIED:20171203T214112Z
UID:221-1513191600-1513191600@sfwbchurch.com
SUMMARY:7 PM Worship Service
DESCRIPTION:6:45 PM Prayer Room \n7 PM Worship Service & Youth Bible Study
URL:https://sfwbchurch.com/event/worship-service-2/
LOCATION:SFWB Church\, 826 Stanley Spencer Mountain Rd\, Gastonia\, NC\, 28056\, United States
END:VEVENT
BEGIN:VEVENT
DTSTART;TZID=UTC:20171209T160000
DTEND;TZID=UTC:20171209T180000
DTSTAMP:20260425T205438
CREATED:20171128T151800Z
LAST-MODIFIED:20171128T151800Z
UID:181-1512835200-1512842400@sfwbchurch.com
SUMMARY:Springwood FWB Church-wide Christmas Party
DESCRIPTION:Church-wide Christmas Party at 4:00pm. Bring your favorite holiday food\, enough to share and a holiday dessert. Bring a $10 gift if you would like to participate in the gift exchange game.
URL:https://sfwbchurch.com/event/springwood-fwb-church-wide-christmas-party/
LOCATION:SFWB Church\, 826 Stanley Spencer Mountain Rd\, Gastonia\, NC\, 28056\, United States
END:VEVENT
BEGIN:VEVENT
DTSTART;TZID=UTC:20171204T183000
DTEND;TZID=UTC:20171204T183000
DTSTAMP:20260425T205438
CREATED:20171128T153236Z
LAST-MODIFIED:20171128T153236Z
UID:194-1512412200-1512412200@sfwbchurch.com
SUMMARY:Cottage Prayer Meeting
DESCRIPTION:Please join us at Brookdale Assisted Living for our monthly cottage prayer meeting.
URL:https://sfwbchurch.com/event/cottage-prayer-meeting/
LOCATION:brookdale\, 1750 Robinwood Road\, Gastonia\, NC\, 28054
END:VEVENT
BEGIN:VEVENT
DTSTART;TZID=UTC:20171203T190000
DTEND;TZID=UTC:20171203T190000
DTSTAMP:20260425T205438
CREATED:20171203T213653Z
LAST-MODIFIED:20171203T213653Z
UID:218-1512327600-1512327600@sfwbchurch.com
SUMMARY:Worship Service
DESCRIPTION:6:45 Prayer Room \n7 PM Worship Service  & Youth Bible Study
URL:https://sfwbchurch.com/event/worship-service/
LOCATION:SFWB Church\, 826 Stanley Spencer Mountain Rd\, Gastonia\, NC\, 28056\, United States
END:VEVENT
END:VCALENDAR