BEGIN:VCALENDAR
VERSION:2.0
PRODID:-//Springwood Free Will Baptist Church - ECPv6.15.20//NONSGML v1.0//EN
CALSCALE:GREGORIAN
METHOD:PUBLISH
X-ORIGINAL-URL:https://sfwbchurch.com
X-WR-CALDESC:Events for Springwood Free Will Baptist Church
REFRESH-INTERVAL;VALUE=DURATION:PT1H
X-Robots-Tag:noindex
X-PUBLISHED-TTL:PT1H
BEGIN:VTIMEZONE
TZID:UTC
BEGIN:STANDARD
TZOFFSETFROM:+0000
TZOFFSETTO:+0000
TZNAME:UTC
DTSTART:20170101T000000
END:STANDARD
END:VTIMEZONE
BEGIN:VEVENT
DTSTART;TZID=UTC:20191005T090000
DTEND;TZID=UTC:20191005T130000
DTSTAMP:20260425T182521
CREATED:20191003T153327Z
LAST-MODIFIED:20191003T153327Z
UID:696-1570266000-1570280400@sfwbchurch.com
SUMMARY:Youth: Shelby Corn Maze
DESCRIPTION:The Youth will be going to the Shelby Corn Maze. We will leave the church at 9am and return in the early afternoon. Youth 10 and under must have an adult chaperone. Cost for adults is $10.00.
URL:https://sfwbchurch.com/event/youth-shelby-corn-maze/
END:VEVENT
BEGIN:VEVENT
DTSTART;TZID=UTC:20190805T183000
DTEND;TZID=UTC:20190809T200000
DTSTAMP:20260425T182521
CREATED:20190512T145442Z
LAST-MODIFIED:20190512T145442Z
UID:645-1565029800-1565380800@sfwbchurch.com
SUMMARY:Vacation Bible School
DESCRIPTION:
URL:https://sfwbchurch.com/event/vacation-bible-school/
END:VEVENT
BEGIN:VEVENT
DTSTART;VALUE=DATE:20190630
DTEND;VALUE=DATE:20190701
DTSTAMP:20260425T182521
CREATED:20190614T141419Z
LAST-MODIFIED:20190614T141419Z
UID:667-1561852800-1561939199@sfwbchurch.com
SUMMARY:Youth Sunday
DESCRIPTION:The 5th Sunday of each month the youth take over the service for Youth Sunday. \nDon’t miss our youth teaching Sunday School\, leading in worship\, being ushers and greeters and much more!
URL:https://sfwbchurch.com/event/youth-sunday/
END:VEVENT
BEGIN:VEVENT
DTSTART;TZID=UTC:20190624T080000
DTEND;TZID=UTC:20190628T170000
DTSTAMP:20260425T182521
CREATED:20190512T145357Z
LAST-MODIFIED:20190512T145357Z
UID:642-1561363200-1561741200@sfwbchurch.com
SUMMARY:Youth Camp
DESCRIPTION:Our youth will leave for youth camp on Monday\, June 24th.
URL:https://sfwbchurch.com/event/youth-camp/
END:VEVENT
BEGIN:VEVENT
DTSTART;TZID=UTC:20190622T090000
DTEND;TZID=UTC:20190622T140000
DTSTAMP:20260425T182521
CREATED:20190512T145151Z
LAST-MODIFIED:20190614T141844Z
UID:636-1561194000-1561212000@sfwbchurch.com
SUMMARY:Springwood FWB Annual Car Show
DESCRIPTION:Join us on Saturday\, June 22nd at 9am for our Annual Car Show under the shade of our pecan grove. \n  \n 
URL:https://sfwbchurch.com/event/springwood-fwb-annual-car-show/
END:VEVENT
BEGIN:VEVENT
DTSTART;TZID=UTC:20190617T180000
DTEND;TZID=UTC:20190617T210000
DTSTAMP:20260425T182521
CREATED:20190614T140807Z
LAST-MODIFIED:20190614T140807Z
UID:655-1560794400-1560805200@sfwbchurch.com
SUMMARY:Youth Choir Singing
DESCRIPTION:Our Youth Choir will be singing at New Faith Baptist Church.\nMeet at the church at 6:15pm.\nService starts at 7pm.\nChurch is located at 110 Reese Street Belmont\, NC.\n 
URL:https://sfwbchurch.com/event/youth-choir-singing/
END:VEVENT
BEGIN:VEVENT
DTSTART;TZID=UTC:20190615T170000
DTEND;TZID=UTC:20190615T210000
DTSTAMP:20260425T182521
CREATED:20190614T135304Z
LAST-MODIFIED:20190614T135326Z
UID:649-1560618000-1560632400@sfwbchurch.com
SUMMARY:Youth: School's Out Pool Party
DESCRIPTION:5pm Meet at the church for Taco Bar Dinner \n6pm Travel to the Stanley Pool \n9pm Return to the church for Parent Pick Up
URL:https://sfwbchurch.com/event/youth-schools-out-pool-party/
END:VEVENT
BEGIN:VEVENT
DTSTART;TZID=UTC:20190601T100000
DTEND;TZID=UTC:20190601T170000
DTSTAMP:20260425T182521
CREATED:20190512T145253Z
LAST-MODIFIED:20190512T145253Z
UID:639-1559383200-1559408400@sfwbchurch.com
SUMMARY:District Ladies Auxiliary Meeting
DESCRIPTION:Springwood FWB will be hosting the June meeting. Will begin at 10am in the fellowship hall
URL:https://sfwbchurch.com/event/district-ladies-auxiliary-meeting-3/
END:VEVENT
BEGIN:VEVENT
DTSTART;TZID=UTC:20190518T093000
DTEND;TZID=UTC:20190518T170000
DTSTAMP:20260425T182521
CREATED:20190512T145057Z
LAST-MODIFIED:20190512T145057Z
UID:633-1558171800-1558198800@sfwbchurch.com
SUMMARY:Youth Trip Lazy 5 Ranch
DESCRIPTION:Saturday\, May 18th \nLeaving the church by 9:30am \nThis trip is especially for our youth through the 5th grade. All children must be accompanied by an adult. \nAdults tickets are $10.00 \nFeed buckets are available for $3.00 \nLunch will be provided.
URL:https://sfwbchurch.com/event/youth-trip-lazy-5-ranch/
END:VEVENT
BEGIN:VEVENT
DTSTART;TZID=UTC:20181020T180000
DTEND;TZID=UTC:20181020T193000
DTSTAMP:20260425T182521
CREATED:20180311T143913Z
LAST-MODIFIED:20180311T143913Z
UID:440-1540058400-1540063800@sfwbchurch.com
SUMMARY:Springwood Saturday Night Singing
DESCRIPTION:Please join us at 6pm as we welcome the group The Path Finders.
URL:https://sfwbchurch.com/event/springwood-saturday-night-singing-6/
LOCATION:SFWB Church\, 826 Stanley Spencer Mountain Rd\, Gastonia\, NC\, 28056\, United States
END:VEVENT
BEGIN:VEVENT
DTSTART;TZID=UTC:20180915T180000
DTEND;TZID=UTC:20180915T193000
DTSTAMP:20260425T182521
CREATED:20180813T123153Z
LAST-MODIFIED:20180813T123153Z
UID:530-1537034400-1537039800@sfwbchurch.com
SUMMARY:Saturday Night Singing
DESCRIPTION:Please join us for our monthly Saturday night signing! Our September singers is the group Nail Scarred. Services begin at 6pm. A love offering will be received. Contact Robert Darby for more information.
URL:https://sfwbchurch.com/event/saturday-night-singing-2/
LOCATION:SFWB Church\, 826 Stanley Spencer Mountain Rd\, Gastonia\, NC\, 28056\, United States
END:VEVENT
BEGIN:VEVENT
DTSTART;TZID=UTC:20180915T180000
DTEND;TZID=UTC:20180915T193000
DTSTAMP:20260425T182521
CREATED:20180311T143817Z
LAST-MODIFIED:20180311T143817Z
UID:437-1537034400-1537039800@sfwbchurch.com
SUMMARY:Springwood Saturday Night Singing
DESCRIPTION:Please join us at 6 pm as we welcome the group Nail Scarred.
URL:https://sfwbchurch.com/event/springwood-saturday-night-singing-5/
LOCATION:SFWB Church\, 826 Stanley Spencer Mountain Rd\, Gastonia\, NC\, 28056\, United States
END:VEVENT
BEGIN:VEVENT
DTSTART;TZID=UTC:20180825T180000
DTEND;TZID=UTC:20180825T180000
DTSTAMP:20260425T182521
CREATED:20180813T122830Z
LAST-MODIFIED:20180813T122830Z
UID:527-1535220000-1535220000@sfwbchurch.com
SUMMARY:Back to School Youth Pool Party!
DESCRIPTION:All Springwood Youth! Please join us for a back to school pool party! More details to come…..
URL:https://sfwbchurch.com/event/back-to-school-youth-pool-party/
LOCATION:SFWB Church\, 826 Stanley Spencer Mountain Rd\, Gastonia\, NC\, 28056\, United States
END:VEVENT
BEGIN:VEVENT
DTSTART;TZID=UTC:20180721T180000
DTEND;TZID=UTC:20180721T193000
DTSTAMP:20260425T182521
CREATED:20180311T143716Z
LAST-MODIFIED:20180311T143716Z
UID:434-1532196000-1532201400@sfwbchurch.com
SUMMARY:Saturday Night Singing
DESCRIPTION:Please join us at 6 pm as we welcome the gospel group Higher Ground.
URL:https://sfwbchurch.com/event/saturday-night-singing/
LOCATION:SFWB Church\, 826 Stanley Spencer Mountain Rd\, Gastonia\, NC\, 28056\, United States
END:VEVENT
BEGIN:VEVENT
DTSTART;TZID=UTC:20180616T180000
DTEND;TZID=UTC:20180616T193000
DTSTAMP:20260425T182521
CREATED:20180311T143615Z
LAST-MODIFIED:20180311T143615Z
UID:431-1529172000-1529177400@sfwbchurch.com
SUMMARY:Springwood Saturday Night Singing
DESCRIPTION:Please join us at 6pm as we welcome Heart2Heart!
URL:https://sfwbchurch.com/event/springwood-saturday-night-singing-4/
LOCATION:SFWB Church\, 826 Stanley Spencer Mountain Rd\, Gastonia\, NC\, 28056\, United States
END:VEVENT
BEGIN:VEVENT
DTSTART;TZID=UTC:20180611T183000
DTEND;TZID=UTC:20180615T200000
DTSTAMP:20260425T182521
CREATED:20180120T200316Z
LAST-MODIFIED:20180120T200316Z
UID:356-1528741800-1529092800@sfwbchurch.com
SUMMARY:Vacation Bible School - Time Lab
DESCRIPTION:  \n \nJoin us for a week of fun discovering Jesus from eternity past to eternity future! \nWouldn’t it be amazing to travel back in time and witness epic events in history? Imagine the thrill of meeting great heroes of the faith like Abraham\, Moses\, or Gideon. Or the fun of experiencing life in ancient cultures like Rome. Or the fascination of watching famous inventors make discoveries that change the world. \n 
URL:https://sfwbchurch.com/event/vacation-bible-school-time-lab/
END:VEVENT
BEGIN:VEVENT
DTSTART;TZID=UTC:20180609T173000
DTEND;TZID=UTC:20180609T193000
DTSTAMP:20260425T182521
CREATED:20180120T195938Z
LAST-MODIFIED:20180120T195938Z
UID:353-1528565400-1528572600@sfwbchurch.com
SUMMARY:Youth Pool Party
DESCRIPTION:Youth Pool Party
URL:https://sfwbchurch.com/event/youth-pool-party/
END:VEVENT
BEGIN:VEVENT
DTSTART;TZID=UTC:20180609T080000
DTEND;TZID=UTC:20180609T150000
DTSTAMP:20260425T182521
CREATED:20180120T195857Z
LAST-MODIFIED:20180120T195857Z
UID:350-1528531200-1528556400@sfwbchurch.com
SUMMARY:VBS Workday
DESCRIPTION:Join us as we prepare for Vacation Bible School!
URL:https://sfwbchurch.com/event/vbs-workday/
LOCATION:SFWB Church\, 826 Stanley Spencer Mountain Rd\, Gastonia\, NC\, 28056\, United States
END:VEVENT
BEGIN:VEVENT
DTSTART;TZID=UTC:20180602T100000
DTEND;TZID=UTC:20180602T130000
DTSTAMP:20260425T182521
CREATED:20180120T195759Z
LAST-MODIFIED:20180120T195759Z
UID:347-1527933600-1527944400@sfwbchurch.com
SUMMARY:District Ladies Auxiliary Meeting
DESCRIPTION:
URL:https://sfwbchurch.com/event/district-ladies-auxiliary-meeting-2/
END:VEVENT
BEGIN:VEVENT
DTSTART;TZID=UTC:20180602T080000
DTEND;TZID=UTC:20180602T170000
DTSTAMP:20260425T182521
CREATED:20180120T195715Z
LAST-MODIFIED:20180120T195715Z
UID:344-1527926400-1527958800@sfwbchurch.com
SUMMARY:Church Work Day
DESCRIPTION:Please join us for a church work day!
URL:https://sfwbchurch.com/event/church-work-day-2/
LOCATION:SFWB Church\, 826 Stanley Spencer Mountain Rd\, Gastonia\, NC\, 28056\, United States
END:VEVENT
BEGIN:VEVENT
DTSTART;TZID=UTC:20180519T180000
DTEND;TZID=UTC:20180519T193000
DTSTAMP:20260425T182521
CREATED:20180311T143526Z
LAST-MODIFIED:20180311T143526Z
UID:428-1526752800-1526758200@sfwbchurch.com
SUMMARY:Springwood Saturday Night Singing
DESCRIPTION:Please join us for a saturday night singing. May 19th at 6 pm. South Land will be joining us!
URL:https://sfwbchurch.com/event/springwood-saturday-night-singing-3/
LOCATION:SFWB Church\, 826 Stanley Spencer Mountain Rd\, Gastonia\, NC\, 28056\, United States
END:VEVENT
BEGIN:VEVENT
DTSTART;TZID=UTC:20180512T080000
DTEND;TZID=UTC:20180512T170000
DTSTAMP:20260425T182521
CREATED:20180120T195621Z
LAST-MODIFIED:20180120T195621Z
UID:341-1526112000-1526144400@sfwbchurch.com
SUMMARY:Association Meeting
DESCRIPTION:District Hill Association Meeting Location will be announced closer to date.
URL:https://sfwbchurch.com/event/association-meeting-2/
END:VEVENT
BEGIN:VEVENT
DTSTART;TZID=UTC:20180427T080000
DTEND;TZID=UTC:20180428T170000
DTSTAMP:20260425T182521
CREATED:20180120T195455Z
LAST-MODIFIED:20180120T195455Z
UID:335-1524816000-1524934800@sfwbchurch.com
SUMMARY:Zion Hill Youth Rally Event
DESCRIPTION:Zion Hill Youth Rally Services \nLodging at Ridgecrest\, more details to follow.
URL:https://sfwbchurch.com/event/zion-hill-youth-rally-event/
END:VEVENT
BEGIN:VEVENT
DTSTART;VALUE=DATE:20180414
DTEND;VALUE=DATE:20180415
DTSTAMP:20260425T182521
CREATED:20180120T195352Z
LAST-MODIFIED:20180120T195352Z
UID:332-1523664000-1523750399@sfwbchurch.com
SUMMARY:Youth 3 on 3 Basketball Tournament
DESCRIPTION:It’s time again for our youth 3 on 3 basketball tournament. Please join us. \n  \nMore details to follow
URL:https://sfwbchurch.com/event/youth-3-on-3-basketball-tournament/
END:VEVENT
BEGIN:VEVENT
DTSTART;TZID=UTC:20180401T070000
DTEND;TZID=UTC:20180401T080000
DTSTAMP:20260425T182521
CREATED:20180120T195253Z
LAST-MODIFIED:20180120T195253Z
UID:329-1522566000-1522569600@sfwbchurch.com
SUMMARY:Sunrise Service Easter Sunday
DESCRIPTION:Join us for a special Sunrise Service on Easter Sunday at Springwood FWB.
URL:https://sfwbchurch.com/event/sunrise-service-easter-sunday/
LOCATION:SFWB Church\, 826 Stanley Spencer Mountain Rd\, Gastonia\, NC\, 28056\, United States
END:VEVENT
BEGIN:VEVENT
DTSTART;TZID=UTC:20180331T080000
DTEND;TZID=UTC:20180331T170000
DTSTAMP:20260425T182521
CREATED:20180120T195147Z
LAST-MODIFIED:20180120T195147Z
UID:326-1522483200-1522515600@sfwbchurch.com
SUMMARY:Easter Celebration
DESCRIPTION:More details to come.
URL:https://sfwbchurch.com/event/easter-celebration/
END:VEVENT
BEGIN:VEVENT
DTSTART;TZID=UTC:20180318T180000
DTEND;TZID=UTC:20180318T200000
DTSTAMP:20260425T182521
CREATED:20180211T153537Z
LAST-MODIFIED:20180211T153537Z
UID:392-1521396000-1521403200@sfwbchurch.com
SUMMARY:Jordan Family Band
DESCRIPTION:The Jordan Family Band will be joining our evening services on March 18th.
URL:https://sfwbchurch.com/event/jordan-family-band/
LOCATION:SFWB Church\, 826 Stanley Spencer Mountain Rd\, Gastonia\, NC\, 28056\, United States
END:VEVENT
BEGIN:VEVENT
DTSTART;TZID=UTC:20180317T180000
DTEND;TZID=UTC:20180317T193000
DTSTAMP:20260425T182521
CREATED:20180311T142325Z
LAST-MODIFIED:20180311T142347Z
UID:421-1521309600-1521315000@sfwbchurch.com
SUMMARY:Springwood Saturday Night Singing
DESCRIPTION:Please join us Saturday\, March 17th at 6:00 pm\, the singing group God’s Choice will be here.
URL:https://sfwbchurch.com/event/springwood-saturday-night-singing/
LOCATION:SFWB Church\, 826 Stanley Spencer Mountain Rd\, Gastonia\, NC\, 28056\, United States
END:VEVENT
BEGIN:VEVENT
DTSTART;TZID=UTC:20180311T180000
DTEND;TZID=UTC:20180311T193000
DTSTAMP:20260425T182521
CREATED:20180311T142624Z
LAST-MODIFIED:20180311T142624Z
UID:425-1520791200-1520796600@sfwbchurch.com
SUMMARY:Springwood Saturday Night Singing
DESCRIPTION:Please join us April 21st at 6 pm\, as we welcome the gospel group\, 2nd Chance.
URL:https://sfwbchurch.com/event/springwood-saturday-night-singing-2/
LOCATION:SFWB Church\, 826 Stanley Spencer Mountain Rd\, Gastonia\, NC\, 28056\, United States
END:VEVENT
BEGIN:VEVENT
DTSTART;TZID=UTC:20180310T100000
DTEND;TZID=UTC:20180310T130000
DTSTAMP:20260425T182521
CREATED:20180120T195013Z
LAST-MODIFIED:20180120T195013Z
UID:320-1520676000-1520686800@sfwbchurch.com
SUMMARY:District Ladies Auxiliary Meeting
DESCRIPTION:Join us at Springwood FWB for the District Ladies Auxiliary Meeting.
URL:https://sfwbchurch.com/event/district-ladies-auxiliary-meeting/
LOCATION:SFWB Church\, 826 Stanley Spencer Mountain Rd\, Gastonia\, NC\, 28056\, United States
END:VEVENT
END:VCALENDAR