BEGIN:VCALENDAR
VERSION:2.0
PRODID:-//Springwood Free Will Baptist Church - ECPv6.15.20//NONSGML v1.0//EN
CALSCALE:GREGORIAN
METHOD:PUBLISH
X-ORIGINAL-URL:https://sfwbchurch.com
X-WR-CALDESC:Events for Springwood Free Will Baptist Church
REFRESH-INTERVAL;VALUE=DURATION:PT1H
X-Robots-Tag:noindex
X-PUBLISHED-TTL:PT1H
BEGIN:VTIMEZONE
TZID:UTC
BEGIN:STANDARD
TZOFFSETFROM:+0000
TZOFFSETTO:+0000
TZNAME:UTC
DTSTART:20180101T000000
END:STANDARD
END:VTIMEZONE
BEGIN:VEVENT
DTSTART;TZID=UTC:20220403T163000
DTEND;TZID=UTC:20220403T170000
DTSTAMP:20260425T131329
CREATED:20220329T225917Z
LAST-MODIFIED:20220329T225917Z
UID:1096-1649003400-1649005200@sfwbchurch.com
SUMMARY:Board Meeting/Ladies Auxiliary Meetings 4:30 PM
DESCRIPTION:
URL:https://sfwbchurch.com/event/board-meeting-ladies-auxiliary-meetings-430-pm/
LOCATION:SFWB Church\, 826 Stanley Spencer Mountain Rd\, Gastonia\, NC\, 28056\, United States
END:VEVENT
BEGIN:VEVENT
DTSTART;TZID=UTC:20201204T183000
DTEND;TZID=UTC:20201204T210000
DTSTAMP:20260425T131329
CREATED:20201108T153637Z
LAST-MODIFIED:20201108T153637Z
UID:1060-1607106600-1607115600@sfwbchurch.com
SUMMARY:Ladies' Sunday School Christmas Party
DESCRIPTION:
URL:https://sfwbchurch.com/event/ladies-sunday-school-christmas-party/
LOCATION:SFWB Church\, 826 Stanley Spencer Mountain Rd\, Gastonia\, NC\, 28056\, United States
END:VEVENT
BEGIN:VEVENT
DTSTART;VALUE=DATE:20201129
DTEND;VALUE=DATE:20201130
DTSTAMP:20260425T131329
CREATED:20201021T003858Z
LAST-MODIFIED:20201021T003858Z
UID:1043-1606608000-1606694399@sfwbchurch.com
SUMMARY:Youth Sunday
DESCRIPTION:
URL:https://sfwbchurch.com/event/youth-sunday-3/
LOCATION:SFWB Church\, 826 Stanley Spencer Mountain Rd\, Gastonia\, NC\, 28056\, United States
END:VEVENT
BEGIN:VEVENT
DTSTART;TZID=UTC:20201126T190000
DTEND;TZID=UTC:20201126T210000
DTSTAMP:20260425T131329
CREATED:20201108T153306Z
LAST-MODIFIED:20201108T153306Z
UID:1056-1606417200-1606424400@sfwbchurch.com
SUMMARY:Springwood Special Thanksgiving Service
DESCRIPTION:
URL:https://sfwbchurch.com/event/springwood-special-thanksgiving-service/
LOCATION:SFWB Church\, 826 Stanley Spencer Mountain Rd\, Gastonia\, NC\, 28056\, United States
END:VEVENT
BEGIN:VEVENT
DTSTART;TZID=UTC:20201120T183000
DTEND;TZID=UTC:20201120T183000
DTSTAMP:20260425T131329
CREATED:20201108T153218Z
LAST-MODIFIED:20201108T153218Z
UID:1053-1605897000-1605897000@sfwbchurch.com
SUMMARY:Teens Sunday School Hearts on Fire Lock in
DESCRIPTION:All Springwood teens are invited to the Virtual Hearts on Fire conference.
URL:https://sfwbchurch.com/event/teens-sunday-school-hearts-on-fire-lock-in/
END:VEVENT
BEGIN:VEVENT
DTSTART;TZID=UTC:20201113T183000
DTEND;TZID=UTC:20201113T203000
DTSTAMP:20260425T131329
CREATED:20201108T153010Z
LAST-MODIFIED:20201108T153010Z
UID:1050-1605292200-1605299400@sfwbchurch.com
SUMMARY:Dinner & Movie Night
DESCRIPTION:All 50 and up adults are invited to join Preacher for dinner & a movie.\nStarts at 6:30pm
URL:https://sfwbchurch.com/event/dinner-movie-night/
LOCATION:Church Property\, 5321 Hickory Grove Rd.\, Stanley\, NC\, 28164\, United States
END:VEVENT
BEGIN:VEVENT
DTSTART;TZID=UTC:20201107T110000
DTEND;TZID=UTC:20201107T140000
DTSTAMP:20260425T131329
CREATED:20201021T003740Z
LAST-MODIFIED:20201021T003740Z
UID:1040-1604746800-1604757600@sfwbchurch.com
SUMMARY:Fall Festival
DESCRIPTION:
URL:https://sfwbchurch.com/event/fall-festival/
LOCATION:SFWB Church\, 826 Stanley Spencer Mountain Rd\, Gastonia\, NC\, 28056\, United States
END:VEVENT
BEGIN:VEVENT
DTSTART;TZID=UTC:20201101T150000
DTEND;TZID=UTC:20201101T170000
DTSTAMP:20260425T131329
CREATED:20201021T003501Z
LAST-MODIFIED:20201021T003501Z
UID:1037-1604242800-1604250000@sfwbchurch.com
SUMMARY:Wedding Shower for Seth & Marika
DESCRIPTION:Please join us on November 1st from 3p to 5pm in the fellowship building
URL:https://sfwbchurch.com/event/wedding-shower-for-seth-marika/
LOCATION:SFWB Church\, 826 Stanley Spencer Mountain Rd\, Gastonia\, NC\, 28056\, United States
END:VEVENT
BEGIN:VEVENT
DTSTART;TZID=UTC:20201031T080000
DTEND;TZID=UTC:20201031T110000
DTSTAMP:20260425T131329
CREATED:20201020T232744Z
LAST-MODIFIED:20201020T232859Z
UID:1025-1604131200-1604142000@sfwbchurch.com
SUMMARY:Pancakes for Parker!
DESCRIPTION:
URL:https://sfwbchurch.com/event/pancakes-for-parker/
LOCATION:SFWB Church\, 826 Stanley Spencer Mountain Rd\, Gastonia\, NC\, 28056\, United States
END:VEVENT
BEGIN:VEVENT
DTSTART;TZID=UTC:20201021T080000
DTEND;TZID=UTC:20201021T170000
DTSTAMP:20260425T131329
CREATED:20201101T150057Z
LAST-MODIFIED:20201021T002951Z
UID:1030-1603267200-1603299600@sfwbchurch.com
SUMMARY:Wedding Shower for Seth and Marika
DESCRIPTION:
URL:https://sfwbchurch.com/event/wedding-shower-for-seth-and-marika/
END:VEVENT
BEGIN:VEVENT
DTSTART;TZID=UTC:20200830T100000
DTEND;TZID=UTC:20200830T130000
DTSTAMP:20260425T131329
CREATED:20200809T142713Z
LAST-MODIFIED:20200809T142713Z
UID:996-1598781600-1598792400@sfwbchurch.com
SUMMARY:Youth Sunday
DESCRIPTION:
URL:https://sfwbchurch.com/event/youth-sunday-2/
LOCATION:SFWB Church\, 826 Stanley Spencer Mountain Rd\, Gastonia\, NC\, 28056\, United States
END:VEVENT
BEGIN:VEVENT
DTSTART;TZID=UTC:20200822T170000
DTEND;TZID=UTC:20200822T203000
DTSTAMP:20260425T131329
CREATED:20200809T142625Z
LAST-MODIFIED:20200816T142929Z
UID:993-1598115600-1598128200@sfwbchurch.com
SUMMARY:Youth Revival
DESCRIPTION:Youth Revival\n5pm Levi Worley\nDinner in the fellowship hall followed by preaching by Noah Emory
URL:https://sfwbchurch.com/event/youth-revival-2/
LOCATION:SFWB Church\, 826 Stanley Spencer Mountain Rd\, Gastonia\, NC\, 28056\, United States
END:VEVENT
BEGIN:VEVENT
DTSTART;TZID=UTC:20200821T190000
DTEND;TZID=UTC:20200821T200000
DTSTAMP:20260425T131329
CREATED:20200809T142500Z
LAST-MODIFIED:20200816T142904Z
UID:990-1598036400-1598040000@sfwbchurch.com
SUMMARY:Youth Revival
DESCRIPTION:Youth Revival\nFriday\, 8/21 Levi Worley 7:00pm
URL:https://sfwbchurch.com/event/990/
LOCATION:SFWB Church\, 826 Stanley Spencer Mountain Rd\, Gastonia\, NC\, 28056\, United States
END:VEVENT
BEGIN:VEVENT
DTSTART;TZID=UTC:20200820T190000
DTEND;TZID=UTC:20200820T200000
DTSTAMP:20260425T131329
CREATED:20200809T142357Z
LAST-MODIFIED:20200816T143001Z
UID:987-1597950000-1597953600@sfwbchurch.com
SUMMARY:Youth Revival
DESCRIPTION:Youth Revival 8/20 – 8/22\nThursday 7pm Noah Emory
URL:https://sfwbchurch.com/event/youth-revival/
LOCATION:SFWB Church\, 826 Stanley Spencer Mountain Rd\, Gastonia\, NC\, 28056\, United States
END:VEVENT
BEGIN:VEVENT
DTSTART;TZID=UTC:20200427T100000
DTEND;TZID=UTC:20200427T110000
DTSTAMP:20260425T131329
CREATED:20200408T141614Z
LAST-MODIFIED:20200408T141614Z
UID:864-1587981600-1587985200@sfwbchurch.com
SUMMARY:Drive In Sunday Worship Service at 10am at the Property
DESCRIPTION:Each Sunday after Easter we will host a worship service on our property located at 5321 Hickory Grove Rd. Stanley\, NC 28164. Join us under the pecan trees for worship music and a message from our preacher.
URL:https://sfwbchurch.com/event/drive-in-sunday-worship-service-at-10am-at-the-property-2/
ORGANIZER;CN="Jeff Silver":MAILTO:springwoodfwbpastor@yahoo.com
END:VEVENT
BEGIN:VEVENT
DTSTART;TZID=UTC:20200420T100000
DTEND;TZID=UTC:20200420T110000
DTSTAMP:20260425T131329
CREATED:20200408T140915Z
LAST-MODIFIED:20200408T140915Z
UID:856-1587376800-1587380400@sfwbchurch.com
SUMMARY:Drive In Sunday Worship Service at 10am at the Property
DESCRIPTION:Each Sunday after Easter Sunday we will host a worship service on our property located at 5321 Hickory Grove Rd. Stanley\, NC 28164. Join us under the pecan trees for worship music and a message from our preacher.
URL:https://sfwbchurch.com/event/drive-in-sunday-worship-service-at-10am-at-the-property/
ORGANIZER;CN="Jeff Silver":MAILTO:springwoodfwbpastor@yahoo.com
END:VEVENT
BEGIN:VEVENT
DTSTART;TZID=UTC:20200413T090000
DTEND;TZID=UTC:20200413T100000
DTSTAMP:20260425T131329
CREATED:20200408T142559Z
LAST-MODIFIED:20200408T142559Z
UID:873-1586768400-1586772000@sfwbchurch.com
SUMMARY:DRIVE IN Easter Worship Service at 9am at the Property
DESCRIPTION:We look forward to celebrating Easter with you! Make plans to join us for special music and a message from our preacher.
URL:https://sfwbchurch.com/event/drive-in-easter-worship-service-at-9am-at-the-property/
ORGANIZER;CN="Jeff Silver":MAILTO:springwoodfwbpastor@yahoo.com
END:VEVENT
BEGIN:VEVENT
DTSTART;TZID=UTC:20200413T070000
DTEND;TZID=UTC:20200413T083000
DTSTAMP:20260425T131329
CREATED:20200408T142326Z
LAST-MODIFIED:20200408T142631Z
UID:870-1586761200-1586766600@sfwbchurch.com
SUMMARY:Drive In Easter Sunday Sunrise Service at 7am at the Property
DESCRIPTION:Join us for a Sunrise Service at the Property at 7am. Immediately following the service the church will provide biscuits and drinks for your to have breakfast in your car with your family. We will begin our Easter Worship Service around 9am. We are looking forward to seeing everyone on Easter Sunday!
URL:https://sfwbchurch.com/event/easter-sunday-sunrise-service-at-7am-at-the-property/
ORGANIZER;CN="Jeff Silver":MAILTO:springwoodfwbpastor@yahoo.com
END:VEVENT
BEGIN:VEVENT
DTSTART;TZID=UTC:20200310T080000
DTEND;TZID=UTC:20200310T170000
DTSTAMP:20260425T131329
CREATED:20200207T133003Z
LAST-MODIFIED:20200207T135051Z
UID:806-1583827200-1583859600@sfwbchurch.com
SUMMARY:Foothills March Forward Revival @ Harriett Memorial FWB Leaving @5:30
DESCRIPTION:
URL:https://sfwbchurch.com/event/sunday-school-945-worship-1100-sunday-evening-600pm-ladies-auxiliary-deacon-advisory-board-youth-board-meetings-430/
END:VEVENT
BEGIN:VEVENT
DTSTART;TZID=UTC:20200307T080000
DTEND;TZID=UTC:20200307T170000
DTSTAMP:20260425T131329
CREATED:20200207T132814Z
LAST-MODIFIED:20200207T132814Z
UID:803-1583568000-1583600400@sfwbchurch.com
SUMMARY:Festival of Tables @ West 5th Avenue FWB
DESCRIPTION:
URL:https://sfwbchurch.com/event/festival-of-tables-west-5th-avenue-fwb/
END:VEVENT
BEGIN:VEVENT
DTSTART;TZID=UTC:20200228T080000
DTEND;TZID=UTC:20200228T170000
DTSTAMP:20260425T131329
CREATED:20200207T132703Z
LAST-MODIFIED:20200207T132703Z
UID:800-1582876800-1582909200@sfwbchurch.com
SUMMARY:Hanging with the Holy Man Ages 8-18 6:30-8:30
DESCRIPTION:
URL:https://sfwbchurch.com/event/hanging-with-the-holy-man-ages-8-18-630-830/
END:VEVENT
BEGIN:VEVENT
DTSTART;TZID=UTC:20200226T080000
DTEND;TZID=UTC:20200226T170000
DTSTAMP:20260425T131329
CREATED:20200207T132136Z
LAST-MODIFIED:20200207T132136Z
UID:794-1582704000-1582736400@sfwbchurch.com
SUMMARY:Wednesday Night Service 7pm
DESCRIPTION:
URL:https://sfwbchurch.com/event/wednesday-night-service-7pm-2/
END:VEVENT
BEGIN:VEVENT
DTSTART;TZID=UTC:20200223T080000
DTEND;TZID=UTC:20200223T170000
DTSTAMP:20260425T131329
CREATED:20200207T131230Z
LAST-MODIFIED:20200207T131230Z
UID:791-1582444800-1582477200@sfwbchurch.com
SUMMARY:Sunday School 9:45 Worship 11:00 Youth Choir Practice 4:30 Sunday Evening 6:00pm
DESCRIPTION:
URL:https://sfwbchurch.com/event/sunday-school-945-worship-1100-youth-choir-practice-430-sunday-evening-600pm/
END:VEVENT
BEGIN:VEVENT
DTSTART;TZID=UTC:20200222T080000
DTEND;TZID=UTC:20200222T170000
DTSTAMP:20260425T131329
CREATED:20200207T132504Z
LAST-MODIFIED:20200207T132504Z
UID:797-1582358400-1582390800@sfwbchurch.com
SUMMARY:Foothills Association Youth Meeting @ Trinity Hill Leaving @ 2pm
DESCRIPTION:
URL:https://sfwbchurch.com/event/foothills-association-youth-meeting-trinity-hill-leaving-2pm/
END:VEVENT
BEGIN:VEVENT
DTSTART;TZID=UTC:20200219T080000
DTEND;TZID=UTC:20200219T170000
DTSTAMP:20260425T131329
CREATED:20200207T131114Z
LAST-MODIFIED:20200207T131114Z
UID:788-1582099200-1582131600@sfwbchurch.com
SUMMARY:Wednesday Night Service 7:00pm
DESCRIPTION:
URL:https://sfwbchurch.com/event/wednesday-night-service-700pm/
END:VEVENT
BEGIN:VEVENT
DTSTART;TZID=UTC:20200216T080000
DTEND;TZID=UTC:20200216T170000
DTSTAMP:20260425T131329
CREATED:20200207T131030Z
LAST-MODIFIED:20200207T131030Z
UID:785-1581840000-1581872400@sfwbchurch.com
SUMMARY:Sunday School 9:45 Worship 11:00 Adult Choir Practice 4:30 Sunday Evening 6:00pm
DESCRIPTION:
URL:https://sfwbchurch.com/event/sunday-school-945-worship-1100-adult-choir-practice-430-sunday-evening-600pm/
END:VEVENT
BEGIN:VEVENT
DTSTART;TZID=UTC:20200212T190000
DTEND;TZID=UTC:20200212T203000
DTSTAMP:20260425T131329
CREATED:20200207T130847Z
LAST-MODIFIED:20200207T130922Z
UID:782-1581534000-1581539400@sfwbchurch.com
SUMMARY:Wednesday Night Service 7pm
DESCRIPTION:
URL:https://sfwbchurch.com/event/wednesday-night-service-7pm/
END:VEVENT
BEGIN:VEVENT
DTSTART;TZID=UTC:20200209T080000
DTEND;TZID=UTC:20200209T200000
DTSTAMP:20260425T131329
CREATED:20200207T130628Z
LAST-MODIFIED:20200207T130736Z
UID:777-1581235200-1581278400@sfwbchurch.com
SUMMARY:Sunday School 9:45 Worship 11:00 Sunday Evening 6:00pm
DESCRIPTION:
URL:https://sfwbchurch.com/event/sunday-school-945-1100-sunday-evening-600pm/
END:VEVENT
BEGIN:VEVENT
DTSTART;TZID=UTC:20200208T060000
DTEND;TZID=UTC:20200208T210000
DTSTAMP:20260425T131329
CREATED:20200207T013143Z
LAST-MODIFIED:20200207T013143Z
UID:765-1581141600-1581195600@sfwbchurch.com
SUMMARY:Youth: Snow Tubing
DESCRIPTION:We will leave the church at 6am on Saturday morning heading for Winterplace in West Virginia for the best snow tubing!
URL:https://sfwbchurch.com/event/youth-snow-tubing/
END:VEVENT
BEGIN:VEVENT
DTSTART;TZID=UTC:20191215T180000
DTEND;TZID=UTC:20191215T200000
DTSTAMP:20260425T131329
CREATED:20191201T223642Z
LAST-MODIFIED:20191201T223642Z
UID:758-1576432800-1576440000@sfwbchurch.com
SUMMARY:Springwood FWB Christmas Play
DESCRIPTION:Join us on Sunday night\, 12/15 @ 6pm.
URL:https://sfwbchurch.com/event/springwood-fwb-christmas-play/
LOCATION:SFWB Church\, 826 Stanley Spencer Mountain Rd\, Gastonia\, NC\, 28056\, United States
END:VEVENT
END:VCALENDAR