BEGIN:VCALENDAR
VERSION:2.0
PRODID:-//Springwood Free Will Baptist Church - ECPv6.15.20//NONSGML v1.0//EN
CALSCALE:GREGORIAN
METHOD:PUBLISH
X-WR-CALNAME:Springwood Free Will Baptist Church
X-ORIGINAL-URL:https://sfwbchurch.com
X-WR-CALDESC:Events for Springwood Free Will Baptist Church
REFRESH-INTERVAL;VALUE=DURATION:PT1H
X-Robots-Tag:noindex
X-PUBLISHED-TTL:PT1H
BEGIN:VTIMEZONE
TZID:UTC
BEGIN:STANDARD
TZOFFSETFROM:+0000
TZOFFSETTO:+0000
TZNAME:UTC
DTSTART:20190101T000000
END:STANDARD
END:VTIMEZONE
BEGIN:VEVENT
DTSTART;TZID=UTC:20220522T150000
DTEND;TZID=UTC:20220522T170000
DTSTAMP:20260425T102540
CREATED:20220505T215247Z
LAST-MODIFIED:20220505T215247Z
UID:1175-1653231600-1653238800@sfwbchurch.com
SUMMARY:Graduation Party
DESCRIPTION:Congratulations to our Graduates; Caroline\, Emilie\, Tykel\, Noah\, and Kyle
URL:https://sfwbchurch.com/event/graduation-party/
END:VEVENT
BEGIN:VEVENT
DTSTART;VALUE=DATE:20220522
DTEND;VALUE=DATE:20220523
DTSTAMP:20260425T102540
CREATED:20220505T215402Z
LAST-MODIFIED:20220505T215402Z
UID:1178-1653177600-1653263999@sfwbchurch.com
SUMMARY:Nursery Schedule
DESCRIPTION:AM- Beth Welch\nPM- Ann Stamey
URL:https://sfwbchurch.com/event/nursery-schedule-3/
END:VEVENT
BEGIN:VEVENT
DTSTART;TZID=UTC:20220521T110000
DTEND;TZID=UTC:20220521T140000
DTSTAMP:20260425T102540
CREATED:20220505T215014Z
LAST-MODIFIED:20220505T215014Z
UID:1171-1653130800-1653141600@sfwbchurch.com
SUMMARY:Homeless Ministry
DESCRIPTION:
URL:https://sfwbchurch.com/event/homeless-ministry/
LOCATION:City Set on A Hill Ministry\, 1299 W Franklin Blvd\, Gastonia\, NC\, 28052\, United States
END:VEVENT
BEGIN:VEVENT
DTSTART;TZID=UTC:20220520T183000
DTEND;TZID=UTC:20220520T183000
DTSTAMP:20260425T102540
CREATED:20220505T214228Z
LAST-MODIFIED:20220505T214302Z
UID:1168-1653071400-1653071400@sfwbchurch.com
SUMMARY:Party With the Preacher
DESCRIPTION:
URL:https://sfwbchurch.com/event/party-with-the-preacher/
END:VEVENT
BEGIN:VEVENT
DTSTART;TZID=UTC:20220518T190000
DTEND;TZID=UTC:20220518T190000
DTSTAMP:20260425T102540
CREATED:20220505T214041Z
LAST-MODIFIED:20220505T214041Z
UID:1165-1652900400-1652900400@sfwbchurch.com
SUMMARY:Wednesday Night Worship Service
DESCRIPTION:6:45- Prayer room
URL:https://sfwbchurch.com/event/wednesday-night-worship-service-7/
END:VEVENT
BEGIN:VEVENT
DTSTART;TZID=UTC:20220515T160000
DTEND;TZID=UTC:20220515T173000
DTSTAMP:20260425T102540
CREATED:20220505T213738Z
LAST-MODIFIED:20220505T213738Z
UID:1159-1652630400-1652635800@sfwbchurch.com
SUMMARY:Youth Choir Practice
DESCRIPTION:
URL:https://sfwbchurch.com/event/youth-choir-practice-2/
END:VEVENT
BEGIN:VEVENT
DTSTART;VALUE=DATE:20220515
DTEND;VALUE=DATE:20220516
DTSTAMP:20260425T102540
CREATED:20220505T213837Z
LAST-MODIFIED:20220505T213837Z
UID:1162-1652572800-1652659199@sfwbchurch.com
SUMMARY:Nursery Schedule
DESCRIPTION:AM- Kayla Huss\nPM- Elizabeth Waters
URL:https://sfwbchurch.com/event/nursery-schedule-2/
END:VEVENT
BEGIN:VEVENT
DTSTART;VALUE=DATE:20220514
DTEND;VALUE=DATE:20220515
DTSTAMP:20260425T102540
CREATED:20220505T213538Z
LAST-MODIFIED:20220505T213608Z
UID:1156-1652486400-1652572799@sfwbchurch.com
SUMMARY:Creeper Trail Trip
DESCRIPTION:We Will leave the church at 8:00am. Our reservation is at noon at SunDog Outfitters. Our group will arrive at 11:30am for check-in and bike selection. Please Eat breakfast before you come. Pack a lunch/snack/ drinks for the trail. The youth will be paid for by the youth budget. Adults- shuttle with bike rental is $37.99\, and Adult-shuttle only is $22.99. WE are limited to 40 people for this trip.
URL:https://sfwbchurch.com/event/creeper-trail-trip/
END:VEVENT
BEGIN:VEVENT
DTSTART;TZID=UTC:20220511T190000
DTEND;TZID=UTC:20220511T190000
DTSTAMP:20260425T102540
CREATED:20220505T212630Z
LAST-MODIFIED:20220505T212859Z
UID:1148-1652295600-1652295600@sfwbchurch.com
SUMMARY:Wednesday Night Worship Service
DESCRIPTION:6:45pm- adult prayer room
URL:https://sfwbchurch.com/event/wednesday-night-worship-service-5/
END:VEVENT
BEGIN:VEVENT
DTSTART;TZID=UTC:20220508T160000
DTEND;TZID=UTC:20220508T173000
DTSTAMP:20260425T102540
CREATED:20220505T212315Z
LAST-MODIFIED:20220505T212315Z
UID:1142-1652025600-1652031000@sfwbchurch.com
SUMMARY:Adult Choir Practice
DESCRIPTION:Adult Choir Practice @4:00pm
URL:https://sfwbchurch.com/event/adult-choir-practice/
END:VEVENT
BEGIN:VEVENT
DTSTART;VALUE=DATE:20220508
DTEND;VALUE=DATE:20220509
DTSTAMP:20260425T102540
CREATED:20220505T212455Z
LAST-MODIFIED:20220505T212455Z
UID:1145-1651968000-1652054399@sfwbchurch.com
SUMMARY:Nursery Schedule
DESCRIPTION:AM service- Kim Black\nPM service- Mandi Waldroup
URL:https://sfwbchurch.com/event/nursery-schedule/
END:VEVENT
BEGIN:VEVENT
DTSTART;TZID=UTC:20220507T080000
DTEND;TZID=UTC:20220507T170000
DTSTAMP:20260425T102540
CREATED:20220505T211854Z
LAST-MODIFIED:20220505T211940Z
UID:1138-1651910400-1651942800@sfwbchurch.com
SUMMARY:Association Meeting
DESCRIPTION:We will leave the church at 8:00am
URL:https://sfwbchurch.com/event/association-meeting-3/
END:VEVENT
BEGIN:VEVENT
DTSTART;TZID=UTC:20220504T190000
DTEND;TZID=UTC:20220504T190000
DTSTAMP:20260425T102540
CREATED:20220505T213020Z
LAST-MODIFIED:20220505T213020Z
UID:1153-1651690800-1651690800@sfwbchurch.com
SUMMARY:Wednesday Night Worship Service
DESCRIPTION:6:45pm- prayer room
URL:https://sfwbchurch.com/event/wednesday-night-worship-service-6/
END:VEVENT
BEGIN:VEVENT
DTSTART;TZID=UTC:20220430T110000
DTEND;TZID=UTC:20220430T140000
DTSTAMP:20260425T102540
CREATED:20220329T225707Z
LAST-MODIFIED:20220425T223258Z
UID:1089-1651316400-1651327200@sfwbchurch.com
SUMMARY:Church Picnic
DESCRIPTION:Saturday April 30th Church-Wide Trip: \nPack a picnic for your family and join us at Belmont Park
URL:https://sfwbchurch.com/event/church-wide-trip-lets-visit-pretty-place-chapel/
END:VEVENT
BEGIN:VEVENT
DTSTART;TZID=UTC:20220427T190000
DTEND;TZID=UTC:20220427T190000
DTSTAMP:20260425T102540
CREATED:20220405T000926Z
LAST-MODIFIED:20220405T000926Z
UID:1130-1651086000-1651086000@sfwbchurch.com
SUMMARY:Wednesday Night Worship Service
DESCRIPTION:6:45pm prayer room \n7:00 pm worship service
URL:https://sfwbchurch.com/event/wednesday-night-worship-service-4/
END:VEVENT
BEGIN:VEVENT
DTSTART;TZID=UTC:20220424T160000
DTEND;TZID=UTC:20220424T170000
DTSTAMP:20260425T102540
CREATED:20220329T231543Z
LAST-MODIFIED:20220329T231543Z
UID:1107-1650816000-1650819600@sfwbchurch.com
SUMMARY:Youth Choir Practice 4pm
DESCRIPTION:
URL:https://sfwbchurch.com/event/youth-choir-practice-4pm/
LOCATION:SFWB Church\, 826 Stanley Spencer Mountain Rd\, Gastonia\, NC\, 28056\, United States
END:VEVENT
BEGIN:VEVENT
DTSTART;TZID=UTC:20220420T190000
DTEND;TZID=UTC:20220420T190000
DTSTAMP:20260425T102540
CREATED:20220405T000552Z
LAST-MODIFIED:20220405T000552Z
UID:1125-1650481200-1650481200@sfwbchurch.com
SUMMARY:Wednesday Night Worship Service
DESCRIPTION:6:45pm prayer room\n7:00pm worship service
URL:https://sfwbchurch.com/event/wednesday-night-worship-service-3/
END:VEVENT
BEGIN:VEVENT
DTSTART;TZID=UTC:20220417T063000
DTEND;TZID=UTC:20220417T073000
DTSTAMP:20260425T102540
CREATED:20220329T225147Z
LAST-MODIFIED:20220329T225147Z
UID:1085-1650177000-1650180600@sfwbchurch.com
SUMMARY:Easter Sunday
DESCRIPTION:April 17th Sunrise Service at 6:30 AM followed by breakfast in the fellowship hall.
URL:https://sfwbchurch.com/event/easter-sunday/
LOCATION:SFWB Church\, 826 Stanley Spencer Mountain Rd\, Gastonia\, NC\, 28056\, United States
END:VEVENT
BEGIN:VEVENT
DTSTART;TZID=UTC:20220416T150000
DTEND;TZID=UTC:20220416T170000
DTSTAMP:20260425T102540
CREATED:20220329T231335Z
LAST-MODIFIED:20220329T231403Z
UID:1102-1650121200-1650128400@sfwbchurch.com
SUMMARY:Springwood Easter Celebration 3PM
DESCRIPTION:Join us for a Easter celebration at Springwood!
URL:https://sfwbchurch.com/event/springwood-easter-celebration-3pm/
LOCATION:SFWB Church\, 826 Stanley Spencer Mountain Rd\, Gastonia\, NC\, 28056\, United States
END:VEVENT
BEGIN:VEVENT
DTSTART;TZID=UTC:20220416T113000
DTEND;TZID=UTC:20220416T140000
DTSTAMP:20260425T102540
CREATED:20220329T224848Z
LAST-MODIFIED:20220329T232536Z
UID:1082-1650108600-1650117600@sfwbchurch.com
SUMMARY:Homeless Ministry 11:30 AM-2:00PM
DESCRIPTION:Homeless Ministry at City Set on A Hill Ministry \nPlease join us at 1299 W. Franklin Blvd Gastonia\, NC 28052
URL:https://sfwbchurch.com/event/monthly-homeless-ministry/
END:VEVENT
BEGIN:VEVENT
DTSTART;TZID=UTC:20220413T190000
DTEND;TZID=UTC:20220413T190000
DTSTAMP:20260425T102540
CREATED:20220405T000412Z
LAST-MODIFIED:20220405T000412Z
UID:1122-1649876400-1649876400@sfwbchurch.com
SUMMARY:Wednesday Night Worship Service
DESCRIPTION:6:45pm prayer room\n7:oopm worship service
URL:https://sfwbchurch.com/event/wednesday-night-worship-service-2/
END:VEVENT
BEGIN:VEVENT
DTSTART;TZID=UTC:20220410T160000
DTEND;TZID=UTC:20220410T173000
DTSTAMP:20260425T102540
CREATED:20220329T225951Z
LAST-MODIFIED:20220329T225951Z
UID:1099-1649606400-1649611800@sfwbchurch.com
SUMMARY:Adult Choir Practice 4pm
DESCRIPTION:
URL:https://sfwbchurch.com/event/adult-choir-practice-4pm/
LOCATION:SFWB Church\, 826 Stanley Spencer Mountain Rd\, Gastonia\, NC\, 28056\, United States
END:VEVENT
BEGIN:VEVENT
DTSTART;VALUE=DATE:20220408
DTEND;VALUE=DATE:20220410
DTSTAMP:20260425T102540
CREATED:20220329T225803Z
LAST-MODIFIED:20220405T001613Z
UID:1093-1649376000-1649548799@sfwbchurch.com
SUMMARY:New Manna Youth Rally
DESCRIPTION:We will leave the church at 5pm on Friday\, eat before you come to the church. We will not be stopping for dinner before the service. On Saturday we will leave the church at 8am\, eat before you come to the church. We will not be stopping for breakfast before the service. We will eat lunch in Hickory and spend some time shopping at the Valley Hills mall before returning to the convention center for the 3:00pm service.
URL:https://sfwbchurch.com/event/new-manna-youth-rally/
END:VEVENT
BEGIN:VEVENT
DTSTART;TZID=UTC:20220406T190000
DTEND;TZID=UTC:20220406T190000
DTSTAMP:20260425T102540
CREATED:20220405T000205Z
LAST-MODIFIED:20220405T000727Z
UID:1119-1649271600-1649271600@sfwbchurch.com
SUMMARY:Wednesday Night Worship Service
DESCRIPTION:6:45pm Prayer room \n7:00pm Worship Service
URL:https://sfwbchurch.com/event/wednesday-night-worship-service/
END:VEVENT
BEGIN:VEVENT
DTSTART;TZID=UTC:20220403T163000
DTEND;TZID=UTC:20220403T170000
DTSTAMP:20260425T102540
CREATED:20220329T225917Z
LAST-MODIFIED:20220329T225917Z
UID:1096-1649003400-1649005200@sfwbchurch.com
SUMMARY:Board Meeting/Ladies Auxiliary Meetings 4:30 PM
DESCRIPTION:
URL:https://sfwbchurch.com/event/board-meeting-ladies-auxiliary-meetings-430-pm/
LOCATION:SFWB Church\, 826 Stanley Spencer Mountain Rd\, Gastonia\, NC\, 28056\, United States
END:VEVENT
BEGIN:VEVENT
DTSTART;TZID=UTC:20201204T183000
DTEND;TZID=UTC:20201204T210000
DTSTAMP:20260425T102540
CREATED:20201108T153637Z
LAST-MODIFIED:20201108T153637Z
UID:1060-1607106600-1607115600@sfwbchurch.com
SUMMARY:Ladies' Sunday School Christmas Party
DESCRIPTION:
URL:https://sfwbchurch.com/event/ladies-sunday-school-christmas-party/
LOCATION:SFWB Church\, 826 Stanley Spencer Mountain Rd\, Gastonia\, NC\, 28056\, United States
END:VEVENT
BEGIN:VEVENT
DTSTART;VALUE=DATE:20201129
DTEND;VALUE=DATE:20201130
DTSTAMP:20260425T102540
CREATED:20201021T003858Z
LAST-MODIFIED:20201021T003858Z
UID:1043-1606608000-1606694399@sfwbchurch.com
SUMMARY:Youth Sunday
DESCRIPTION:
URL:https://sfwbchurch.com/event/youth-sunday-3/
LOCATION:SFWB Church\, 826 Stanley Spencer Mountain Rd\, Gastonia\, NC\, 28056\, United States
END:VEVENT
BEGIN:VEVENT
DTSTART;TZID=UTC:20201126T190000
DTEND;TZID=UTC:20201126T210000
DTSTAMP:20260425T102540
CREATED:20201108T153306Z
LAST-MODIFIED:20201108T153306Z
UID:1056-1606417200-1606424400@sfwbchurch.com
SUMMARY:Springwood Special Thanksgiving Service
DESCRIPTION:
URL:https://sfwbchurch.com/event/springwood-special-thanksgiving-service/
LOCATION:SFWB Church\, 826 Stanley Spencer Mountain Rd\, Gastonia\, NC\, 28056\, United States
END:VEVENT
BEGIN:VEVENT
DTSTART;TZID=UTC:20201120T183000
DTEND;TZID=UTC:20201120T183000
DTSTAMP:20260425T102540
CREATED:20201108T153218Z
LAST-MODIFIED:20201108T153218Z
UID:1053-1605897000-1605897000@sfwbchurch.com
SUMMARY:Teens Sunday School Hearts on Fire Lock in
DESCRIPTION:All Springwood teens are invited to the Virtual Hearts on Fire conference.
URL:https://sfwbchurch.com/event/teens-sunday-school-hearts-on-fire-lock-in/
END:VEVENT
BEGIN:VEVENT
DTSTART;TZID=UTC:20201113T183000
DTEND;TZID=UTC:20201113T203000
DTSTAMP:20260425T102540
CREATED:20201108T153010Z
LAST-MODIFIED:20201108T153010Z
UID:1050-1605292200-1605299400@sfwbchurch.com
SUMMARY:Dinner & Movie Night
DESCRIPTION:All 50 and up adults are invited to join Preacher for dinner & a movie.\nStarts at 6:30pm
URL:https://sfwbchurch.com/event/dinner-movie-night/
LOCATION:Church Property\, 5321 Hickory Grove Rd.\, Stanley\, NC\, 28164\, United States
END:VEVENT
END:VCALENDAR