BEGIN:VCALENDAR
VERSION:2.0
PRODID:-//Springwood Free Will Baptist Church - ECPv6.15.20//NONSGML v1.0//EN
CALSCALE:GREGORIAN
METHOD:PUBLISH
X-ORIGINAL-URL:https://sfwbchurch.com
X-WR-CALDESC:Events for Springwood Free Will Baptist Church
REFRESH-INTERVAL;VALUE=DURATION:PT1H
X-Robots-Tag:noindex
X-PUBLISHED-TTL:PT1H
BEGIN:VTIMEZONE
TZID:UTC
BEGIN:STANDARD
TZOFFSETFROM:+0000
TZOFFSETTO:+0000
TZNAME:UTC
DTSTART:20230101T000000
END:STANDARD
END:VTIMEZONE
BEGIN:VEVENT
DTSTART;TZID=UTC:20240303T163000
DTEND;TZID=UTC:20240303T173000
DTSTAMP:20260423T195005
CREATED:20240301T153025Z
LAST-MODIFIED:20240301T153025Z
UID:2363-1709483400-1709487000@sfwbchurch.com
SUMMARY:Deacon/Advisory Board Meeting & Ladies Auxiliary
DESCRIPTION:
URL:https://sfwbchurch.com/event/deacon-advisory-board-meeting-ladies-auxiliary/
END:VEVENT
BEGIN:VEVENT
DTSTART;TZID=UTC:20240228T183000
DTEND;TZID=UTC:20240228T200000
DTSTAMP:20260423T195005
CREATED:20240124T174643Z
LAST-MODIFIED:20240124T174643Z
UID:2325-1709145000-1709150400@sfwbchurch.com
SUMMARY:WORSHIP & KINGDOM SEEKERS
DESCRIPTION:KITCHEN – LOU \nBABIES – ANN \nK-5TH GRADES – LEXI \n6TH-12TH GRADES – JAMIE
URL:https://sfwbchurch.com/event/worship-kingdom-seekers-2/
END:VEVENT
BEGIN:VEVENT
DTSTART;TZID=UTC:20240226T183000
DTEND;TZID=UTC:20240226T200000
DTSTAMP:20260423T195005
CREATED:20240124T171349Z
LAST-MODIFIED:20240124T171349Z
UID:2282-1708972200-1708977600@sfwbchurch.com
SUMMARY:GRIEF SHARE
DESCRIPTION:
URL:https://sfwbchurch.com/event/grief-share-7/
END:VEVENT
BEGIN:VEVENT
DTSTART;TZID=UTC:20240225T163000
DTEND;TZID=UTC:20240225T173000
DTSTAMP:20260423T195005
CREATED:20240124T171928Z
LAST-MODIFIED:20240124T171928Z
UID:2306-1708878600-1708882200@sfwbchurch.com
SUMMARY:YOUTH CHOIR PRACTICE
DESCRIPTION:
URL:https://sfwbchurch.com/event/youth-choir-practice-19/
END:VEVENT
BEGIN:VEVENT
DTSTART;VALUE=DATE:20240225
DTEND;VALUE=DATE:20240226
DTSTAMP:20260423T195005
CREATED:20240124T171900Z
LAST-MODIFIED:20240124T171900Z
UID:2303-1708819200-1708905599@sfwbchurch.com
SUMMARY:FRIENDS & FAMILY SUNDAY
DESCRIPTION:
URL:https://sfwbchurch.com/event/friends-family-sunday/
END:VEVENT
BEGIN:VEVENT
DTSTART;TZID=UTC:20240224T160000
DTEND;TZID=UTC:20240224T190000
DTSTAMP:20260423T195005
CREATED:20240124T171639Z
LAST-MODIFIED:20240124T171639Z
UID:2294-1708790400-1708801200@sfwbchurch.com
SUMMARY:MARRIAGE WORKSHOP
DESCRIPTION:
URL:https://sfwbchurch.com/event/marriage-workshop/
END:VEVENT
BEGIN:VEVENT
DTSTART;TZID=UTC:20240223T160000
DTEND;TZID=UTC:20240223T230000
DTSTAMP:20260423T195005
CREATED:20240124T173736Z
LAST-MODIFIED:20240124T173736Z
UID:2315-1708704000-1708729200@sfwbchurch.com
SUMMARY:WINTER JAM
DESCRIPTION:CONTACT EMILY WELCH FOR MORE INFORMATION
URL:https://sfwbchurch.com/event/winter-jam/
END:VEVENT
BEGIN:VEVENT
DTSTART;TZID=UTC:20240221T183000
DTEND;TZID=UTC:20240221T200000
DTSTAMP:20260423T195005
CREATED:20240124T174541Z
LAST-MODIFIED:20240124T174541Z
UID:2322-1708540200-1708545600@sfwbchurch.com
SUMMARY:WORSHIP & KINGDOM SEEKERS
DESCRIPTION:KITCHEN – DORIS \nBABIES – CAROLINE \nK-5TH GRADES – KAYLA H \n6TH-12TH GRADES – RONNIE
URL:https://sfwbchurch.com/event/worship-kingdom-seekers/
END:VEVENT
BEGIN:VEVENT
DTSTART;TZID=UTC:20240219T183000
DTEND;TZID=UTC:20240219T200000
DTSTAMP:20260423T195005
CREATED:20240124T171327Z
LAST-MODIFIED:20240124T171327Z
UID:2279-1708367400-1708372800@sfwbchurch.com
SUMMARY:GRIEF SHARE
DESCRIPTION:
URL:https://sfwbchurch.com/event/grief-share-6/
END:VEVENT
BEGIN:VEVENT
DTSTART;TZID=UTC:20240219T180000
DTEND;TZID=UTC:20240219T200000
DTSTAMP:20260423T195005
CREATED:20240124T171959Z
LAST-MODIFIED:20240124T171959Z
UID:2309-1708365600-1708372800@sfwbchurch.com
SUMMARY:YOUTH TRIP: ALTITUDE
DESCRIPTION:
URL:https://sfwbchurch.com/event/youth-trip-altitude/
END:VEVENT
BEGIN:VEVENT
DTSTART;TZID=UTC:20240217T110000
DTEND;TZID=UTC:20240217T140000
DTSTAMP:20260423T195005
CREATED:20240124T171553Z
LAST-MODIFIED:20240124T171553Z
UID:2291-1708167600-1708178400@sfwbchurch.com
SUMMARY:HOMELESS MINISTRY
DESCRIPTION:
URL:https://sfwbchurch.com/event/homeless-ministry-19/
END:VEVENT
BEGIN:VEVENT
DTSTART;TZID=UTC:20240214T183000
DTEND;TZID=UTC:20240214T200000
DTSTAMP:20260423T195005
CREATED:20231026T205352Z
LAST-MODIFIED:20240124T174326Z
UID:2151-1707935400-1707940800@sfwbchurch.com
SUMMARY:Wednesday Night Kingdom Seekers
DESCRIPTION:RENEA – Kitchen \nMCKENZIE – Babies-Pre-K \nStephanie – K-5th Grades \nLEVI – 6th-12th Grades
URL:https://sfwbchurch.com/event/wednesday-night-kingdom-seekers-8/
END:VEVENT
BEGIN:VEVENT
DTSTART;TZID=UTC:20240212T183000
DTEND;TZID=UTC:20240212T200000
DTSTAMP:20260423T195005
CREATED:20240124T171301Z
LAST-MODIFIED:20240124T171301Z
UID:2276-1707762600-1707768000@sfwbchurch.com
SUMMARY:GRIEF SHARE
DESCRIPTION:
URL:https://sfwbchurch.com/event/grief-share-5/
END:VEVENT
BEGIN:VEVENT
DTSTART;TZID=UTC:20240211T163000
DTEND;TZID=UTC:20240211T173000
DTSTAMP:20260423T195005
CREATED:20240124T171807Z
LAST-MODIFIED:20240124T171807Z
UID:2300-1707669000-1707672600@sfwbchurch.com
SUMMARY:ADULT CHOIR PRACTICE
DESCRIPTION:
URL:https://sfwbchurch.com/event/adult-choir-practice-12/
END:VEVENT
BEGIN:VEVENT
DTSTART;TZID=UTC:20240210T080000
DTEND;TZID=UTC:20240210T110000
DTSTAMP:20260423T195005
CREATED:20240124T171527Z
LAST-MODIFIED:20240124T171527Z
UID:2288-1707552000-1707562800@sfwbchurch.com
SUMMARY:CHURCH WORKDAY
DESCRIPTION:
URL:https://sfwbchurch.com/event/church-workday-2/
END:VEVENT
BEGIN:VEVENT
DTSTART;TZID=UTC:20240208T120000
DTEND;TZID=UTC:20240208T130000
DTSTAMP:20260423T195005
CREATED:20240124T173641Z
LAST-MODIFIED:20240124T173641Z
UID:2312-1707393600-1707397200@sfwbchurch.com
SUMMARY:SENIOR LADIES LUNCH BUNCH
DESCRIPTION:THE SMOKE PIT IN GASTONIA NEAR TARGET \nRSVP TO CINDY POSEY
URL:https://sfwbchurch.com/event/senior-ladies-lunch-bunch-3/
END:VEVENT
BEGIN:VEVENT
DTSTART;TZID=UTC:20240207T183000
DTEND;TZID=UTC:20240207T200000
DTSTAMP:20260423T195005
CREATED:20231026T201414Z
LAST-MODIFIED:20231121T195401Z
UID:2114-1707330600-1707336000@sfwbchurch.com
SUMMARY:Wednesday Night Kingdom Seekers
DESCRIPTION:Debbie – Kitchen \nJoni – Babies-Pre-K \nKelly – K-5th Grades \nLevi – 6th-12th Grades
URL:https://sfwbchurch.com/event/wednesday-night-kingdom-seekers-4/
END:VEVENT
BEGIN:VEVENT
DTSTART;TZID=UTC:20240205T183000
DTEND;TZID=UTC:20240205T200000
DTSTAMP:20260423T195005
CREATED:20240124T171155Z
LAST-MODIFIED:20240124T171212Z
UID:2272-1707157800-1707163200@sfwbchurch.com
SUMMARY:GRIEF SHARE
DESCRIPTION:
URL:https://sfwbchurch.com/event/greif-share/
END:VEVENT
BEGIN:VEVENT
DTSTART;TZID=UTC:20240204T163000
DTEND;TZID=UTC:20240204T173000
DTSTAMP:20260423T195005
CREATED:20240124T171744Z
LAST-MODIFIED:20240124T171744Z
UID:2297-1707064200-1707067800@sfwbchurch.com
SUMMARY:DEACON/ADVISORY BOARD MTG & LADIES AUXILIARY MTG
DESCRIPTION:
URL:https://sfwbchurch.com/event/deacon-advisory-board-mtg-ladies-auxiliary-mtg/
END:VEVENT
BEGIN:VEVENT
DTSTART;TZID=UTC:20240203T160000
DTEND;TZID=UTC:20240203T190000
DTSTAMP:20260423T195005
CREATED:20240124T171457Z
LAST-MODIFIED:20240124T171457Z
UID:2285-1706976000-1706986800@sfwbchurch.com
SUMMARY:VALENTINE'S MYSTERY DINNER THEATRE
DESCRIPTION:
URL:https://sfwbchurch.com/event/valentines-mystery-dinner-theatre/
END:VEVENT
BEGIN:VEVENT
DTSTART;TZID=UTC:20240203T080000
DTEND;TZID=UTC:20240203T170000
DTSTAMP:20260423T195005
CREATED:20240102T202219Z
LAST-MODIFIED:20240102T202219Z
UID:2253-1706947200-1706979600@sfwbchurch.com
SUMMARY:Foothills Association Meeting at Sulphur Springs FWB
DESCRIPTION:
URL:https://sfwbchurch.com/event/foothills-association-meeting-at-sulphur-springs-fwb/
END:VEVENT
BEGIN:VEVENT
DTSTART;TZID=UTC:20240131T183000
DTEND;TZID=UTC:20240131T200000
DTSTAMP:20260423T195005
CREATED:20240102T184246Z
LAST-MODIFIED:20240102T201447Z
UID:2218-1706725800-1706731200@sfwbchurch.com
SUMMARY:Worship Service & KINGDOM SEEKERS
DESCRIPTION:5th Wednesday Night \nCindy P. & Theresa – Kitchen \nKim F. – Babies \nLexi – K-5th grades \nLevi – 6th-12th grades \n 
URL:https://sfwbchurch.com/event/worship-service-kingdom-seekers-3/
END:VEVENT
BEGIN:VEVENT
DTSTART;TZID=UTC:20240129T183000
DTEND;TZID=UTC:20240129T200000
DTSTAMP:20260423T195005
CREATED:20240102T183533Z
LAST-MODIFIED:20240102T183533Z
UID:2209-1706553000-1706558400@sfwbchurch.com
SUMMARY:GRIEF SHARE
DESCRIPTION:
URL:https://sfwbchurch.com/event/grief-share-4/
END:VEVENT
BEGIN:VEVENT
DTSTART;TZID=UTC:20240128T163000
DTEND;TZID=UTC:20240128T173000
DTSTAMP:20260423T195005
CREATED:20240102T184629Z
LAST-MODIFIED:20240102T184629Z
UID:2230-1706459400-1706463000@sfwbchurch.com
SUMMARY:Youth Choir Practice
DESCRIPTION:
URL:https://sfwbchurch.com/event/youth-choir-practice-20/
END:VEVENT
BEGIN:VEVENT
DTSTART;TZID=UTC:20240124T183000
DTEND;TZID=UTC:20240124T200000
DTSTAMP:20260423T195005
CREATED:20240102T184124Z
LAST-MODIFIED:20240102T184124Z
UID:2215-1706121000-1706126400@sfwbchurch.com
SUMMARY:Worship Service & KINGDOM SEEKERS
DESCRIPTION:4th Wednesday Night \nLou – Kitchen \nAnn – Babies \nLexi – K-5th grades \nJamie – 6th-12th grades
URL:https://sfwbchurch.com/event/worship-service-kingdom-seekers-2/
END:VEVENT
BEGIN:VEVENT
DTSTART;TZID=UTC:20240122T183000
DTEND;TZID=UTC:20240122T200000
DTSTAMP:20260423T195005
CREATED:20240102T183507Z
LAST-MODIFIED:20240102T183507Z
UID:2206-1705948200-1705953600@sfwbchurch.com
SUMMARY:GRIEF SHARE
DESCRIPTION:
URL:https://sfwbchurch.com/event/grief-share-3/
END:VEVENT
BEGIN:VEVENT
DTSTART;TZID=UTC:20240120T110000
DTEND;TZID=UTC:20240120T130000
DTSTAMP:20260423T195005
CREATED:20240102T202027Z
LAST-MODIFIED:20240102T202027Z
UID:2250-1705748400-1705755600@sfwbchurch.com
SUMMARY:Homeless Ministry
DESCRIPTION:
URL:https://sfwbchurch.com/event/homeless-ministry-18/
END:VEVENT
BEGIN:VEVENT
DTSTART;TZID=UTC:20240119T110000
DTEND;TZID=UTC:20240119T170000
DTSTAMP:20260423T195005
CREATED:20240102T201754Z
LAST-MODIFIED:20240102T201754Z
UID:2241-1705662000-1705683600@sfwbchurch.com
SUMMARY:Senior Saints Trip to The Billy Graham Library
DESCRIPTION:
URL:https://sfwbchurch.com/event/senior-saints-trip-to-the-billy-graham-library/
END:VEVENT
BEGIN:VEVENT
DTSTART;TZID=UTC:20240117T183000
DTEND;TZID=UTC:20240117T200000
DTSTAMP:20260423T195005
CREATED:20240102T184012Z
LAST-MODIFIED:20240102T184012Z
UID:2212-1705516200-1705521600@sfwbchurch.com
SUMMARY:Worship Service & KINGDOM SEEKERS
DESCRIPTION:3rd Wednesday Night \nDoris – Kitchen \nCaroline – Babies \nKayla H. – K-5th grades \nRonnie – 6th-12th grades
URL:https://sfwbchurch.com/event/worship-service-kingdom-seekers/
END:VEVENT
BEGIN:VEVENT
DTSTART;TZID=UTC:20240115T183000
DTEND;TZID=UTC:20240115T200000
DTSTAMP:20260423T195005
CREATED:20240102T183445Z
LAST-MODIFIED:20240102T183445Z
UID:2203-1705343400-1705348800@sfwbchurch.com
SUMMARY:GRIEF SHARE
DESCRIPTION:
URL:https://sfwbchurch.com/event/grief-share-2/
END:VEVENT
END:VCALENDAR