BEGIN:VCALENDAR
VERSION:2.0
PRODID:-//Springwood Free Will Baptist Church - ECPv6.15.20//NONSGML v1.0//EN
CALSCALE:GREGORIAN
METHOD:PUBLISH
X-WR-CALNAME:Springwood Free Will Baptist Church
X-ORIGINAL-URL:https://sfwbchurch.com
X-WR-CALDESC:Events for Springwood Free Will Baptist Church
REFRESH-INTERVAL;VALUE=DURATION:PT1H
X-Robots-Tag:noindex
X-PUBLISHED-TTL:PT1H
BEGIN:VTIMEZONE
TZID:UTC
BEGIN:STANDARD
TZOFFSETFROM:+0000
TZOFFSETTO:+0000
TZNAME:UTC
DTSTART:20210101T000000
END:STANDARD
END:VTIMEZONE
BEGIN:VEVENT
DTSTART;TZID=UTC:20221013T080000
DTEND;TZID=UTC:20221015T170000
DTSTAMP:20260425T021824
CREATED:20220726T184334Z
LAST-MODIFIED:20220726T184334Z
UID:1441-1665648000-1665853200@sfwbchurch.com
SUMMARY:Ark Encounter Trip
DESCRIPTION:
URL:https://sfwbchurch.com/event/ark-encounter-trip/
END:VEVENT
BEGIN:VEVENT
DTSTART;TZID=UTC:20221012T190000
DTEND;TZID=UTC:20221012T190000
DTSTAMP:20260425T021824
CREATED:20220726T183356Z
LAST-MODIFIED:20220726T183356Z
UID:1407-1665601200-1665601200@sfwbchurch.com
SUMMARY:Wednesday Night Worship Service
DESCRIPTION:6:45 Prayer Room\n7:00pm- Kingdom Seekers Youth Ministry
URL:https://sfwbchurch.com/event/wednesday-night-worship-service-26/
END:VEVENT
BEGIN:VEVENT
DTSTART;VALUE=DATE:20221009
DTEND;VALUE=DATE:20221010
DTSTAMP:20260425T021824
CREATED:20220726T183757Z
LAST-MODIFIED:20220726T183757Z
UID:1419-1665273600-1665359999@sfwbchurch.com
SUMMARY:Nursery Schedule
DESCRIPTION:AM- Mandi\nPM- Kim B.
URL:https://sfwbchurch.com/event/nursery-schedule-23/
END:VEVENT
BEGIN:VEVENT
DTSTART;VALUE=DATE:20221008
DTEND;VALUE=DATE:20221009
DTSTAMP:20260425T021824
CREATED:20220726T184236Z
LAST-MODIFIED:20220726T184236Z
UID:1438-1665187200-1665273599@sfwbchurch.com
SUMMARY:Creeper Trail Trip
DESCRIPTION:
URL:https://sfwbchurch.com/event/creeper-trail-trip-2/
END:VEVENT
BEGIN:VEVENT
DTSTART;TZID=UTC:20221005T190000
DTEND;TZID=UTC:20221005T190000
DTSTAMP:20260425T021824
CREATED:20220726T183216Z
LAST-MODIFIED:20220726T183216Z
UID:1404-1664996400-1664996400@sfwbchurch.com
SUMMARY:Wednesday Night Worship Service
DESCRIPTION:6:45 Prayer Room\n7:00pm- Kingdom Seekers Youth Ministry
URL:https://sfwbchurch.com/event/wednesday-night-worship-service-25/
END:VEVENT
BEGIN:VEVENT
DTSTART;VALUE=DATE:20221002
DTEND;VALUE=DATE:20221003
DTSTAMP:20260425T021824
CREATED:20220726T183721Z
LAST-MODIFIED:20220726T183721Z
UID:1416-1664668800-1664755199@sfwbchurch.com
SUMMARY:Nursery Schedule
DESCRIPTION:AM- Stephanie H.\nPM- Alexis W.
URL:https://sfwbchurch.com/event/nursery-schedule-22/
END:VEVENT
BEGIN:VEVENT
DTSTART;TZID=UTC:20220928T080000
DTEND;TZID=UTC:20220928T170000
DTSTAMP:20260425T021824
CREATED:20220608T192712Z
LAST-MODIFIED:20220608T192712Z
UID:1387-1664352000-1664384400@sfwbchurch.com
SUMMARY:Wednesday Night Worship Service
DESCRIPTION:6:45pm- Prayer Room\n7:00pm- Kingdom Seekers Youth Ministry
URL:https://sfwbchurch.com/event/wednesday-night-worship-service-23/
END:VEVENT
BEGIN:VEVENT
DTSTART;TZID=UTC:20220925T160000
DTEND;TZID=UTC:20220925T173000
DTSTAMP:20260425T021824
CREATED:20220608T192544Z
LAST-MODIFIED:20220608T192544Z
UID:1384-1664121600-1664127000@sfwbchurch.com
SUMMARY:Youth Choir Practice
DESCRIPTION:
URL:https://sfwbchurch.com/event/youth-choir-practice-6/
END:VEVENT
BEGIN:VEVENT
DTSTART;VALUE=DATE:20220925
DTEND;VALUE=DATE:20220926
DTSTAMP:20260425T021824
CREATED:20220608T192511Z
LAST-MODIFIED:20220608T192511Z
UID:1381-1664064000-1664150399@sfwbchurch.com
SUMMARY:Nursery Schedule
DESCRIPTION:AM- Beth\nPM- Ann
URL:https://sfwbchurch.com/event/nursery-schedule-21/
END:VEVENT
BEGIN:VEVENT
DTSTART;VALUE=DATE:20220923
DTEND;VALUE=DATE:20220925
DTSTAMP:20260425T021824
CREATED:20220608T192335Z
LAST-MODIFIED:20220608T193827Z
UID:1377-1663891200-1664063999@sfwbchurch.com
SUMMARY:Youth Lock-In
DESCRIPTION:Friday night fun for everyone\, including a bonfire at the land. Kids ages 10+ can spend the night. Kids 9 and under can spend the night with a parent. Saturday fun at Bo’s Family Entertainment in Lenoir.
URL:https://sfwbchurch.com/event/youth-lock-in-2/
END:VEVENT
BEGIN:VEVENT
DTSTART;TZID=UTC:20220921T080000
DTEND;TZID=UTC:20220921T170000
DTSTAMP:20260425T021824
CREATED:20220608T191949Z
LAST-MODIFIED:20220608T191949Z
UID:1374-1663747200-1663779600@sfwbchurch.com
SUMMARY:Wednesday Night Worship Service
DESCRIPTION:6:45pm- Prayer Room\n7:00pm- Kingdom Seekers Youth Ministry
URL:https://sfwbchurch.com/event/wednesday-night-worship-service-22/
END:VEVENT
BEGIN:VEVENT
DTSTART;VALUE=DATE:20220918
DTEND;VALUE=DATE:20220919
DTSTAMP:20260425T021824
CREATED:20220608T191814Z
LAST-MODIFIED:20220608T191814Z
UID:1371-1663459200-1663545599@sfwbchurch.com
SUMMARY:Nursery Schedule
DESCRIPTION:AM- Kayla\nPM- Elizabeth
URL:https://sfwbchurch.com/event/nursery-schedule-20/
END:VEVENT
BEGIN:VEVENT
DTSTART;TZID=UTC:20220917T110000
DTEND;TZID=UTC:20220917T140000
DTSTAMP:20260425T021824
CREATED:20220608T191227Z
LAST-MODIFIED:20220608T191710Z
UID:1368-1663412400-1663423200@sfwbchurch.com
SUMMARY:Homeless ministry
DESCRIPTION:
URL:https://sfwbchurch.com/event/homeless-ministry-3/
LOCATION:City Set on A Hill Ministry\, 1299 W Franklin Blvd\, Gastonia\, NC\, 28052\, United States
END:VEVENT
BEGIN:VEVENT
DTSTART;TZID=UTC:20220916T180000
DTEND;TZID=UTC:20220916T180000
DTSTAMP:20260425T021824
CREATED:20220608T191137Z
LAST-MODIFIED:20220608T191137Z
UID:1365-1663351200-1663351200@sfwbchurch.com
SUMMARY:Party With the Preacher
DESCRIPTION:
URL:https://sfwbchurch.com/event/party-with-the-preacher-3/
END:VEVENT
BEGIN:VEVENT
DTSTART;TZID=UTC:20220914T190000
DTEND;TZID=UTC:20220914T190000
DTSTAMP:20260425T021824
CREATED:20220608T194331Z
LAST-MODIFIED:20220608T194331Z
UID:1399-1663182000-1663182000@sfwbchurch.com
SUMMARY:Wednesday Night Worship Service
DESCRIPTION:6:45 Prayer Room\n7:00pm- Kingdom Seekers Youth Ministry
URL:https://sfwbchurch.com/event/wednesday-night-worship-service-24/
END:VEVENT
BEGIN:VEVENT
DTSTART;TZID=UTC:20220911T080000
DTEND;TZID=UTC:20220911T170000
DTSTAMP:20260425T021824
CREATED:20220608T191043Z
LAST-MODIFIED:20220608T191043Z
UID:1362-1662883200-1662915600@sfwbchurch.com
SUMMARY:Pastor Appreciation Dinner
DESCRIPTION:Following Morning service we will hold a pastor appreciation dinner. Cook like it’s homecoming!
URL:https://sfwbchurch.com/event/pastor-appreciation-dinner/
END:VEVENT
BEGIN:VEVENT
DTSTART;VALUE=DATE:20220911
DTEND;VALUE=DATE:20220912
DTSTAMP:20260425T021824
CREATED:20220608T190844Z
LAST-MODIFIED:20220608T190844Z
UID:1359-1662854400-1662940799@sfwbchurch.com
SUMMARY:Nursery Schedule
DESCRIPTION:AM- Kim B.\nPM- Mandi
URL:https://sfwbchurch.com/event/nursery-schedule-13/
END:VEVENT
BEGIN:VEVENT
DTSTART;TZID=UTC:20220907T190000
DTEND;TZID=UTC:20220907T190000
DTSTAMP:20260425T021824
CREATED:20220608T190635Z
LAST-MODIFIED:20220608T190635Z
UID:1356-1662577200-1662577200@sfwbchurch.com
SUMMARY:Wednesday Night Worship Service
DESCRIPTION:6:45pm- Prayer Room\n7:00pm- Kingdom Seekers Youth Ministry
URL:https://sfwbchurch.com/event/wednesday-night-worship-service-10/
END:VEVENT
BEGIN:VEVENT
DTSTART;VALUE=DATE:20220907
DTEND;VALUE=DATE:20220908
DTSTAMP:20260425T021824
CREATED:20220608T190215Z
LAST-MODIFIED:20220608T190215Z
UID:1352-1662508800-1662595199@sfwbchurch.com
SUMMARY:Pastor Appreciation
DESCRIPTION:Pastor Appreciation of 19 years!
URL:https://sfwbchurch.com/event/pastor-appreciation/
END:VEVENT
BEGIN:VEVENT
DTSTART;VALUE=DATE:20220904
DTEND;VALUE=DATE:20220905
DTSTAMP:20260425T021824
CREATED:20220608T190018Z
LAST-MODIFIED:20220608T190018Z
UID:1346-1662249600-1662335999@sfwbchurch.com
SUMMARY:Nursery Schedule
DESCRIPTION:AM- Alexis\nPM- Stephanie
URL:https://sfwbchurch.com/event/nursery-schedule-19/
END:VEVENT
BEGIN:VEVENT
DTSTART;VALUE=DATE:20220903
DTEND;VALUE=DATE:20220904
DTSTAMP:20260425T021824
CREATED:20220608T185854Z
LAST-MODIFIED:20220608T185854Z
UID:1342-1662163200-1662249599@sfwbchurch.com
SUMMARY:District Ladies Auxiliary Meeting
DESCRIPTION:
URL:https://sfwbchurch.com/event/district-ladies-auxiliary-meeting-4/
END:VEVENT
BEGIN:VEVENT
DTSTART;TZID=UTC:20220831T190000
DTEND;TZID=UTC:20220831T190000
DTSTAMP:20260425T021824
CREATED:20220608T184623Z
LAST-MODIFIED:20220608T184623Z
UID:1330-1661972400-1661972400@sfwbchurch.com
SUMMARY:Wednesday Night Worship Service
DESCRIPTION:6:45pm- prayer room\n7:00pm- Kingdom Seekers Youth Ministry
URL:https://sfwbchurch.com/event/wednesday-night-worship-service-20/
END:VEVENT
BEGIN:VEVENT
DTSTART;TZID=UTC:20220828T160000
DTEND;TZID=UTC:20220828T173000
DTSTAMP:20260425T021824
CREATED:20220608T184904Z
LAST-MODIFIED:20220608T184904Z
UID:1339-1661702400-1661707800@sfwbchurch.com
SUMMARY:Youth Choir Practice
DESCRIPTION:
URL:https://sfwbchurch.com/event/youth-choir-practice-5/
END:VEVENT
BEGIN:VEVENT
DTSTART;VALUE=DATE:20220828
DTEND;VALUE=DATE:20220829
DTSTAMP:20260425T021824
CREATED:20220608T184836Z
LAST-MODIFIED:20220608T184836Z
UID:1336-1661644800-1661731199@sfwbchurch.com
SUMMARY:Nursery Schedule
DESCRIPTION:AM- Ann\nPM- Beth
URL:https://sfwbchurch.com/event/nursery-schedule-18/
END:VEVENT
BEGIN:VEVENT
DTSTART;TZID=UTC:20220824T190000
DTEND;TZID=UTC:20220824T190000
DTSTAMP:20260425T021824
CREATED:20220608T184522Z
LAST-MODIFIED:20220608T184531Z
UID:1327-1661367600-1661367600@sfwbchurch.com
SUMMARY:Wednesday Night worship Service
DESCRIPTION:6:45pm- prayer room\n7:00pm- Kingdom Seekers Youth Ministry
URL:https://sfwbchurch.com/event/wednesday-night-worship-service-19/
END:VEVENT
BEGIN:VEVENT
DTSTART;VALUE=DATE:20220821
DTEND;VALUE=DATE:20220822
DTSTAMP:20260425T021824
CREATED:20220608T184742Z
LAST-MODIFIED:20220608T184742Z
UID:1333-1661040000-1661126399@sfwbchurch.com
SUMMARY:Nursery Schedule
DESCRIPTION:AM- Elizabeth\nPM- Kayla
URL:https://sfwbchurch.com/event/nursery-schedule-17/
END:VEVENT
BEGIN:VEVENT
DTSTART;TZID=UTC:20220820T110000
DTEND;TZID=UTC:20220820T140000
DTSTAMP:20260425T021824
CREATED:20220608T184242Z
LAST-MODIFIED:20220608T184242Z
UID:1321-1660993200-1661004000@sfwbchurch.com
SUMMARY:Homeless Ministry
DESCRIPTION:
URL:https://sfwbchurch.com/event/homeless-ministry-4/
LOCATION:City Set on A Hill Ministry\, 1299 W Franklin Blvd\, Gastonia\, NC\, 28052\, United States
END:VEVENT
BEGIN:VEVENT
DTSTART;TZID=UTC:20220820T090000
DTEND;TZID=UTC:20220820T130000
DTSTAMP:20260425T021824
CREATED:20220608T183904Z
LAST-MODIFIED:20220608T193702Z
UID:1316-1660986000-1661000400@sfwbchurch.com
SUMMARY:Kool Park Pool -Youth Outing
DESCRIPTION:
URL:https://sfwbchurch.com/event/kool-park-pool-youth-outing/
LOCATION:Kool Park Pool\, 3170 31st Ave Ct NE\, Hickory\, NC 28601\, United States
END:VEVENT
BEGIN:VEVENT
DTSTART;TZID=UTC:20220819T180000
DTEND;TZID=UTC:20220819T200000
DTSTAMP:20260425T021824
CREATED:20220608T183614Z
LAST-MODIFIED:20220608T183625Z
UID:1310-1660932000-1660939200@sfwbchurch.com
SUMMARY:Party With the Preacher
DESCRIPTION:
URL:https://sfwbchurch.com/event/party-with-the-preacher-2/
END:VEVENT
BEGIN:VEVENT
DTSTART;TZID=UTC:20220817T190000
DTEND;TZID=UTC:20220817T190000
DTSTAMP:20260425T021824
CREATED:20220608T184423Z
LAST-MODIFIED:20220608T184423Z
UID:1324-1660762800-1660762800@sfwbchurch.com
SUMMARY:Wednesday Night Worship service
DESCRIPTION:6:45pm- prayer room\n7:00pm- Kingdom Seekers Youth Ministry
URL:https://sfwbchurch.com/event/wednesday-night-worship-service-18/
END:VEVENT
END:VCALENDAR