BEGIN:VCALENDAR
VERSION:2.0
PRODID:-//Springwood Free Will Baptist Church - ECPv6.15.20//NONSGML v1.0//EN
CALSCALE:GREGORIAN
METHOD:PUBLISH
X-WR-CALNAME:Springwood Free Will Baptist Church
X-ORIGINAL-URL:https://sfwbchurch.com
X-WR-CALDESC:Events for Springwood Free Will Baptist Church
REFRESH-INTERVAL;VALUE=DURATION:PT1H
X-Robots-Tag:noindex
X-PUBLISHED-TTL:PT1H
BEGIN:VTIMEZONE
TZID:UTC
BEGIN:STANDARD
TZOFFSETFROM:+0000
TZOFFSETTO:+0000
TZNAME:UTC
DTSTART:20210101T000000
END:STANDARD
END:VTIMEZONE
BEGIN:VEVENT
DTSTART;TZID=UTC:20221127T160000
DTEND;TZID=UTC:20221127T173000
DTSTAMP:20260424T234411
CREATED:20221001T222721Z
LAST-MODIFIED:20221001T222721Z
UID:1509-1669564800-1669570200@sfwbchurch.com
SUMMARY:Youth Choir Practice
DESCRIPTION:
URL:https://sfwbchurch.com/event/youth-choir-practice-8/
END:VEVENT
BEGIN:VEVENT
DTSTART;VALUE=DATE:20221127
DTEND;VALUE=DATE:20221128
DTSTAMP:20260424T234411
CREATED:20221001T222645Z
LAST-MODIFIED:20221001T222645Z
UID:1505-1669507200-1669593599@sfwbchurch.com
SUMMARY:Nursery Schedule
DESCRIPTION:AM: Beth\nPM: Ann
URL:https://sfwbchurch.com/event/nursery-schedule-29/
END:VEVENT
BEGIN:VEVENT
DTSTART;TZID=UTC:20221123T190000
DTEND;TZID=UTC:20221123T190000
DTSTAMP:20260424T234411
CREATED:20221001T221755Z
LAST-MODIFIED:20221001T221755Z
UID:1479-1669230000-1669230000@sfwbchurch.com
SUMMARY:Wednesday Night Worship Service
DESCRIPTION:6:45 Prayer Room\n7:00pm- Kingdom Seekers Youth Ministry\n7:00pm Worship Service
URL:https://sfwbchurch.com/event/wednesday-night-worship-service-32/
END:VEVENT
BEGIN:VEVENT
DTSTART;VALUE=DATE:20221120
DTEND;VALUE=DATE:20221121
DTSTAMP:20260424T234411
CREATED:20221001T222611Z
LAST-MODIFIED:20221001T222611Z
UID:1502-1668902400-1668988799@sfwbchurch.com
SUMMARY:Nursery Schedule
DESCRIPTION:AM: Kayla\nPM: Elizabeth
URL:https://sfwbchurch.com/event/nursery-schedule-28/
END:VEVENT
BEGIN:VEVENT
DTSTART;TZID=UTC:20221119T110000
DTEND;TZID=UTC:20221119T140000
DTSTAMP:20260424T234411
CREATED:20221001T222330Z
LAST-MODIFIED:20221001T222330Z
UID:1493-1668855600-1668866400@sfwbchurch.com
SUMMARY:Homeless Ministry
DESCRIPTION:
URL:https://sfwbchurch.com/event/homeless-ministry-6/
LOCATION:City Set on A Hill Ministry\, 1299 W Franklin Blvd\, Gastonia\, NC\, 28052\, United States
END:VEVENT
BEGIN:VEVENT
DTSTART;VALUE=DATE:20221117
DTEND;VALUE=DATE:20221120
DTSTAMP:20260424T234411
CREATED:20221001T222209Z
LAST-MODIFIED:20221001T222209Z
UID:1490-1668643200-1668902399@sfwbchurch.com
SUMMARY:Hearts on Fire Trip
DESCRIPTION:This trip is for kids ages 10 and up and youth leaders only.\nFriday Hearts on Fire Schedule (Alpha Session)\nSession 1- Doors open 5:30pm\nSession 1- Meet for Prayer 5:45pm-6:00pm\nSession1- Praise and Worship 6:00pm-8:00pm\nSaturday Hearts On Fire Schedule (Alpha Session)\nSession 2- Doors Open 7:30am\nSession 2- Praise and Worship 8:00am-9:30am\nSession 2-Lunch Break 10:00am-2:00pm\nSession 3 Doors open -2:30pm\nSession3- Concerts; We Are The Messengers\, and Chris Tomlin 3:00pm-5:00pm
URL:https://sfwbchurch.com/event/hearts-on-fire-trip/
END:VEVENT
BEGIN:VEVENT
DTSTART;TZID=UTC:20221116T190000
DTEND;TZID=UTC:20221116T190000
DTSTAMP:20260424T234411
CREATED:20221001T221715Z
LAST-MODIFIED:20221001T221715Z
UID:1476-1668625200-1668625200@sfwbchurch.com
SUMMARY:Wednesday Night Worship Service
DESCRIPTION:6:45 Prayer Room\n7:00pm- Kingdom Seekers Youth Ministry\n7:00pm Worship Service
URL:https://sfwbchurch.com/event/wednesday-night-worship-service-31/
END:VEVENT
BEGIN:VEVENT
DTSTART;VALUE=DATE:20221113
DTEND;VALUE=DATE:20221114
DTSTAMP:20260424T234411
CREATED:20221001T222531Z
LAST-MODIFIED:20221001T222531Z
UID:1499-1668297600-1668383999@sfwbchurch.com
SUMMARY:Nursery Schedule
DESCRIPTION:AM: Kim B.\nPM: Mandi
URL:https://sfwbchurch.com/event/nursery-schedule-27/
END:VEVENT
BEGIN:VEVENT
DTSTART;VALUE=DATE:20221112
DTEND;VALUE=DATE:20221113
DTSTAMP:20260424T234411
CREATED:20221001T222115Z
LAST-MODIFIED:20221001T222115Z
UID:1488-1668211200-1668297599@sfwbchurch.com
SUMMARY:Youth Trip to Chuck-E-Cheese
DESCRIPTION:All kids ages 9 and under are invited to Chuck E Cheese for a couple hours of fun and pizza!
URL:https://sfwbchurch.com/event/youth-trip-to-chuck-e-cheese/
END:VEVENT
BEGIN:VEVENT
DTSTART;TZID=UTC:20221109T190000
DTEND;TZID=UTC:20221109T190000
DTSTAMP:20260424T234411
CREATED:20221001T221636Z
LAST-MODIFIED:20221001T221636Z
UID:1473-1668020400-1668020400@sfwbchurch.com
SUMMARY:Wednesday Night Worship Service
DESCRIPTION:6:45 Prayer Room\n7:00pm- Kingdom Seekers Youth Ministry\n7:00pm Worship Service
URL:https://sfwbchurch.com/event/wednesday-night-worship-service-30/
END:VEVENT
BEGIN:VEVENT
DTSTART;VALUE=DATE:20221106
DTEND;VALUE=DATE:20221107
DTSTAMP:20260424T234411
CREATED:20221001T222436Z
LAST-MODIFIED:20221001T222436Z
UID:1496-1667692800-1667779199@sfwbchurch.com
SUMMARY:Nursery Schedule
DESCRIPTION:AM- Alexis Worley\nPM- Stephanie H.
URL:https://sfwbchurch.com/event/nursery-schedule-26/
END:VEVENT
BEGIN:VEVENT
DTSTART;VALUE=DATE:20221105
DTEND;VALUE=DATE:20221106
DTSTAMP:20260424T234411
CREATED:20221001T221926Z
LAST-MODIFIED:20221001T221926Z
UID:1485-1667606400-1667692799@sfwbchurch.com
SUMMARY:Association Meeting
DESCRIPTION:
URL:https://sfwbchurch.com/event/association-meeting-4/
END:VEVENT
BEGIN:VEVENT
DTSTART;TZID=UTC:20221102T190000
DTEND;TZID=UTC:20221102T190000
DTSTAMP:20260424T234411
CREATED:20221001T221537Z
LAST-MODIFIED:20221001T221537Z
UID:1470-1667415600-1667415600@sfwbchurch.com
SUMMARY:Wednesday Night Worship Service
DESCRIPTION:6:45 Prayer Room\n7:00pm- Kingdom Seekers Youth Ministry\n7:00pm Worship service
URL:https://sfwbchurch.com/event/wednesday-night-worship-service-29/
END:VEVENT
BEGIN:VEVENT
DTSTART;VALUE=DATE:20221030
DTEND;VALUE=DATE:20221031
DTSTAMP:20260424T234411
CREATED:20220726T184114Z
LAST-MODIFIED:20220726T184114Z
UID:1435-1667088000-1667174399@sfwbchurch.com
SUMMARY:Nursery schedule
DESCRIPTION:AM/PM- Kelly T.
URL:https://sfwbchurch.com/event/nursery-schedule-25/
END:VEVENT
BEGIN:VEVENT
DTSTART;VALUE=DATE:20221030
DTEND;VALUE=DATE:20221031
DTSTAMP:20260424T234411
CREATED:20220726T184032Z
LAST-MODIFIED:20220726T184032Z
UID:1432-1667088000-1667174399@sfwbchurch.com
SUMMARY:Youth Sunday
DESCRIPTION:
URL:https://sfwbchurch.com/event/youth-sunday-6/
END:VEVENT
BEGIN:VEVENT
DTSTART;VALUE=DATE:20221029
DTEND;VALUE=DATE:20221030
DTSTAMP:20260424T234411
CREATED:20220726T184543Z
LAST-MODIFIED:20220823T225646Z
UID:1450-1667001600-1667087999@sfwbchurch.com
SUMMARY:Fall Festival & Cruise In
DESCRIPTION:Come join us October 29 for our Fall fest and cruise in. Join us for food\, games\, treat bags\, bounce house\, face painting\, 5pm bonfire and so much more.
URL:https://sfwbchurch.com/event/fall-fest/
LOCATION:Church Property\, 5321 Hickory Grove Rd.\, Stanley\, NC\, 28164\, United States
END:VEVENT
BEGIN:VEVENT
DTSTART;TZID=UTC:20221026T190000
DTEND;TZID=UTC:20221026T190000
DTSTAMP:20260424T234411
CREATED:20220726T183538Z
LAST-MODIFIED:20220726T183538Z
UID:1413-1666810800-1666810800@sfwbchurch.com
SUMMARY:Wednesday Night Worship Service
DESCRIPTION:6:45 Prayer Room\n7:00pm- Kingdom Seekers Youth Ministry
URL:https://sfwbchurch.com/event/wednesday-night-worship-service-28/
END:VEVENT
BEGIN:VEVENT
DTSTART;TZID=UTC:20221023T160000
DTEND;TZID=UTC:20221023T173000
DTSTAMP:20260424T234411
CREATED:20220726T184006Z
LAST-MODIFIED:20220726T184006Z
UID:1429-1666540800-1666546200@sfwbchurch.com
SUMMARY:Youth Choir Practice
DESCRIPTION:
URL:https://sfwbchurch.com/event/youth-choir-practice-7/
END:VEVENT
BEGIN:VEVENT
DTSTART;TZID=UTC:20221022T110000
DTEND;TZID=UTC:20221022T160000
DTSTAMP:20260424T234411
CREATED:20221001T221319Z
LAST-MODIFIED:20221001T221319Z
UID:1467-1666436400-1666454400@sfwbchurch.com
SUMMARY:1 Day Youth Mission Trip
DESCRIPTION:Youth Mission trip grades 6-12. @Lowell FWB Church
URL:https://sfwbchurch.com/event/1-day-youth-mission-trip/
END:VEVENT
BEGIN:VEVENT
DTSTART;TZID=UTC:20221021T183000
DTEND;TZID=UTC:20221021T203000
DTSTAMP:20260424T234411
CREATED:20220726T184432Z
LAST-MODIFIED:20221001T221018Z
UID:1444-1666377000-1666384200@sfwbchurch.com
SUMMARY:Party With the Preacher
DESCRIPTION:
URL:https://sfwbchurch.com/event/party-with-the-preacher-4/
END:VEVENT
BEGIN:VEVENT
DTSTART;TZID=UTC:20221019T190000
DTEND;TZID=UTC:20221019T190000
DTSTAMP:20260424T234411
CREATED:20220726T183444Z
LAST-MODIFIED:20220726T183444Z
UID:1410-1666206000-1666206000@sfwbchurch.com
SUMMARY:Wednesday Night Worship Service
DESCRIPTION:6:45 Prayer Room\n7:00pm- Kingdom Seekers Youth Ministry
URL:https://sfwbchurch.com/event/wednesday-night-worship-service-27/
END:VEVENT
BEGIN:VEVENT
DTSTART;TZID=UTC:20221016T150000
DTEND;TZID=UTC:20221016T170000
DTSTAMP:20260424T234411
CREATED:20221001T221119Z
LAST-MODIFIED:20221001T221119Z
UID:1464-1665932400-1665939600@sfwbchurch.com
SUMMARY:Marika's Baby Shower
DESCRIPTION:
URL:https://sfwbchurch.com/event/marikas-baby-shower/
END:VEVENT
BEGIN:VEVENT
DTSTART;VALUE=DATE:20221016
DTEND;VALUE=DATE:20221017
DTSTAMP:20260424T234411
CREATED:20220726T183836Z
LAST-MODIFIED:20220726T183836Z
UID:1422-1665878400-1665964799@sfwbchurch.com
SUMMARY:Nursery Schedule
DESCRIPTION:AM- Elizabeth\nPM- Kayla
URL:https://sfwbchurch.com/event/nursery-schedule-24/
END:VEVENT
BEGIN:VEVENT
DTSTART;TZID=UTC:20221015T110000
DTEND;TZID=UTC:20221015T140000
DTSTAMP:20260424T234411
CREATED:20220726T184506Z
LAST-MODIFIED:20220726T184506Z
UID:1447-1665831600-1665842400@sfwbchurch.com
SUMMARY:Homeless Ministry
DESCRIPTION:
URL:https://sfwbchurch.com/event/homeless-ministry-5/
END:VEVENT
BEGIN:VEVENT
DTSTART;TZID=UTC:20221013T080000
DTEND;TZID=UTC:20221015T170000
DTSTAMP:20260424T234411
CREATED:20220726T184334Z
LAST-MODIFIED:20220726T184334Z
UID:1441-1665648000-1665853200@sfwbchurch.com
SUMMARY:Ark Encounter Trip
DESCRIPTION:
URL:https://sfwbchurch.com/event/ark-encounter-trip/
END:VEVENT
BEGIN:VEVENT
DTSTART;TZID=UTC:20221012T190000
DTEND;TZID=UTC:20221012T190000
DTSTAMP:20260424T234411
CREATED:20220726T183356Z
LAST-MODIFIED:20220726T183356Z
UID:1407-1665601200-1665601200@sfwbchurch.com
SUMMARY:Wednesday Night Worship Service
DESCRIPTION:6:45 Prayer Room\n7:00pm- Kingdom Seekers Youth Ministry
URL:https://sfwbchurch.com/event/wednesday-night-worship-service-26/
END:VEVENT
BEGIN:VEVENT
DTSTART;VALUE=DATE:20221009
DTEND;VALUE=DATE:20221010
DTSTAMP:20260424T234411
CREATED:20220726T183757Z
LAST-MODIFIED:20220726T183757Z
UID:1419-1665273600-1665359999@sfwbchurch.com
SUMMARY:Nursery Schedule
DESCRIPTION:AM- Mandi\nPM- Kim B.
URL:https://sfwbchurch.com/event/nursery-schedule-23/
END:VEVENT
BEGIN:VEVENT
DTSTART;VALUE=DATE:20221008
DTEND;VALUE=DATE:20221009
DTSTAMP:20260424T234411
CREATED:20220726T184236Z
LAST-MODIFIED:20220726T184236Z
UID:1438-1665187200-1665273599@sfwbchurch.com
SUMMARY:Creeper Trail Trip
DESCRIPTION:
URL:https://sfwbchurch.com/event/creeper-trail-trip-2/
END:VEVENT
BEGIN:VEVENT
DTSTART;TZID=UTC:20221005T190000
DTEND;TZID=UTC:20221005T190000
DTSTAMP:20260424T234411
CREATED:20220726T183216Z
LAST-MODIFIED:20220726T183216Z
UID:1404-1664996400-1664996400@sfwbchurch.com
SUMMARY:Wednesday Night Worship Service
DESCRIPTION:6:45 Prayer Room\n7:00pm- Kingdom Seekers Youth Ministry
URL:https://sfwbchurch.com/event/wednesday-night-worship-service-25/
END:VEVENT
BEGIN:VEVENT
DTSTART;VALUE=DATE:20221002
DTEND;VALUE=DATE:20221003
DTSTAMP:20260424T234411
CREATED:20220726T183721Z
LAST-MODIFIED:20220726T183721Z
UID:1416-1664668800-1664755199@sfwbchurch.com
SUMMARY:Nursery Schedule
DESCRIPTION:AM- Stephanie H.\nPM- Alexis W.
URL:https://sfwbchurch.com/event/nursery-schedule-22/
END:VEVENT
END:VCALENDAR