BEGIN:VCALENDAR
VERSION:2.0
PRODID:-//Springwood Free Will Baptist Church - ECPv6.15.20//NONSGML v1.0//EN
CALSCALE:GREGORIAN
METHOD:PUBLISH
X-WR-CALNAME:Springwood Free Will Baptist Church
X-ORIGINAL-URL:https://sfwbchurch.com
X-WR-CALDESC:Events for Springwood Free Will Baptist Church
REFRESH-INTERVAL;VALUE=DURATION:PT1H
X-Robots-Tag:noindex
X-PUBLISHED-TTL:PT1H
BEGIN:VTIMEZONE
TZID:UTC
BEGIN:STANDARD
TZOFFSETFROM:+0000
TZOFFSETTO:+0000
TZNAME:UTC
DTSTART:20220101T000000
END:STANDARD
END:VTIMEZONE
BEGIN:VEVENT
DTSTART;TZID=UTC:20230322T190000
DTEND;TZID=UTC:20230322T190000
DTSTAMP:20260424T183604
CREATED:20230115T190117Z
LAST-MODIFIED:20230115T190117Z
UID:1615-1679511600-1679511600@sfwbchurch.com
SUMMARY:Wednesday Night Service
DESCRIPTION:6:45 Prayer Room 7:00pm Kingdom Seekers Youth Ministry 7:00pm Worship Service
URL:https://sfwbchurch.com/event/wednesday-night-service-8/
END:VEVENT
BEGIN:VEVENT
DTSTART;TZID=UTC:20230321T190000
DTEND;TZID=UTC:20230321T190000
DTSTAMP:20260424T183604
CREATED:20230115T190602Z
LAST-MODIFIED:20230115T190602Z
UID:1627-1679425200-1679425200@sfwbchurch.com
SUMMARY:March Forward Revival
DESCRIPTION:
URL:https://sfwbchurch.com/event/march-forward-revival-3/
END:VEVENT
BEGIN:VEVENT
DTSTART;VALUE=DATE:20230319
DTEND;VALUE=DATE:20230320
DTSTAMP:20260424T183604
CREATED:20230115T192337Z
LAST-MODIFIED:20230115T192337Z
UID:1645-1679184000-1679270399@sfwbchurch.com
SUMMARY:Nursery Schedule
DESCRIPTION:AM- Kayla\nPM- Elizabeth
URL:https://sfwbchurch.com/event/nursery-schedule-39/
END:VEVENT
BEGIN:VEVENT
DTSTART;TZID=UTC:20230318T110000
DTEND;TZID=UTC:20230318T130000
DTSTAMP:20260424T183604
CREATED:20230115T191338Z
LAST-MODIFIED:20230115T191338Z
UID:1636-1679137200-1679144400@sfwbchurch.com
SUMMARY:Homeless Ministry
DESCRIPTION:
URL:https://sfwbchurch.com/event/homeless-ministry-9/
LOCATION:City Set on A Hill Ministry\, 1299 W Franklin Blvd\, Gastonia\, NC\, 28052\, United States
END:VEVENT
BEGIN:VEVENT
DTSTART;TZID=UTC:20230315T190000
DTEND;TZID=UTC:20230315T190000
DTSTAMP:20260424T183604
CREATED:20230115T190041Z
LAST-MODIFIED:20230115T190041Z
UID:1612-1678906800-1678906800@sfwbchurch.com
SUMMARY:Wednesday Night Service
DESCRIPTION:6:45 Prayer Room 7:00pm Kingdom Seekers Youth Ministry 7:00pm Worship Service
URL:https://sfwbchurch.com/event/wednesday-night-service-7/
END:VEVENT
BEGIN:VEVENT
DTSTART;TZID=UTC:20230314T190000
DTEND;TZID=UTC:20230314T190000
DTSTAMP:20260424T183604
CREATED:20230115T190528Z
LAST-MODIFIED:20230115T190528Z
UID:1624-1678820400-1678820400@sfwbchurch.com
SUMMARY:March Forward Revival
DESCRIPTION:
URL:https://sfwbchurch.com/event/march-forward-revival-2/
END:VEVENT
BEGIN:VEVENT
DTSTART;TZID=UTC:20230312T160000
DTEND;TZID=UTC:20230312T173000
DTSTAMP:20260424T183604
CREATED:20230115T192511Z
LAST-MODIFIED:20230115T192511Z
UID:1651-1678636800-1678642200@sfwbchurch.com
SUMMARY:Adult Choir Practice
DESCRIPTION:
URL:https://sfwbchurch.com/event/adult-choir-practice-4/
END:VEVENT
BEGIN:VEVENT
DTSTART;VALUE=DATE:20230312
DTEND;VALUE=DATE:20230313
DTSTAMP:20260424T183604
CREATED:20230115T192249Z
LAST-MODIFIED:20230115T192249Z
UID:1642-1678579200-1678665599@sfwbchurch.com
SUMMARY:Nursery Schedule
DESCRIPTION:AM-Kim B.\nPM- Mandi
URL:https://sfwbchurch.com/event/nursery-schedule-38/
END:VEVENT
BEGIN:VEVENT
DTSTART;TZID=UTC:20230311T100000
DTEND;TZID=UTC:20230311T170000
DTSTAMP:20260424T183604
CREATED:20230115T190752Z
LAST-MODIFIED:20230115T190752Z
UID:1633-1678528800-1678554000@sfwbchurch.com
SUMMARY:District Ladies Auxiliary Meeting
DESCRIPTION:
URL:https://sfwbchurch.com/event/district-ladies-auxiliary-meeting-5/
END:VEVENT
BEGIN:VEVENT
DTSTART;TZID=UTC:20230309T094500
DTEND;TZID=UTC:20230309T120000
DTSTAMP:20260424T183604
CREATED:20230309T230939Z
LAST-MODIFIED:20230309T230939Z
UID:1759-1678355100-1678363200@sfwbchurch.com
SUMMARY:Association Meeting
DESCRIPTION:
URL:https://sfwbchurch.com/event/association-meeting-6/
END:VEVENT
BEGIN:VEVENT
DTSTART;TZID=UTC:20230308T190000
DTEND;TZID=UTC:20230308T190000
DTSTAMP:20260424T183604
CREATED:20230115T190004Z
LAST-MODIFIED:20230115T190004Z
UID:1609-1678302000-1678302000@sfwbchurch.com
SUMMARY:Wednesday Night Service
DESCRIPTION:6:45 Prayer Room 7:00pm Kingdom Seekers Youth Ministry 7:00pm Worship Service
URL:https://sfwbchurch.com/event/wednesday-night-service-6/
END:VEVENT
BEGIN:VEVENT
DTSTART;TZID=UTC:20230307T190000
DTEND;TZID=UTC:20230307T190000
DTSTAMP:20260424T183604
CREATED:20230115T190448Z
LAST-MODIFIED:20230115T190448Z
UID:1621-1678215600-1678215600@sfwbchurch.com
SUMMARY:March Forward Revival
DESCRIPTION:
URL:https://sfwbchurch.com/event/march-forward-revival/
END:VEVENT
BEGIN:VEVENT
DTSTART;VALUE=DATE:20230305
DTEND;VALUE=DATE:20230306
DTSTAMP:20260424T183604
CREATED:20230115T192135Z
LAST-MODIFIED:20230115T192135Z
UID:1639-1677974400-1678060799@sfwbchurch.com
SUMMARY:Nursery Schedule
DESCRIPTION:AM- Alexis W.\nPM- Stephanie H.
URL:https://sfwbchurch.com/event/nursery-schedule-37/
END:VEVENT
BEGIN:VEVENT
DTSTART;VALUE=DATE:20230304
DTEND;VALUE=DATE:20230305
DTSTAMP:20260424T183604
CREATED:20230304T142135Z
LAST-MODIFIED:20230304T142135Z
UID:1667-1677888000-1677974399@sfwbchurch.com
SUMMARY:Women/Teen Girls Sunday School Outing
DESCRIPTION:
URL:https://sfwbchurch.com/event/women-teen-girls-sunday-school-outing/
END:VEVENT
BEGIN:VEVENT
DTSTART;VALUE=DATE:20230304
DTEND;VALUE=DATE:20230305
DTSTAMP:20260424T183604
CREATED:20230115T192820Z
LAST-MODIFIED:20230115T192820Z
UID:1657-1677888000-1677974399@sfwbchurch.com
SUMMARY:Youth Trip- Bowling
DESCRIPTION:
URL:https://sfwbchurch.com/event/youth-trip-bowling/
END:VEVENT
BEGIN:VEVENT
DTSTART;TZID=UTC:20230301T190000
DTEND;TZID=UTC:20230301T190000
DTSTAMP:20260424T183604
CREATED:20230113T003340Z
LAST-MODIFIED:20230113T003340Z
UID:1573-1677697200-1677697200@sfwbchurch.com
SUMMARY:Wednesday Night Service
DESCRIPTION:6:45 Prayer Room 7:00pm Kingdom Seekers Youth Ministry 7:00pm Worship Service
URL:https://sfwbchurch.com/event/wednesday-night-service-5/
END:VEVENT
BEGIN:VEVENT
DTSTART;TZID=UTC:20230226T160000
DTEND;TZID=UTC:20230226T173000
DTSTAMP:20260424T183604
CREATED:20230113T004255Z
LAST-MODIFIED:20230113T004255Z
UID:1603-1677427200-1677432600@sfwbchurch.com
SUMMARY:Youth Choir Practice
DESCRIPTION:
URL:https://sfwbchurch.com/event/youth-choir-practice-10/
END:VEVENT
BEGIN:VEVENT
DTSTART;VALUE=DATE:20230226
DTEND;VALUE=DATE:20230227
DTSTAMP:20260424T183604
CREATED:20230113T004438Z
LAST-MODIFIED:20230113T004438Z
UID:1606-1677369600-1677455999@sfwbchurch.com
SUMMARY:Friends and Family Day!
DESCRIPTION:Please invite your Friends and loved ones on this special day!
URL:https://sfwbchurch.com/event/friends-and-family-day/
END:VEVENT
BEGIN:VEVENT
DTSTART;VALUE=DATE:20230226
DTEND;VALUE=DATE:20230227
DTSTAMP:20260424T183604
CREATED:20230113T004120Z
LAST-MODIFIED:20230113T004120Z
UID:1597-1677369600-1677455999@sfwbchurch.com
SUMMARY:Nursery Schedule
DESCRIPTION:AM-Ann\nPM- Beth
URL:https://sfwbchurch.com/event/nursery-schedule-36/
END:VEVENT
BEGIN:VEVENT
DTSTART;VALUE=DATE:20230225
DTEND;VALUE=DATE:20230226
DTSTAMP:20260424T183604
CREATED:20230113T003754Z
LAST-MODIFIED:20230113T003754Z
UID:1585-1677283200-1677369599@sfwbchurch.com
SUMMARY:Marriage Conference
DESCRIPTION:Married Couples please join us on this special day!
URL:https://sfwbchurch.com/event/marriage-conference/
END:VEVENT
BEGIN:VEVENT
DTSTART;TZID=UTC:20230222T190000
DTEND;TZID=UTC:20230222T190000
DTSTAMP:20260424T183604
CREATED:20230113T003307Z
LAST-MODIFIED:20230113T003307Z
UID:1570-1677092400-1677092400@sfwbchurch.com
SUMMARY:Wednesday Night Service
DESCRIPTION:6:45 Prayer Room 7:00pm Kingdom Seekers Youth Ministry 7:00pm Worship Service
URL:https://sfwbchurch.com/event/wednesday-night-service-4/
END:VEVENT
BEGIN:VEVENT
DTSTART;VALUE=DATE:20230219
DTEND;VALUE=DATE:20230220
DTSTAMP:20260424T183604
CREATED:20230113T004045Z
LAST-MODIFIED:20230113T004045Z
UID:1594-1676764800-1676851199@sfwbchurch.com
SUMMARY:Nursery Schedule
DESCRIPTION:AM- Elizabeth\nPM- Kayla
URL:https://sfwbchurch.com/event/nursery-schedule-35/
END:VEVENT
BEGIN:VEVENT
DTSTART;TZID=UTC:20230218T110000
DTEND;TZID=UTC:20230218T130000
DTSTAMP:20260424T183604
CREATED:20230113T003636Z
LAST-MODIFIED:20230113T003636Z
UID:1582-1676718000-1676725200@sfwbchurch.com
SUMMARY:Homeless Ministry
DESCRIPTION:
URL:https://sfwbchurch.com/event/homeless-ministry-8/
LOCATION:City Set on A Hill Ministry\, 1299 W Franklin Blvd\, Gastonia\, NC\, 28052\, United States
END:VEVENT
BEGIN:VEVENT
DTSTART;TZID=UTC:20230215T190000
DTEND;TZID=UTC:20230215T190000
DTSTAMP:20260424T183604
CREATED:20230113T003218Z
LAST-MODIFIED:20230113T003218Z
UID:1567-1676487600-1676487600@sfwbchurch.com
SUMMARY:Wednesday Night Service
DESCRIPTION:6:45 Prayer Room 7:00pm Kingdom Seekers Youth Ministry 7:00pm Worship Service
URL:https://sfwbchurch.com/event/wednesday-night-service-3/
END:VEVENT
BEGIN:VEVENT
DTSTART;TZID=UTC:20230212T160000
DTEND;TZID=UTC:20230212T173000
DTSTAMP:20260424T183604
CREATED:20230113T004215Z
LAST-MODIFIED:20230113T004215Z
UID:1600-1676217600-1676223000@sfwbchurch.com
SUMMARY:Adult Choir Practice
DESCRIPTION:
URL:https://sfwbchurch.com/event/adult-choir-practice-3/
END:VEVENT
BEGIN:VEVENT
DTSTART;VALUE=DATE:20230212
DTEND;VALUE=DATE:20230213
DTSTAMP:20260424T183604
CREATED:20230113T003950Z
LAST-MODIFIED:20230113T003950Z
UID:1591-1676160000-1676246399@sfwbchurch.com
SUMMARY:Nursery Schedule
DESCRIPTION:AM- Mandi\nPM- Kim B.
URL:https://sfwbchurch.com/event/nursery-schedule-34/
END:VEVENT
BEGIN:VEVENT
DTSTART;VALUE=DATE:20230211
DTEND;VALUE=DATE:20230212
DTSTAMP:20260424T183604
CREATED:20230113T003555Z
LAST-MODIFIED:20230113T003555Z
UID:1579-1676073600-1676159999@sfwbchurch.com
SUMMARY:Youth Trip- Snow Tubing
DESCRIPTION:
URL:https://sfwbchurch.com/event/youth-trip-snow-tubing/
END:VEVENT
BEGIN:VEVENT
DTSTART;TZID=UTC:20230208T190000
DTEND;TZID=UTC:20230208T190000
DTSTAMP:20260424T183604
CREATED:20230113T003146Z
LAST-MODIFIED:20230113T003146Z
UID:1564-1675882800-1675882800@sfwbchurch.com
SUMMARY:Wednesday Night Service
DESCRIPTION:6:45 Prayer Room 7:00pm Kingdom Seekers Youth Ministry 7:00pm Worship Service
URL:https://sfwbchurch.com/event/wednesday-night-service-2/
END:VEVENT
BEGIN:VEVENT
DTSTART;VALUE=DATE:20230205
DTEND;VALUE=DATE:20230206
DTSTAMP:20260424T183604
CREATED:20230113T003907Z
LAST-MODIFIED:20230113T003907Z
UID:1588-1675555200-1675641599@sfwbchurch.com
SUMMARY:Nursery Schedule
DESCRIPTION:AM- Stephanie H.\nPM- Alexis W.
URL:https://sfwbchurch.com/event/nursery-schedule-33/
END:VEVENT
BEGIN:VEVENT
DTSTART;TZID=UTC:20230204T160000
DTEND;TZID=UTC:20230204T170000
DTSTAMP:20260424T183604
CREATED:20230113T003448Z
LAST-MODIFIED:20230113T003448Z
UID:1576-1675526400-1675530000@sfwbchurch.com
SUMMARY:Simms Country BBQ
DESCRIPTION:
URL:https://sfwbchurch.com/event/simms-country-bbq/
END:VEVENT
END:VCALENDAR