BEGIN:VCALENDAR
VERSION:2.0
PRODID:-//Springwood Free Will Baptist Church - ECPv6.15.20//NONSGML v1.0//EN
CALSCALE:GREGORIAN
METHOD:PUBLISH
X-WR-CALNAME:Springwood Free Will Baptist Church
X-ORIGINAL-URL:https://sfwbchurch.com
X-WR-CALDESC:Events for Springwood Free Will Baptist Church
REFRESH-INTERVAL;VALUE=DURATION:PT1H
X-Robots-Tag:noindex
X-PUBLISHED-TTL:PT1H
BEGIN:VTIMEZONE
TZID:UTC
BEGIN:STANDARD
TZOFFSETFROM:+0000
TZOFFSETTO:+0000
TZNAME:UTC
DTSTART:20220101T000000
END:STANDARD
END:VTIMEZONE
BEGIN:VEVENT
DTSTART;VALUE=DATE:20230521
DTEND;VALUE=DATE:20230522
DTSTAMP:20260424T142745
CREATED:20230309T221428Z
LAST-MODIFIED:20230309T221428Z
UID:1744-1684627200-1684713599@sfwbchurch.com
SUMMARY:Nursery Schedule
DESCRIPTION:AM: Kayla \nPM: Elizabeth
URL:https://sfwbchurch.com/event/nursery-schedule-48/
END:VEVENT
BEGIN:VEVENT
DTSTART;TZID=UTC:20230520T153000
DTEND;TZID=UTC:20230520T203000
DTSTAMP:20260424T142745
CREATED:20230501T233915Z
LAST-MODIFIED:20230501T233915Z
UID:1825-1684596600-1684614600@sfwbchurch.com
SUMMARY:Youth Association Meeting
DESCRIPTION:@ Robertson Creek FWB
URL:https://sfwbchurch.com/event/youth-association-meeting/
END:VEVENT
BEGIN:VEVENT
DTSTART;TZID=UTC:20230520T130000
DTEND;TZID=UTC:20230520T170000
DTSTAMP:20260424T142745
CREATED:20230309T231302Z
LAST-MODIFIED:20230309T231302Z
UID:1768-1684587600-1684602000@sfwbchurch.com
SUMMARY:Fellowship Hall Reserved- Smith
DESCRIPTION:
URL:https://sfwbchurch.com/event/fellowship-hall-reserved-smith/
END:VEVENT
BEGIN:VEVENT
DTSTART;TZID=UTC:20230520T110000
DTEND;TZID=UTC:20230520T130000
DTSTAMP:20260424T142745
CREATED:20230309T231151Z
LAST-MODIFIED:20230309T231151Z
UID:1765-1684580400-1684587600@sfwbchurch.com
SUMMARY:Homeless Ministry
DESCRIPTION:
URL:https://sfwbchurch.com/event/homeless-ministry-11/
END:VEVENT
BEGIN:VEVENT
DTSTART;VALUE=DATE:20230519
DTEND;VALUE=DATE:20230520
DTSTAMP:20260424T142745
CREATED:20230501T233718Z
LAST-MODIFIED:20230501T233718Z
UID:1821-1684454400-1684540799@sfwbchurch.com
SUMMARY:Fellowship Hall Reserved
DESCRIPTION:
URL:https://sfwbchurch.com/event/fellowship-hall-reserved-6/
END:VEVENT
BEGIN:VEVENT
DTSTART;TZID=UTC:20230517T190000
DTEND;TZID=UTC:20230517T190000
DTSTAMP:20260424T142745
CREATED:20230309T220834Z
LAST-MODIFIED:20230309T220834Z
UID:1729-1684350000-1684350000@sfwbchurch.com
SUMMARY:Wednesday Night Worship Service
DESCRIPTION:6:45 Prayer Room 7:00pm Kingdom Seekers Youth Ministry 7:00pm Worship Service
URL:https://sfwbchurch.com/event/wednesday-night-worship-service-44/
END:VEVENT
BEGIN:VEVENT
DTSTART;TZID=UTC:20230514T160000
DTEND;TZID=UTC:20230514T173000
DTSTAMP:20260424T142745
CREATED:20230309T224655Z
LAST-MODIFIED:20230309T224655Z
UID:1750-1684080000-1684085400@sfwbchurch.com
SUMMARY:Adult Choir Practice
DESCRIPTION:
URL:https://sfwbchurch.com/event/adult-choir-practice-5/
END:VEVENT
BEGIN:VEVENT
DTSTART;VALUE=DATE:20230514
DTEND;VALUE=DATE:20230515
DTSTAMP:20260424T142745
CREATED:20230309T221348Z
LAST-MODIFIED:20230309T221348Z
UID:1741-1684022400-1684108799@sfwbchurch.com
SUMMARY:Nursery Schedule
DESCRIPTION:AM: Kim B. \nPM: Mandi
URL:https://sfwbchurch.com/event/nursery-schedule-47/
END:VEVENT
BEGIN:VEVENT
DTSTART;VALUE=DATE:20230513
DTEND;VALUE=DATE:20230514
DTSTAMP:20260424T142745
CREATED:20230501T233607Z
LAST-MODIFIED:20230501T233607Z
UID:1818-1683936000-1684022399@sfwbchurch.com
SUMMARY:Fellowship Hall Reserved
DESCRIPTION:
URL:https://sfwbchurch.com/event/fellowship-hall-reserved-5/
END:VEVENT
BEGIN:VEVENT
DTSTART;VALUE=DATE:20230512
DTEND;VALUE=DATE:20230513
DTSTAMP:20260424T142745
CREATED:20230501T233542Z
LAST-MODIFIED:20230501T233542Z
UID:1815-1683849600-1683935999@sfwbchurch.com
SUMMARY:Fellowship Hall Reserved
DESCRIPTION:
URL:https://sfwbchurch.com/event/fellowship-hall-reserved-4/
END:VEVENT
BEGIN:VEVENT
DTSTART;TZID=UTC:20230510T190000
DTEND;TZID=UTC:20230510T190000
DTSTAMP:20260424T142745
CREATED:20230309T220759Z
LAST-MODIFIED:20230309T220759Z
UID:1726-1683745200-1683745200@sfwbchurch.com
SUMMARY:Wednesday Night Worship Service
DESCRIPTION:6:45 Prayer Room 7:00pm Kingdom Seekers Youth Ministry 7:00pm Worship Service
URL:https://sfwbchurch.com/event/wednesday-night-worship-service-43/
END:VEVENT
BEGIN:VEVENT
DTSTART;VALUE=DATE:20230507
DTEND;VALUE=DATE:20230508
DTSTAMP:20260424T142745
CREATED:20230309T221303Z
LAST-MODIFIED:20230309T221303Z
UID:1738-1683417600-1683503999@sfwbchurch.com
SUMMARY:Nursery Schedule
DESCRIPTION:AM: Alexis W. \nPM: Stephanie
URL:https://sfwbchurch.com/event/nursery-schedule-46/
END:VEVENT
BEGIN:VEVENT
DTSTART;TZID=UTC:20230506T160000
DTEND;TZID=UTC:20230506T180000
DTSTAMP:20260424T142745
CREATED:20230501T233458Z
LAST-MODIFIED:20230501T233458Z
UID:1812-1683388800-1683396000@sfwbchurch.com
SUMMARY:Mr. Silver Retirement Party 4-6pm
DESCRIPTION:
URL:https://sfwbchurch.com/event/mr-silver-retirement-party-4-6pm/
END:VEVENT
BEGIN:VEVENT
DTSTART;VALUE=DATE:20230506
DTEND;VALUE=DATE:20230507
DTSTAMP:20260424T142745
CREATED:20230501T233246Z
LAST-MODIFIED:20230501T233246Z
UID:1809-1683331200-1683417599@sfwbchurch.com
SUMMARY:Association Meeting
DESCRIPTION:@ Way of The Cross FWB
URL:https://sfwbchurch.com/event/association-meeting-7/
END:VEVENT
BEGIN:VEVENT
DTSTART;TZID=UTC:20230503T190000
DTEND;TZID=UTC:20230503T190000
DTSTAMP:20260424T142745
CREATED:20230309T220708Z
LAST-MODIFIED:20230309T220708Z
UID:1723-1683140400-1683140400@sfwbchurch.com
SUMMARY:Wednesday Night Worship Service
DESCRIPTION:6:45 Prayer Room 7:00pm Kingdom Seekers Youth Ministry 7:00pm Worship Service
URL:https://sfwbchurch.com/event/wednesday-night-worship-service-42/
END:VEVENT
BEGIN:VEVENT
DTSTART;VALUE=DATE:20230430
DTEND;VALUE=DATE:20230501
DTSTAMP:20260424T142745
CREATED:20230309T215454Z
LAST-MODIFIED:20230309T215454Z
UID:1704-1682812800-1682899199@sfwbchurch.com
SUMMARY:Happy Birthday Mrs.Traci!!
DESCRIPTION:
URL:https://sfwbchurch.com/event/happy-birthday-mrs-traci/
END:VEVENT
BEGIN:VEVENT
DTSTART;VALUE=DATE:20230430
DTEND;VALUE=DATE:20230501
DTSTAMP:20260424T142745
CREATED:20230309T215115Z
LAST-MODIFIED:20230309T215141Z
UID:1695-1682812800-1682899199@sfwbchurch.com
SUMMARY:Nursery Schedule
DESCRIPTION:AM/PM- Kelly T.
URL:https://sfwbchurch.com/event/nursery-schedule-45/
END:VEVENT
BEGIN:VEVENT
DTSTART;TZID=UTC:20230426T190000
DTEND;TZID=UTC:20230426T190000
DTSTAMP:20260424T142745
CREATED:20230309T214527Z
LAST-MODIFIED:20230309T214527Z
UID:1680-1682535600-1682535600@sfwbchurch.com
SUMMARY:Wednesday Night Worship Service
DESCRIPTION:6:45 Prayer Room \n7:00pm Kingdom Seekers Youth Ministry \n7:00pm Worship Service
URL:https://sfwbchurch.com/event/wednesday-night-worship-service-41/
LOCATION:SFWB Church\, 826 Stanley Spencer Mountain Rd\, Gastonia\, NC\, 28056\, United States
END:VEVENT
BEGIN:VEVENT
DTSTART;TZID=UTC:20230423T160000
DTEND;TZID=UTC:20230423T173000
DTSTAMP:20260424T142745
CREATED:20230309T215416Z
LAST-MODIFIED:20230309T215416Z
UID:1701-1682265600-1682271000@sfwbchurch.com
SUMMARY:Youth Choir Practice
DESCRIPTION:
URL:https://sfwbchurch.com/event/youth-choir-practice-12/
END:VEVENT
BEGIN:VEVENT
DTSTART;VALUE=DATE:20230423
DTEND;VALUE=DATE:20230424
DTSTAMP:20260424T142745
CREATED:20230309T215025Z
LAST-MODIFIED:20230309T215025Z
UID:1692-1682208000-1682294399@sfwbchurch.com
SUMMARY:Nursery Schedule
DESCRIPTION:AM: Ann \nPM: Beth
URL:https://sfwbchurch.com/event/nursery-schedule-44/
END:VEVENT
BEGIN:VEVENT
DTSTART;VALUE=DATE:20230422
DTEND;VALUE=DATE:20230423
DTSTAMP:20260424T142745
CREATED:20230309T220220Z
LAST-MODIFIED:20230309T220220Z
UID:1719-1682121600-1682207999@sfwbchurch.com
SUMMARY:Fellowship Hall Reserved - Tammy
DESCRIPTION:
URL:https://sfwbchurch.com/event/fellowship-hall-reserved-tammy/
END:VEVENT
BEGIN:VEVENT
DTSTART;TZID=UTC:20230419T190000
DTEND;TZID=UTC:20230419T190000
DTSTAMP:20260424T142745
CREATED:20230309T214440Z
LAST-MODIFIED:20230309T214440Z
UID:1677-1681930800-1681930800@sfwbchurch.com
SUMMARY:Wednesday Night Worship Service
DESCRIPTION:6:45 Prayer Room \n7:00pm Kingdom Seekers Youth Ministry \n7:00pm Worship Service
URL:https://sfwbchurch.com/event/wednesday-night-worship-service-40/
LOCATION:SFWB Church\, 826 Stanley Spencer Mountain Rd\, Gastonia\, NC\, 28056\, United States
END:VEVENT
BEGIN:VEVENT
DTSTART;VALUE=DATE:20230416
DTEND;VALUE=DATE:20230417
DTSTAMP:20260424T142745
CREATED:20230309T214920Z
LAST-MODIFIED:20230309T214920Z
UID:1689-1681603200-1681689599@sfwbchurch.com
SUMMARY:Nursery Schedule
DESCRIPTION:AM: Elizabeth \nPM: Kayla
URL:https://sfwbchurch.com/event/nursery-schedule-43/
END:VEVENT
BEGIN:VEVENT
DTSTART;TZID=UTC:20230415T110000
DTEND;TZID=UTC:20230415T130000
DTSTAMP:20260424T142745
CREATED:20230309T215829Z
LAST-MODIFIED:20230309T215829Z
UID:1713-1681556400-1681563600@sfwbchurch.com
SUMMARY:Homeless Ministry
DESCRIPTION:
URL:https://sfwbchurch.com/event/homeless-ministry-10/
LOCATION:City Set on A Hill Ministry\, 1299 W Franklin Blvd\, Gastonia\, NC\, 28052\, United States
END:VEVENT
BEGIN:VEVENT
DTSTART;VALUE=DATE:20230414
DTEND;VALUE=DATE:20230416
DTSTAMP:20260424T142745
CREATED:20230309T215731Z
LAST-MODIFIED:20230309T215731Z
UID:1710-1681430400-1681603199@sfwbchurch.com
SUMMARY:New Mana Youth Rally Trip
DESCRIPTION:
URL:https://sfwbchurch.com/event/new-mana-youth-rally-trip/
END:VEVENT
BEGIN:VEVENT
DTSTART;TZID=UTC:20230412T190000
DTEND;TZID=UTC:20230412T190000
DTSTAMP:20260424T142745
CREATED:20230309T214354Z
LAST-MODIFIED:20230309T214354Z
UID:1674-1681326000-1681326000@sfwbchurch.com
SUMMARY:Wednesday Night Worship Service
DESCRIPTION:6:45 Prayer Room \n7:00pm Kingdom Seekers Youth Ministry \n7:00pm Worship Service
URL:https://sfwbchurch.com/event/wednesday-night-worship-service-39/
LOCATION:SFWB Church\, 826 Stanley Spencer Mountain Rd\, Gastonia\, NC\, 28056\, United States
END:VEVENT
BEGIN:VEVENT
DTSTART;TZID=UTC:20230409T070000
DTEND;TZID=UTC:20230409T080000
DTSTAMP:20260424T142745
CREATED:20230309T215313Z
LAST-MODIFIED:20230309T215313Z
UID:1698-1681023600-1681027200@sfwbchurch.com
SUMMARY:Sunrise Service
DESCRIPTION:Happy Easter! Join us at 7am for our special sunrise service.
URL:https://sfwbchurch.com/event/sunrise-service/
END:VEVENT
BEGIN:VEVENT
DTSTART;VALUE=DATE:20230409
DTEND;VALUE=DATE:20230410
DTSTAMP:20260424T142745
CREATED:20230309T214836Z
LAST-MODIFIED:20230309T214836Z
UID:1686-1680998400-1681084799@sfwbchurch.com
SUMMARY:Nursery Schedule
DESCRIPTION:AM: Mandi \nPM: Kim B.
URL:https://sfwbchurch.com/event/nursery-schedule-42/
END:VEVENT
BEGIN:VEVENT
DTSTART;TZID=UTC:20230405T190000
DTEND;TZID=UTC:20230405T190000
DTSTAMP:20260424T142745
CREATED:20230309T214024Z
LAST-MODIFIED:20230309T214144Z
UID:1670-1680721200-1680721200@sfwbchurch.com
SUMMARY:Wednesday Night Worship Service
DESCRIPTION:6:45 Prayer Room\n7:00pm Kingdom Seekers Youth Ministry\n7:00pm Worship Service
URL:https://sfwbchurch.com/event/wednesday-night-worship-service-38/
LOCATION:SFWB Church\, 826 Stanley Spencer Mountain Rd\, Gastonia\, NC\, 28056\, United States
END:VEVENT
BEGIN:VEVENT
DTSTART;VALUE=DATE:20230402
DTEND;VALUE=DATE:20230403
DTSTAMP:20260424T142745
CREATED:20230309T214723Z
LAST-MODIFIED:20230309T214723Z
UID:1683-1680393600-1680479999@sfwbchurch.com
SUMMARY:Nursery Schedule
DESCRIPTION:AM: Stephanie \nPM: Alexis W.
URL:https://sfwbchurch.com/event/nursery-schedule-41/
END:VEVENT
END:VCALENDAR