BEGIN:VCALENDAR
VERSION:2.0
PRODID:-//Springwood Free Will Baptist Church - ECPv6.15.20//NONSGML v1.0//EN
CALSCALE:GREGORIAN
METHOD:PUBLISH
X-ORIGINAL-URL:https://sfwbchurch.com
X-WR-CALDESC:Events for Springwood Free Will Baptist Church
REFRESH-INTERVAL;VALUE=DURATION:PT1H
X-Robots-Tag:noindex
X-PUBLISHED-TTL:PT1H
BEGIN:VTIMEZONE
TZID:UTC
BEGIN:STANDARD
TZOFFSETFROM:+0000
TZOFFSETTO:+0000
TZNAME:UTC
DTSTART:20220101T000000
END:STANDARD
END:VTIMEZONE
BEGIN:VEVENT
DTSTART;TZID=UTC:20230805T094500
DTEND;TZID=UTC:20230805T113000
DTSTAMP:20260424T101243
CREATED:20230712T160604Z
LAST-MODIFIED:20230712T160604Z
UID:1895-1691228700-1691235000@sfwbchurch.com
SUMMARY:Association Meeting
DESCRIPTION:
URL:https://sfwbchurch.com/event/association-meeting-8/
END:VEVENT
BEGIN:VEVENT
DTSTART;VALUE=DATE:20230805
DTEND;VALUE=DATE:20230806
DTSTAMP:20260424T101243
CREATED:20230712T160835Z
LAST-MODIFIED:20230712T160835Z
UID:1898-1691193600-1691279999@sfwbchurch.com
SUMMARY:Back To School Pool Party!
DESCRIPTION:Youth Back to School Party @ Preacher’s House
URL:https://sfwbchurch.com/event/back-to-school-pool-party/
END:VEVENT
BEGIN:VEVENT
DTSTART;TZID=UTC:20230802T183000
DTEND;TZID=UTC:20230802T183000
DTSTAMP:20260424T101243
CREATED:20230712T154522Z
LAST-MODIFIED:20230712T154522Z
UID:1880-1691001000-1691001000@sfwbchurch.com
SUMMARY:Wednesday Night Worship Service and Youth Ministry
DESCRIPTION:6:15 Prayer Room 6:30 pm Kingdom Seekers Youth Ministry 6:30pm Worship Service \nKingdom Seekers Teachers: \n0-PK (I) Ann\nK-5th (P) Lexi\n6-12th(A) Jamie\nKitchen Help- Lou
URL:https://sfwbchurch.com/event/wednesday-night-worship-service-and-youth-ministry/
END:VEVENT
BEGIN:VEVENT
DTSTART;VALUE=DATE:20230730
DTEND;VALUE=DATE:20230731
DTSTAMP:20260424T101243
CREATED:20230501T235348Z
LAST-MODIFIED:20230501T235348Z
UID:1862-1690675200-1690761599@sfwbchurch.com
SUMMARY:Youth Sunday
DESCRIPTION:
URL:https://sfwbchurch.com/event/youth-sunday-8/
END:VEVENT
BEGIN:VEVENT
DTSTART;TZID=UTC:20230726T190000
DTEND;TZID=UTC:20230726T190000
DTSTAMP:20260424T101243
CREATED:20230501T234422Z
LAST-MODIFIED:20230501T234422Z
UID:1837-1690398000-1690398000@sfwbchurch.com
SUMMARY:Wednesday Night Worship Service
DESCRIPTION:6:45 Prayer Room 7:00pm Kingdom Seekers Youth Ministry 7:00pm Worship Service
URL:https://sfwbchurch.com/event/wednesday-night-worship-service-54/
END:VEVENT
BEGIN:VEVENT
DTSTART;TZID=UTC:20230723T160000
DTEND;TZID=UTC:20230723T173000
DTSTAMP:20260424T101243
CREATED:20230501T235841Z
LAST-MODIFIED:20230501T235841Z
UID:1874-1690128000-1690133400@sfwbchurch.com
SUMMARY:Youth Choir Practice
DESCRIPTION:
URL:https://sfwbchurch.com/event/youth-choir-practice-14/
END:VEVENT
BEGIN:VEVENT
DTSTART;VALUE=DATE:20230723
DTEND;VALUE=DATE:20230724
DTSTAMP:20260424T101243
CREATED:20230501T235311Z
LAST-MODIFIED:20230501T235311Z
UID:1859-1690070400-1690156799@sfwbchurch.com
SUMMARY:Nursery Schedule
DESCRIPTION:AM- Beth W. \nPM-Ann S.
URL:https://sfwbchurch.com/event/nursery-schedule-56/
END:VEVENT
BEGIN:VEVENT
DTSTART;VALUE=DATE:20230721
DTEND;VALUE=DATE:20230722
DTSTAMP:20260424T101243
CREATED:20230501T234827Z
LAST-MODIFIED:20230709T191009Z
UID:1847-1689897600-1689983999@sfwbchurch.com
SUMMARY:Wet & Wild Waterpark Trip
DESCRIPTION:
URL:https://sfwbchurch.com/event/wet-wild-waterpark-trip/
END:VEVENT
BEGIN:VEVENT
DTSTART;TZID=UTC:20230719T190000
DTEND;TZID=UTC:20230719T190000
DTSTAMP:20260424T101243
CREATED:20230501T234350Z
LAST-MODIFIED:20230501T234350Z
UID:1834-1689793200-1689793200@sfwbchurch.com
SUMMARY:Wednesday Night Worship Service
DESCRIPTION:6:45 Prayer Room 7:00pm Kingdom Seekers Youth Ministry 7:00pm Worship Service
URL:https://sfwbchurch.com/event/wednesday-night-worship-service-53/
END:VEVENT
BEGIN:VEVENT
DTSTART;VALUE=DATE:20230716
DTEND;VALUE=DATE:20230721
DTSTAMP:20260424T101243
CREATED:20230501T235745Z
LAST-MODIFIED:20230501T235745Z
UID:1871-1689465600-1689897599@sfwbchurch.com
SUMMARY:National Free Will Baptist Convention- Raleigh NC
DESCRIPTION:
URL:https://sfwbchurch.com/event/national-free-will-baptist-convention-raleigh-nc/
END:VEVENT
BEGIN:VEVENT
DTSTART;VALUE=DATE:20230716
DTEND;VALUE=DATE:20230717
DTSTAMP:20260424T101243
CREATED:20230501T235216Z
LAST-MODIFIED:20230501T235216Z
UID:1856-1689465600-1689551999@sfwbchurch.com
SUMMARY:Nursery Schedule
DESCRIPTION:AM- Kayla H. \nPM- Elizabeth W.
URL:https://sfwbchurch.com/event/nursery-schedule-55/
END:VEVENT
BEGIN:VEVENT
DTSTART;TZID=UTC:20230715T110000
DTEND;TZID=UTC:20230715T130000
DTSTAMP:20260424T101243
CREATED:20230501T234554Z
LAST-MODIFIED:20230501T234554Z
UID:1843-1689418800-1689426000@sfwbchurch.com
SUMMARY:Homeless Ministry
DESCRIPTION:
URL:https://sfwbchurch.com/event/homeless-ministry-13/
LOCATION:City Set on A Hill Ministry\, 1299 W Franklin Blvd\, Gastonia\, NC\, 28052\, United States
END:VEVENT
BEGIN:VEVENT
DTSTART;TZID=UTC:20230712T190000
DTEND;TZID=UTC:20230712T190000
DTSTAMP:20260424T101243
CREATED:20230501T234310Z
LAST-MODIFIED:20230501T234310Z
UID:1831-1689188400-1689188400@sfwbchurch.com
SUMMARY:Wednesday Night Worship Service
DESCRIPTION:6:45 Prayer Room 7:00pm Kingdom Seekers Youth Ministry 7:00pm Worship Service
URL:https://sfwbchurch.com/event/wednesday-night-worship-service-52/
END:VEVENT
BEGIN:VEVENT
DTSTART;TZID=UTC:20230709T180000
DTEND;TZID=UTC:20230709T180000
DTSTAMP:20260424T101243
CREATED:20230501T235546Z
LAST-MODIFIED:20230501T235546Z
UID:1865-1688925600-1688925600@sfwbchurch.com
SUMMARY:2nd Quarterly Business Meeting
DESCRIPTION:
URL:https://sfwbchurch.com/event/2nd-quarterly-business-meeting/
END:VEVENT
BEGIN:VEVENT
DTSTART;TZID=UTC:20230709T160000
DTEND;TZID=UTC:20230709T173000
DTSTAMP:20260424T101243
CREATED:20230501T235620Z
LAST-MODIFIED:20230501T235620Z
UID:1868-1688918400-1688923800@sfwbchurch.com
SUMMARY:Adult Choir Practice
DESCRIPTION:
URL:https://sfwbchurch.com/event/adult-choir-practice-6/
END:VEVENT
BEGIN:VEVENT
DTSTART;VALUE=DATE:20230709
DTEND;VALUE=DATE:20230710
DTSTAMP:20260424T101243
CREATED:20230501T235117Z
LAST-MODIFIED:20230501T235117Z
UID:1853-1688860800-1688947199@sfwbchurch.com
SUMMARY:Nursery Schedule
DESCRIPTION:AM- Kim B. \nPM- Mandi W.
URL:https://sfwbchurch.com/event/nursery-schedule-54/
END:VEVENT
BEGIN:VEVENT
DTSTART;VALUE=DATE:20230708
DTEND;VALUE=DATE:20230709
DTSTAMP:20260424T101243
CREATED:20230501T234508Z
LAST-MODIFIED:20230501T234508Z
UID:1840-1688774400-1688860799@sfwbchurch.com
SUMMARY:Fellowship Hall Reserved
DESCRIPTION:
URL:https://sfwbchurch.com/event/fellowship-hall-reserved-7/
END:VEVENT
BEGIN:VEVENT
DTSTART;TZID=UTC:20230705T190000
DTEND;TZID=UTC:20230705T190000
DTSTAMP:20260424T101243
CREATED:20230501T234202Z
LAST-MODIFIED:20230501T234202Z
UID:1828-1688583600-1688583600@sfwbchurch.com
SUMMARY:Wednesday Night Worship Service
DESCRIPTION:6:45 Prayer Room 7:00pm Kingdom Seekers Youth Ministry 7:00pm Worship Service
URL:https://sfwbchurch.com/event/wednesday-night-worship-service-51/
END:VEVENT
BEGIN:VEVENT
DTSTART;VALUE=DATE:20230702
DTEND;VALUE=DATE:20230703
DTSTAMP:20260424T101243
CREATED:20230501T235020Z
LAST-MODIFIED:20230501T235020Z
UID:1850-1688256000-1688342399@sfwbchurch.com
SUMMARY:Nursery Schedule
DESCRIPTION:AM- Alexis W. \nPM- Stephanie H.
URL:https://sfwbchurch.com/event/nursery-schedule-53/
END:VEVENT
BEGIN:VEVENT
DTSTART;TZID=UTC:20230628T190000
DTEND;TZID=UTC:20230628T190000
DTSTAMP:20260424T101243
CREATED:20230409T205508Z
LAST-MODIFIED:20230409T205508Z
UID:1781-1687978800-1687978800@sfwbchurch.com
SUMMARY:Wednesday Night Worship Service
DESCRIPTION:6:45 Prayer Room 7:00pm Kingdom Seekers Youth Ministry 7:00pm Worship Service
URL:https://sfwbchurch.com/event/wednesday-night-worship-service-50/
END:VEVENT
BEGIN:VEVENT
DTSTART;TZID=UTC:20230626T080000
DTEND;TZID=UTC:20230630T170000
DTSTAMP:20260424T101243
CREATED:20230409T210051Z
LAST-MODIFIED:20230409T210051Z
UID:1793-1687766400-1688144400@sfwbchurch.com
SUMMARY:Youth Camp
DESCRIPTION:
URL:https://sfwbchurch.com/event/youth-camp-3/
END:VEVENT
BEGIN:VEVENT
DTSTART;VALUE=DATE:20230625
DTEND;VALUE=DATE:20230626
DTSTAMP:20260424T101243
CREATED:20230409T210439Z
LAST-MODIFIED:20230409T210439Z
UID:1805-1687651200-1687737599@sfwbchurch.com
SUMMARY:Nursery Schedule
DESCRIPTION:AM- Ann \nPM- Kayla
URL:https://sfwbchurch.com/event/nursery-schedule-52/
END:VEVENT
BEGIN:VEVENT
DTSTART;TZID=UTC:20230621T190000
DTEND;TZID=UTC:20230621T190000
DTSTAMP:20260424T101243
CREATED:20230409T205430Z
LAST-MODIFIED:20230409T205430Z
UID:1778-1687374000-1687374000@sfwbchurch.com
SUMMARY:Wednesday Night Worship Service
DESCRIPTION:6:45 Prayer Room 7:00pm Kingdom Seekers Youth Ministry 7:00pm Worship Service
URL:https://sfwbchurch.com/event/wednesday-night-worship-service-49/
END:VEVENT
BEGIN:VEVENT
DTSTART;VALUE=DATE:20230618
DTEND;VALUE=DATE:20230619
DTSTAMP:20260424T101243
CREATED:20230409T210407Z
LAST-MODIFIED:20230409T210407Z
UID:1802-1687046400-1687132799@sfwbchurch.com
SUMMARY:Nursery Schedule
DESCRIPTION:AM- Elizabeth W. \nPM- Kayla
URL:https://sfwbchurch.com/event/nursery-schedule-51/
END:VEVENT
BEGIN:VEVENT
DTSTART;TZID=UTC:20230617T110000
DTEND;TZID=UTC:20230617T130000
DTSTAMP:20260424T101243
CREATED:20230409T205803Z
LAST-MODIFIED:20230409T205803Z
UID:1787-1686999600-1687006800@sfwbchurch.com
SUMMARY:Homeless Ministry
DESCRIPTION:
URL:https://sfwbchurch.com/event/homeless-ministry-12/
END:VEVENT
BEGIN:VEVENT
DTSTART;TZID=UTC:20230617T090000
DTEND;TZID=UTC:20230617T140000
DTSTAMP:20260424T101243
CREATED:20230409T205653Z
LAST-MODIFIED:20230409T205653Z
UID:1784-1686992400-1687010400@sfwbchurch.com
SUMMARY:Car Show
DESCRIPTION:
URL:https://sfwbchurch.com/event/car-show-2/
END:VEVENT
BEGIN:VEVENT
DTSTART;TZID=UTC:20230614T190000
DTEND;TZID=UTC:20230614T190000
DTSTAMP:20260424T101243
CREATED:20230409T205247Z
LAST-MODIFIED:20230409T205247Z
UID:1772-1686769200-1686769200@sfwbchurch.com
SUMMARY:Wednesday Night Worship Service
DESCRIPTION:6:45 Prayer Room 7:00pm Kingdom Seekers Youth Ministry 7:00pm Worship Service
URL:https://sfwbchurch.com/event/wednesday-night-worship-service-47/
END:VEVENT
BEGIN:VEVENT
DTSTART;VALUE=DATE:20230612
DTEND;VALUE=DATE:20230617
DTSTAMP:20260424T101243
CREATED:20230409T205916Z
LAST-MODIFIED:20230409T205916Z
UID:1790-1686528000-1686959999@sfwbchurch.com
SUMMARY:Vacation Bible School
DESCRIPTION:
URL:https://sfwbchurch.com/event/vacation-bible-school-3/
END:VEVENT
BEGIN:VEVENT
DTSTART;VALUE=DATE:20230611
DTEND;VALUE=DATE:20230612
DTSTAMP:20260424T101243
CREATED:20230409T210244Z
LAST-MODIFIED:20230409T210244Z
UID:1799-1686441600-1686527999@sfwbchurch.com
SUMMARY:Nursery Schedule
DESCRIPTION:AM- Mandi \nPM- Kim B.
URL:https://sfwbchurch.com/event/nursery-schedule-50/
END:VEVENT
BEGIN:VEVENT
DTSTART;TZID=UTC:20230607T190000
DTEND;TZID=UTC:20230607T190000
DTSTAMP:20260424T101243
CREATED:20230409T205351Z
LAST-MODIFIED:20230409T205351Z
UID:1775-1686164400-1686164400@sfwbchurch.com
SUMMARY:Wednesday Night Worship Service
DESCRIPTION:6:45 Prayer Room 7:00pm Kingdom Seekers Youth Ministry 7:00pm Worship Service
URL:https://sfwbchurch.com/event/wednesday-night-worship-service-48/
END:VEVENT
END:VCALENDAR