BEGIN:VCALENDAR
VERSION:2.0
PRODID:-//Springwood Free Will Baptist Church - ECPv6.15.20//NONSGML v1.0//EN
CALSCALE:GREGORIAN
METHOD:PUBLISH
X-ORIGINAL-URL:https://sfwbchurch.com
X-WR-CALDESC:Events for Springwood Free Will Baptist Church
REFRESH-INTERVAL;VALUE=DURATION:PT1H
X-Robots-Tag:noindex
X-PUBLISHED-TTL:PT1H
BEGIN:VTIMEZONE
TZID:UTC
BEGIN:STANDARD
TZOFFSETFROM:+0000
TZOFFSETTO:+0000
TZNAME:UTC
DTSTART:20220101T000000
END:STANDARD
END:VTIMEZONE
BEGIN:VEVENT
DTSTART;TZID=UTC:20231018T183000
DTEND;TZID=UTC:20231018T183000
DTSTAMP:20260424T054719
CREATED:20230809T000959Z
LAST-MODIFIED:20230809T000959Z
UID:1983-1697653800-1697653800@sfwbchurch.com
SUMMARY:Wednesday Night Worship Service & Youth Ministry
DESCRIPTION:6:15pm Prayer Room\, 6:30 pm Worship Service and Kingdom Seekers. \n0-PK(I)- Caroline \nK-5th(P)- Elizabeth \n6-12th(A)- Levi \nKitchen Help- Doris
URL:https://sfwbchurch.com/event/wednesday-night-worship-service-youth-ministry-11/
END:VEVENT
BEGIN:VEVENT
DTSTART;VALUE=DATE:20231015
DTEND;VALUE=DATE:20231016
DTSTAMP:20260424T054719
CREATED:20230809T002255Z
LAST-MODIFIED:20230809T002255Z
UID:2013-1697328000-1697414399@sfwbchurch.com
SUMMARY:Nursery Schedule
DESCRIPTION:AM- Elizabeth \nPM- Kayla
URL:https://sfwbchurch.com/event/nursery-schedule-66/
END:VEVENT
BEGIN:VEVENT
DTSTART;VALUE=DATE:20231015
DTEND;VALUE=DATE:20231016
DTSTAMP:20260424T054719
CREATED:20230809T002223Z
LAST-MODIFIED:20230809T002223Z
UID:2010-1697328000-1697414399@sfwbchurch.com
SUMMARY:Homecoming Service
DESCRIPTION:
URL:https://sfwbchurch.com/event/homecoming-service/
END:VEVENT
BEGIN:VEVENT
DTSTART;TZID=UTC:20231014T160000
DTEND;TZID=UTC:20231014T180000
DTSTAMP:20260424T054719
CREATED:20230809T001543Z
LAST-MODIFIED:20230809T001543Z
UID:1989-1697299200-1697306400@sfwbchurch.com
SUMMARY:Youth Association Meeting @ Harriet Memorial FWB
DESCRIPTION:
URL:https://sfwbchurch.com/event/youth-association-meeting-harriet-memorial-fwb/
END:VEVENT
BEGIN:VEVENT
DTSTART;TZID=UTC:20231014T080000
DTEND;TZID=UTC:20231014T080000
DTSTAMP:20260424T054719
CREATED:20230809T001642Z
LAST-MODIFIED:20230809T001642Z
UID:1992-1697270400-1697270400@sfwbchurch.com
SUMMARY:Service Work Day
DESCRIPTION:
URL:https://sfwbchurch.com/event/service-work-day/
END:VEVENT
BEGIN:VEVENT
DTSTART;TZID=UTC:20231011T183000
DTEND;TZID=UTC:20231011T183000
DTSTAMP:20260424T054719
CREATED:20230809T000804Z
LAST-MODIFIED:20230809T000804Z
UID:1980-1697049000-1697049000@sfwbchurch.com
SUMMARY:Wednesday Night Worship Service & Youth Ministry
DESCRIPTION:6:15pm Prayer Room\, 6:30pm Worship Service and Kingdom Seekers \n0-Pk(I)- Jody \nK-5th(P)- Stephanie \n6-12(A)- Mike \nKitchen Help- Cindy
URL:https://sfwbchurch.com/event/wednesday-night-worship-service-youth-ministry-10/
END:VEVENT
BEGIN:VEVENT
DTSTART;TZID=UTC:20231008T160000
DTEND;TZID=UTC:20231008T173000
DTSTAMP:20260424T054719
CREATED:20230809T002132Z
LAST-MODIFIED:20230809T002132Z
UID:2007-1696780800-1696786200@sfwbchurch.com
SUMMARY:Adult Choir Practice
DESCRIPTION:
URL:https://sfwbchurch.com/event/adult-choir-practice-9/
END:VEVENT
BEGIN:VEVENT
DTSTART;VALUE=DATE:20231008
DTEND;VALUE=DATE:20231009
DTSTAMP:20260424T054719
CREATED:20230809T002101Z
LAST-MODIFIED:20230809T002101Z
UID:2004-1696723200-1696809599@sfwbchurch.com
SUMMARY:Nursery Schedule
DESCRIPTION:AM- Mandi \nPM- Kim B.
URL:https://sfwbchurch.com/event/nursery-schedule-65/
END:VEVENT
BEGIN:VEVENT
DTSTART;TZID=UTC:20231004T183000
DTEND;TZID=UTC:20231004T183000
DTSTAMP:20260424T054719
CREATED:20230809T000355Z
LAST-MODIFIED:20230809T000427Z
UID:1977-1696444200-1696444200@sfwbchurch.com
SUMMARY:Wednesday Night Worship Service & Youth Ministry
DESCRIPTION:6:15pm Prayer Room\, 6:30pm Worship Service and Kingdom Seekers Youth Ministry. \n0-PK(I): Joni \nk-5th(P): Kelly T. \n6-12th(A): Levi \nKitchen Help: Debbie Dills \n  \n 
URL:https://sfwbchurch.com/event/wednesday-night-worship-service-youth-ministry-9/
END:VEVENT
BEGIN:VEVENT
DTSTART;VALUE=DATE:20230930
DTEND;VALUE=DATE:20231001
DTSTAMP:20260424T054719
CREATED:20230712T171653Z
LAST-MODIFIED:20230712T171653Z
UID:1945-1696032000-1696118399@sfwbchurch.com
SUMMARY:Creeper Trail
DESCRIPTION:
URL:https://sfwbchurch.com/event/creeper-trail/
END:VEVENT
BEGIN:VEVENT
DTSTART;TZID=UTC:20230927T183000
DTEND;TZID=UTC:20230927T183000
DTSTAMP:20260424T054719
CREATED:20230712T171404Z
LAST-MODIFIED:20230712T171404Z
UID:1936-1695839400-1695839400@sfwbchurch.com
SUMMARY:Wednesday Night Worship Service & Youth Ministry
DESCRIPTION:6:15pm- Prayer Room\, 6:30pmp Worship Service & Kingdom Seekers \nKingdom Seekers Teachers: \n0-PK (I) Ann\nK-5th (P) Lexi\n6-12th(A) Jamie\nKitchen Help- Lou
URL:https://sfwbchurch.com/event/wednesday-night-worship-service-youth-ministry-8/
END:VEVENT
BEGIN:VEVENT
DTSTART;TZID=UTC:20230924T160000
DTEND;TZID=UTC:20230924T173000
DTSTAMP:20260424T054719
CREATED:20230712T172217Z
LAST-MODIFIED:20230712T172217Z
UID:1966-1695571200-1695576600@sfwbchurch.com
SUMMARY:Youth Choir Practice
DESCRIPTION:
URL:https://sfwbchurch.com/event/youth-choir-practice-16/
END:VEVENT
BEGIN:VEVENT
DTSTART;VALUE=DATE:20230924
DTEND;VALUE=DATE:20230925
DTSTAMP:20260424T054719
CREATED:20230712T172144Z
LAST-MODIFIED:20230712T172144Z
UID:1963-1695513600-1695599999@sfwbchurch.com
SUMMARY:Nursery Schedule
DESCRIPTION:AM- Beth \nPM-Ann
URL:https://sfwbchurch.com/event/nursery-schedule-64/
END:VEVENT
BEGIN:VEVENT
DTSTART;TZID=UTC:20230920T183000
DTEND;TZID=UTC:20230920T183000
DTSTAMP:20260424T054719
CREATED:20230712T171204Z
LAST-MODIFIED:20230808T235856Z
UID:1933-1695234600-1695234600@sfwbchurch.com
SUMMARY:Wednesday Night Worship Service & Youth Ministry
DESCRIPTION:6:15pm- Prayer Room\, 6:30pm- Worship Service & Kingdom Seekers \nKingdom Seekers Teachers \n0-PK (I) Caroline\nK-5th (P) Elizabeth\n6-12th(A) Levi\nKitchen Help- Doris
URL:https://sfwbchurch.com/event/wednesday-night-worship-service-youth-ministry-7/
END:VEVENT
BEGIN:VEVENT
DTSTART;VALUE=DATE:20230917
DTEND;VALUE=DATE:20230918
DTSTAMP:20260424T054719
CREATED:20230712T172110Z
LAST-MODIFIED:20230712T172110Z
UID:1960-1694908800-1694995199@sfwbchurch.com
SUMMARY:Nursery Schedule
DESCRIPTION:AM- Kayla \nPM- Elizabeth
URL:https://sfwbchurch.com/event/nursery-schedule-63/
END:VEVENT
BEGIN:VEVENT
DTSTART;TZID=UTC:20230916T110000
DTEND;TZID=UTC:20230916T130000
DTSTAMP:20260424T054719
CREATED:20230712T171600Z
LAST-MODIFIED:20230712T171600Z
UID:1942-1694862000-1694869200@sfwbchurch.com
SUMMARY:Homeless Ministry
DESCRIPTION:
URL:https://sfwbchurch.com/event/homeless-ministry-15/
LOCATION:City Set on A Hill Ministry\, 1299 W Franklin Blvd\, Gastonia\, NC\, 28052\, United States
END:VEVENT
BEGIN:VEVENT
DTSTART;VALUE=DATE:20230916
DTEND;VALUE=DATE:20230917
DTSTAMP:20260424T054719
CREATED:20230712T171524Z
LAST-MODIFIED:20230712T171524Z
UID:1939-1694822400-1694908799@sfwbchurch.com
SUMMARY:Mission day at Equip in Hickory
DESCRIPTION:
URL:https://sfwbchurch.com/event/mission-day-at-equip-in-hickory/
END:VEVENT
BEGIN:VEVENT
DTSTART;TZID=UTC:20230913T183000
DTEND;TZID=UTC:20230913T183000
DTSTAMP:20260424T054719
CREATED:20230712T170928Z
LAST-MODIFIED:20230808T235823Z
UID:1930-1694629800-1694629800@sfwbchurch.com
SUMMARY:Wednesday Night Worship Service & Youth Ministry
DESCRIPTION:6:15pm- Prayer Room\, 6:30pm- Worship service & Kingdom Seekers \nKingdom Seekers Teachers \n0-PK (I) Jody\nK-5th (P) Stephanie\n6-12th(A) Mike\nKitchen Help- Cindy G.
URL:https://sfwbchurch.com/event/wednesday-night-worship-service-youth-ministry-6/
END:VEVENT
BEGIN:VEVENT
DTSTART;TZID=UTC:20230910T160000
DTEND;TZID=UTC:20230910T173000
DTSTAMP:20260424T054719
CREATED:20230712T172032Z
LAST-MODIFIED:20230712T172032Z
UID:1957-1694361600-1694367000@sfwbchurch.com
SUMMARY:Adult Choir Practice
DESCRIPTION:
URL:https://sfwbchurch.com/event/adult-choir-practice-8/
END:VEVENT
BEGIN:VEVENT
DTSTART;VALUE=DATE:20230910
DTEND;VALUE=DATE:20230911
DTSTAMP:20260424T054719
CREATED:20230712T171946Z
LAST-MODIFIED:20230712T171946Z
UID:1954-1694304000-1694390399@sfwbchurch.com
SUMMARY:Pastor Appreciation
DESCRIPTION:
URL:https://sfwbchurch.com/event/pastor-appreciation-2/
END:VEVENT
BEGIN:VEVENT
DTSTART;VALUE=DATE:20230910
DTEND;VALUE=DATE:20230911
DTSTAMP:20260424T054719
CREATED:20230712T171839Z
LAST-MODIFIED:20230712T171839Z
UID:1951-1694304000-1694390399@sfwbchurch.com
SUMMARY:Nursery Schedule
DESCRIPTION:AM- Kim B. \nPM- Mandi
URL:https://sfwbchurch.com/event/nursery-schedule-62/
END:VEVENT
BEGIN:VEVENT
DTSTART;TZID=UTC:20230906T183000
DTEND;TZID=UTC:20230906T183000
DTSTAMP:20260424T054719
CREATED:20230712T170654Z
LAST-MODIFIED:20230712T170654Z
UID:1927-1694025000-1694025000@sfwbchurch.com
SUMMARY:Wednesday Night Worship Service & Youth Ministry
DESCRIPTION:6:15 pm- Prayer Room\, 6:30 pm- Worship Service & Kingdom Seekers \nKingdom Seekers Teachers: \n0-PK (I) Joni\nK-5th (P) Kelly\n6-12th(A) Levi\nKitchen Help- Debbie Dills
URL:https://sfwbchurch.com/event/wednesday-night-worship-service-youth-ministry-5/
END:VEVENT
BEGIN:VEVENT
DTSTART;VALUE=DATE:20230903
DTEND;VALUE=DATE:20230904
DTSTAMP:20260424T054719
CREATED:20230712T171756Z
LAST-MODIFIED:20230712T171756Z
UID:1948-1693699200-1693785599@sfwbchurch.com
SUMMARY:Nursery Schedule
DESCRIPTION:AM- Alexis W. \nPM- Stephanie
URL:https://sfwbchurch.com/event/nursery-schedule-61/
END:VEVENT
BEGIN:VEVENT
DTSTART;TZID=UTC:20230830T183000
DTEND;TZID=UTC:20230830T183000
DTSTAMP:20260424T054719
CREATED:20230712T160405Z
LAST-MODIFIED:20230712T160405Z
UID:1892-1693420200-1693420200@sfwbchurch.com
SUMMARY:Wednesday Night Worship Service & Youth Ministry
DESCRIPTION:6:15pm- Prayer Room\, 6:30pm- Worship Service & Kingdom Seekers \n0-PK (I) Ann\nK-5th (P) Lexi\n6-12th(A) Jamie\nKitchen Help- Lou
URL:https://sfwbchurch.com/event/wednesday-night-worship-service-youth-ministry-4/
END:VEVENT
BEGIN:VEVENT
DTSTART;TZID=UTC:20230827T160000
DTEND;TZID=UTC:20230827T173000
DTSTAMP:20260424T054719
CREATED:20230712T162622Z
LAST-MODIFIED:20230712T163147Z
UID:1923-1693152000-1693157400@sfwbchurch.com
SUMMARY:Youth Choir Practice
DESCRIPTION:
URL:https://sfwbchurch.com/event/youth-choir-practice-15/
END:VEVENT
BEGIN:VEVENT
DTSTART;VALUE=DATE:20230827
DTEND;VALUE=DATE:20230828
DTSTAMP:20260424T054719
CREATED:20230712T162315Z
LAST-MODIFIED:20230712T162315Z
UID:1917-1693094400-1693180799@sfwbchurch.com
SUMMARY:Nursery Schedule
DESCRIPTION:AM- Ann \nPM-Beth
URL:https://sfwbchurch.com/event/nursery-schedule-60/
END:VEVENT
BEGIN:VEVENT
DTSTART;TZID=UTC:20230825T080000
DTEND;TZID=UTC:20230826T170000
DTSTAMP:20260424T054719
CREATED:20230712T161242Z
LAST-MODIFIED:20230712T161242Z
UID:1904-1692950400-1693069200@sfwbchurch.com
SUMMARY:Couples Retreat
DESCRIPTION:
URL:https://sfwbchurch.com/event/couples-retreat/
END:VEVENT
BEGIN:VEVENT
DTSTART;TZID=UTC:20230823T183000
DTEND;TZID=UTC:20230823T183000
DTSTAMP:20260424T054719
CREATED:20230712T160227Z
LAST-MODIFIED:20230808T235717Z
UID:1889-1692815400-1692815400@sfwbchurch.com
SUMMARY:Wednesday Night Worship Service & Youth Ministry
DESCRIPTION:6:15pm- Prayer Room\, 6:30pm- Worship Service & Kingdom Seekers \n0-PK (I) Caroline\nK-5th (P) Elizabeth\n6-12th(A) Levi\nKitchen Help- Doris
URL:https://sfwbchurch.com/event/wednesday-night-worship-service-youth-ministry-3/
END:VEVENT
BEGIN:VEVENT
DTSTART;VALUE=DATE:20230820
DTEND;VALUE=DATE:20230821
DTSTAMP:20260424T054719
CREATED:20230712T162234Z
LAST-MODIFIED:20230712T162234Z
UID:1915-1692489600-1692575999@sfwbchurch.com
SUMMARY:Nursery Schedule
DESCRIPTION:AM- Elizabeth \nPM- Kayla
URL:https://sfwbchurch.com/event/nursery-schedule-59/
END:VEVENT
BEGIN:VEVENT
DTSTART;TZID=UTC:20230819T110000
DTEND;TZID=UTC:20230819T130000
DTSTAMP:20260424T054719
CREATED:20230712T160950Z
LAST-MODIFIED:20230712T161136Z
UID:1901-1692442800-1692450000@sfwbchurch.com
SUMMARY:Homeless Ministry
DESCRIPTION:
URL:https://sfwbchurch.com/event/homeless-ministry-14/
LOCATION:City Set on A Hill Ministry\, 1299 W Franklin Blvd\, Gastonia\, NC\, 28052\, United States
END:VEVENT
END:VCALENDAR