BEGIN:VCALENDAR
VERSION:2.0
PRODID:-//Springwood Free Will Baptist Church - ECPv6.15.20//NONSGML v1.0//EN
CALSCALE:GREGORIAN
METHOD:PUBLISH
X-WR-CALNAME:Springwood Free Will Baptist Church
X-ORIGINAL-URL:https://sfwbchurch.com
X-WR-CALDESC:Events for Springwood Free Will Baptist Church
REFRESH-INTERVAL;VALUE=DURATION:PT1H
X-Robots-Tag:noindex
X-PUBLISHED-TTL:PT1H
BEGIN:VTIMEZONE
TZID:UTC
BEGIN:STANDARD
TZOFFSETFROM:+0000
TZOFFSETTO:+0000
TZNAME:UTC
DTSTART:20230101T000000
END:STANDARD
END:VTIMEZONE
BEGIN:VEVENT
DTSTART;VALUE=DATE:20240331
DTEND;VALUE=DATE:20240401
DTSTAMP:20260423T170125
CREATED:20240301T153824Z
LAST-MODIFIED:20240301T153824Z
UID:2381-1711843200-1711929599@sfwbchurch.com
SUMMARY:Youth Sunday
DESCRIPTION:
URL:https://sfwbchurch.com/event/youth-sunday-11/
END:VEVENT
BEGIN:VEVENT
DTSTART;TZID=UTC:20240327T183000
DTEND;TZID=UTC:20240327T200000
DTSTAMP:20260423T170125
CREATED:20240301T152647Z
LAST-MODIFIED:20240301T152709Z
UID:2348-1711564200-1711569600@sfwbchurch.com
SUMMARY:Wednesday Night Worship & Kingdom Seekers
DESCRIPTION:Kitchen – Lou\nBabies – Ann\nK-5th Grades – Lexi\n6th-12th Grades – Jamie
URL:https://sfwbchurch.com/event/wednesday-night-worship-kingdom-seekers-6/
END:VEVENT
BEGIN:VEVENT
DTSTART;TZID=UTC:20240326T190000
DTEND;TZID=UTC:20240326T203000
DTSTAMP:20260423T170125
CREATED:20240301T154047Z
LAST-MODIFIED:20240301T154047Z
UID:2393-1711479600-1711485000@sfwbchurch.com
SUMMARY:March Forward Revival @ Going Home
DESCRIPTION:
URL:https://sfwbchurch.com/event/march-forward-revival-going-home/
END:VEVENT
BEGIN:VEVENT
DTSTART;TZID=UTC:20240325T183000
DTEND;TZID=UTC:20240325T200000
DTSTAMP:20260423T170125
CREATED:20240301T152937Z
LAST-MODIFIED:20240301T152937Z
UID:2360-1711391400-1711396800@sfwbchurch.com
SUMMARY:Grief Share
DESCRIPTION:
URL:https://sfwbchurch.com/event/grief-share-11/
END:VEVENT
BEGIN:VEVENT
DTSTART;TZID=UTC:20240324T163000
DTEND;TZID=UTC:20240324T173000
DTSTAMP:20260423T170125
CREATED:20240301T153807Z
LAST-MODIFIED:20240301T153807Z
UID:2378-1711297800-1711301400@sfwbchurch.com
SUMMARY:Youth Choir Practice
DESCRIPTION:
URL:https://sfwbchurch.com/event/youth-choir-practice-21/
END:VEVENT
BEGIN:VEVENT
DTSTART;VALUE=DATE:20240324
DTEND;VALUE=DATE:20240325
DTSTAMP:20260423T170125
CREATED:20240301T153740Z
LAST-MODIFIED:20240301T153740Z
UID:2375-1711238400-1711324799@sfwbchurch.com
SUMMARY:Fellowship Meal to Celebrate New Converts and Preacher & Traci's Wedding Anniversary
DESCRIPTION:
URL:https://sfwbchurch.com/event/fellowship-meal-to-celebrate-new-converts-and-preacher-tracis-wedding-anniversary/
END:VEVENT
BEGIN:VEVENT
DTSTART;TZID=UTC:20240323T080000
DTEND;TZID=UTC:20240323T160000
DTSTAMP:20260423T170125
CREATED:20240301T154406Z
LAST-MODIFIED:20240301T154406Z
UID:2408-1711180800-1711209600@sfwbchurch.com
SUMMARY:Youth Workday/Lunch/Bowling
DESCRIPTION:
URL:https://sfwbchurch.com/event/youth-workday-lunch-bowling/
END:VEVENT
BEGIN:VEVENT
DTSTART;TZID=UTC:20240320T183000
DTEND;TZID=UTC:20240320T200000
DTSTAMP:20260423T170125
CREATED:20240301T152546Z
LAST-MODIFIED:20240301T152546Z
UID:2345-1710959400-1710964800@sfwbchurch.com
SUMMARY:Wednesday Night Worship & Kingdom Seekers
DESCRIPTION:Kitchen – Doris\nBabies – Caroline\nK-5th Grades – Kayla\n6th-12th Grades – Ronnie
URL:https://sfwbchurch.com/event/wednesday-night-worship-kingdom-seekers-5/
END:VEVENT
BEGIN:VEVENT
DTSTART;TZID=UTC:20240319T190000
DTEND;TZID=UTC:20240319T203000
DTSTAMP:20260423T170125
CREATED:20240301T154020Z
LAST-MODIFIED:20240301T154020Z
UID:2390-1710874800-1710880200@sfwbchurch.com
SUMMARY:March Forward Revival @ Robertson Creek
DESCRIPTION:
URL:https://sfwbchurch.com/event/march-forward-revival-robertson-creek/
END:VEVENT
BEGIN:VEVENT
DTSTART;TZID=UTC:20240318T183000
DTEND;TZID=UTC:20240318T200000
DTSTAMP:20260423T170125
CREATED:20240301T152914Z
LAST-MODIFIED:20240301T152914Z
UID:2357-1710786600-1710792000@sfwbchurch.com
SUMMARY:Grief Share
DESCRIPTION:
URL:https://sfwbchurch.com/event/grief-share-10/
END:VEVENT
BEGIN:VEVENT
DTSTART;TZID=UTC:20240317T150000
DTEND;TZID=UTC:20240317T170000
DTSTAMP:20260423T170125
CREATED:20240301T153509Z
LAST-MODIFIED:20240301T153509Z
UID:2372-1710687600-1710694800@sfwbchurch.com
SUMMARY:Wedding Shower - Emilie & Taylor
DESCRIPTION:
URL:https://sfwbchurch.com/event/wedding-shower-emilie-taylor/
END:VEVENT
BEGIN:VEVENT
DTSTART;TZID=UTC:20240316T110000
DTEND;TZID=UTC:20240316T140000
DTSTAMP:20260423T170125
CREATED:20240301T154331Z
LAST-MODIFIED:20240301T154331Z
UID:2405-1710586800-1710597600@sfwbchurch.com
SUMMARY:Homeless Ministry
DESCRIPTION:
URL:https://sfwbchurch.com/event/homeless-ministry-20/
END:VEVENT
BEGIN:VEVENT
DTSTART;TZID=UTC:20240313T183000
DTEND;TZID=UTC:20240313T200000
DTSTAMP:20260423T170125
CREATED:20240301T152430Z
LAST-MODIFIED:20240301T152430Z
UID:2342-1710354600-1710360000@sfwbchurch.com
SUMMARY:Wednesday Night Worship & Kingdom Seekers
DESCRIPTION:Kitchen – Renea\nBabies – McKenzie\nK-5th Grades – Stephanie\n6th-12th Grades – Levi
URL:https://sfwbchurch.com/event/wednesday-night-worship-kingdom-seekers-4/
END:VEVENT
BEGIN:VEVENT
DTSTART;TZID=UTC:20240312T190000
DTEND;TZID=UTC:20240312T203000
DTSTAMP:20260423T170125
CREATED:20240301T153942Z
LAST-MODIFIED:20240301T153942Z
UID:2387-1710270000-1710275400@sfwbchurch.com
SUMMARY:March Forward Revival @ Salem
DESCRIPTION:
URL:https://sfwbchurch.com/event/march-forward-revival-salem/
END:VEVENT
BEGIN:VEVENT
DTSTART;TZID=UTC:20240312T113000
DTEND;TZID=UTC:20240312T123000
DTSTAMP:20260423T170125
CREATED:20240301T154459Z
LAST-MODIFIED:20240301T154459Z
UID:2411-1710243000-1710246600@sfwbchurch.com
SUMMARY:Senior Ladies Lunch Bunch
DESCRIPTION:Captain’s Cap in Belmont
URL:https://sfwbchurch.com/event/senior-ladies-lunch-bunch-4/
END:VEVENT
BEGIN:VEVENT
DTSTART;TZID=UTC:20240311T183000
DTEND;TZID=UTC:20240311T200000
DTSTAMP:20260423T170125
CREATED:20240301T152841Z
LAST-MODIFIED:20240301T152841Z
UID:2354-1710181800-1710187200@sfwbchurch.com
SUMMARY:Grief Share
DESCRIPTION:
URL:https://sfwbchurch.com/event/grief-share-9/
END:VEVENT
BEGIN:VEVENT
DTSTART;TZID=UTC:20240310T163000
DTEND;TZID=UTC:20240310T173000
DTSTAMP:20260423T170125
CREATED:20240301T153121Z
LAST-MODIFIED:20240301T153121Z
UID:2369-1710088200-1710091800@sfwbchurch.com
SUMMARY:Adult Choir Practice
DESCRIPTION:
URL:https://sfwbchurch.com/event/adult-choir-practice-13/
END:VEVENT
BEGIN:VEVENT
DTSTART;TZID=UTC:20240310T160000
DTEND;TZID=UTC:20240310T173000
DTSTAMP:20260423T170125
CREATED:20240301T153054Z
LAST-MODIFIED:20240301T153054Z
UID:2366-1710086400-1710091800@sfwbchurch.com
SUMMARY:New Member Class
DESCRIPTION:
URL:https://sfwbchurch.com/event/new-member-class/
END:VEVENT
BEGIN:VEVENT
DTSTART;TZID=UTC:20240309T160000
DTEND;TZID=UTC:20240309T210000
DTSTAMP:20260423T170125
CREATED:20240301T154252Z
LAST-MODIFIED:20240301T154252Z
UID:2402-1710000000-1710018000@sfwbchurch.com
SUMMARY:Sanctuary & Fellowship Hall Reserved
DESCRIPTION:
URL:https://sfwbchurch.com/event/sanctuary-fellowship-hall-reserved/
END:VEVENT
BEGIN:VEVENT
DTSTART;TZID=UTC:20240309T100000
DTEND;TZID=UTC:20240309T130000
DTSTAMP:20260423T170125
CREATED:20240301T154150Z
LAST-MODIFIED:20240301T154150Z
UID:2396-1709978400-1709989200@sfwbchurch.com
SUMMARY:District Ladies Auxiliary Meeting @ Springwood
DESCRIPTION:
URL:https://sfwbchurch.com/event/district-ladies-auxiliary-meeting-springwood/
END:VEVENT
BEGIN:VEVENT
DTSTART;TZID=UTC:20240308T180000
DTEND;TZID=UTC:20240308T200000
DTSTAMP:20260423T170125
CREATED:20240301T154217Z
LAST-MODIFIED:20240301T154217Z
UID:2399-1709920800-1709928000@sfwbchurch.com
SUMMARY:Church Open for Table Decorating
DESCRIPTION:
URL:https://sfwbchurch.com/event/church-open-for-table-decorating/
END:VEVENT
BEGIN:VEVENT
DTSTART;TZID=UTC:20240306T183000
DTEND;TZID=UTC:20240306T200000
DTSTAMP:20260423T170125
CREATED:20240301T152312Z
LAST-MODIFIED:20240301T152312Z
UID:2339-1709749800-1709755200@sfwbchurch.com
SUMMARY:Wednesday Night Worship & Kingdom Seekers
DESCRIPTION:Kitchen – Debbie\nBabies – Joni\nK-5th Grades – Kelly\n6th-12th Grades – Levi
URL:https://sfwbchurch.com/event/wednesday-night-worship-kingdom-seekers-3/
END:VEVENT
BEGIN:VEVENT
DTSTART;TZID=UTC:20240305T190000
DTEND;TZID=UTC:20240305T203000
DTSTAMP:20260423T170125
CREATED:20240301T153902Z
LAST-MODIFIED:20240301T153902Z
UID:2384-1709665200-1709670600@sfwbchurch.com
SUMMARY:March Forward Revival @ Springwood
DESCRIPTION:
URL:https://sfwbchurch.com/event/march-forward-revival-springwood/
END:VEVENT
BEGIN:VEVENT
DTSTART;TZID=UTC:20240304T183000
DTEND;TZID=UTC:20240304T200000
DTSTAMP:20260423T170125
CREATED:20240301T152807Z
LAST-MODIFIED:20240301T152807Z
UID:2351-1709577000-1709582400@sfwbchurch.com
SUMMARY:Grief Share
DESCRIPTION:
URL:https://sfwbchurch.com/event/grief-share-8/
END:VEVENT
BEGIN:VEVENT
DTSTART;TZID=UTC:20240303T163000
DTEND;TZID=UTC:20240303T173000
DTSTAMP:20260423T170125
CREATED:20240301T153025Z
LAST-MODIFIED:20240301T153025Z
UID:2363-1709483400-1709487000@sfwbchurch.com
SUMMARY:Deacon/Advisory Board Meeting & Ladies Auxiliary
DESCRIPTION:
URL:https://sfwbchurch.com/event/deacon-advisory-board-meeting-ladies-auxiliary/
END:VEVENT
BEGIN:VEVENT
DTSTART;TZID=UTC:20240228T183000
DTEND;TZID=UTC:20240228T200000
DTSTAMP:20260423T170125
CREATED:20240124T174643Z
LAST-MODIFIED:20240124T174643Z
UID:2325-1709145000-1709150400@sfwbchurch.com
SUMMARY:WORSHIP & KINGDOM SEEKERS
DESCRIPTION:KITCHEN – LOU \nBABIES – ANN \nK-5TH GRADES – LEXI \n6TH-12TH GRADES – JAMIE
URL:https://sfwbchurch.com/event/worship-kingdom-seekers-2/
END:VEVENT
BEGIN:VEVENT
DTSTART;TZID=UTC:20240226T183000
DTEND;TZID=UTC:20240226T200000
DTSTAMP:20260423T170125
CREATED:20240124T171349Z
LAST-MODIFIED:20240124T171349Z
UID:2282-1708972200-1708977600@sfwbchurch.com
SUMMARY:GRIEF SHARE
DESCRIPTION:
URL:https://sfwbchurch.com/event/grief-share-7/
END:VEVENT
BEGIN:VEVENT
DTSTART;TZID=UTC:20240225T163000
DTEND;TZID=UTC:20240225T173000
DTSTAMP:20260423T170125
CREATED:20240124T171928Z
LAST-MODIFIED:20240124T171928Z
UID:2306-1708878600-1708882200@sfwbchurch.com
SUMMARY:YOUTH CHOIR PRACTICE
DESCRIPTION:
URL:https://sfwbchurch.com/event/youth-choir-practice-19/
END:VEVENT
BEGIN:VEVENT
DTSTART;VALUE=DATE:20240225
DTEND;VALUE=DATE:20240226
DTSTAMP:20260423T170125
CREATED:20240124T171900Z
LAST-MODIFIED:20240124T171900Z
UID:2303-1708819200-1708905599@sfwbchurch.com
SUMMARY:FRIENDS & FAMILY SUNDAY
DESCRIPTION:
URL:https://sfwbchurch.com/event/friends-family-sunday/
END:VEVENT
BEGIN:VEVENT
DTSTART;TZID=UTC:20240224T160000
DTEND;TZID=UTC:20240224T190000
DTSTAMP:20260423T170125
CREATED:20240124T171639Z
LAST-MODIFIED:20240124T171639Z
UID:2294-1708790400-1708801200@sfwbchurch.com
SUMMARY:MARRIAGE WORKSHOP
DESCRIPTION:
URL:https://sfwbchurch.com/event/marriage-workshop/
END:VEVENT
END:VCALENDAR